| Back to Multiple platform build/check report for BioC 3.8 |
|
This page was generated on 2019-04-13 11:29:31 -0400 (Sat, 13 Apr 2019).
| Package 12/1649 | Hostname | OS / Arch | INSTALL | BUILD | CHECK | BUILD BIN | ||||||
| ACE 1.0.0 Jos B Poell
| malbec1 | Linux (Ubuntu 16.04.6 LTS) / x86_64 | OK | OK | OK | |||||||
| tokay1 | Windows Server 2012 R2 Standard / x64 | [ OK ] | OK | OK | OK | |||||||
| merida1 | OS X 10.11.6 El Capitan / x86_64 | OK | OK | OK | OK |
| Package: ACE |
| Version: 1.0.0 |
| Command: C:\cygwin\bin\curl.exe -O https://malbec1.bioconductor.org/BBS/3.8/bioc/src/contrib/ACE_1.0.0.tar.gz && rm -rf ACE.buildbin-libdir && mkdir ACE.buildbin-libdir && C:\Users\biocbuild\bbs-3.8-bioc\R\bin\R.exe CMD INSTALL --merge-multiarch --build --library=ACE.buildbin-libdir ACE_1.0.0.tar.gz && C:\Users\biocbuild\bbs-3.8-bioc\R\bin\R.exe CMD INSTALL ACE_1.0.0.zip && rm ACE_1.0.0.tar.gz ACE_1.0.0.zip |
| StartedAt: 2019-04-12 19:41:33 -0400 (Fri, 12 Apr 2019) |
| EndedAt: 2019-04-12 19:42:04 -0400 (Fri, 12 Apr 2019) |
| EllapsedTime: 31.3 seconds |
| RetCode: 0 |
| Status: OK |
##############################################################################
##############################################################################
###
### Running command:
###
### C:\cygwin\bin\curl.exe -O https://malbec1.bioconductor.org/BBS/3.8/bioc/src/contrib/ACE_1.0.0.tar.gz && rm -rf ACE.buildbin-libdir && mkdir ACE.buildbin-libdir && C:\Users\biocbuild\bbs-3.8-bioc\R\bin\R.exe CMD INSTALL --merge-multiarch --build --library=ACE.buildbin-libdir ACE_1.0.0.tar.gz && C:\Users\biocbuild\bbs-3.8-bioc\R\bin\R.exe CMD INSTALL ACE_1.0.0.zip && rm ACE_1.0.0.tar.gz ACE_1.0.0.zip
###
##############################################################################
##############################################################################
% Total % Received % Xferd Average Speed Time Time Time Current
Dload Upload Total Spent Left Speed
0 0 0 0 0 0 0 0 --:--:-- --:--:-- --:--:-- 0
100 160k 100 160k 0 0 3794k 0 --:--:-- --:--:-- --:--:-- 4114k
install for i386
* installing *source* package 'ACE' ...
** R
** data
*** moving datasets to lazyload DB
** byte-compile and prepare package for lazy loading
** help
*** installing help indices
converting help for package 'ACE'
finding HTML links ... done
ACE-package html
ACEcall html
analyzegenomiclocations html
compresstemplate html
copyNumbersSegmented html
correlationmatrix html
getadjustedsegments html
linkvariants html
loopsquaremodel html
objectsampletotemplate html
postanalysisloop html
runACE html
segmentstotemplate html
singlemodel html
singleplot html
squaremodel html
squaremodelsummary html
templatefromequalsegments html
twosamplecompare html
** building package indices
** installing vignettes
** testing if installed package can be loaded
In R CMD INSTALL
install for x64
* installing *source* package 'ACE' ...
** testing if installed package can be loaded
* MD5 sums
packaged installation of 'ACE' as ACE_1.0.0.zip
* DONE (ACE)
In R CMD INSTALL
In R CMD INSTALL
* installing to library 'C:/Users/biocbuild/bbs-3.8-bioc/R/library'
package 'ACE' successfully unpacked and MD5 sums checked
In R CMD INSTALL