| Back to Multiple platform build/check report for BioC 3.8 |
|
This page was generated on 2019-04-13 11:25:47 -0400 (Sat, 13 Apr 2019).
| Package 7/1649 | Hostname | OS / Arch | INSTALL | BUILD | CHECK | BUILD BIN | ||||||
| ABAEnrichment 1.12.0 Steffi Grote
| malbec1 | Linux (Ubuntu 16.04.6 LTS) / x86_64 | OK | OK | OK | |||||||
| tokay1 | Windows Server 2012 R2 Standard / x64 | [ OK ] | OK | OK | OK | |||||||
| merida1 | OS X 10.11.6 El Capitan / x86_64 | OK | OK | OK | OK |
| Package: ABAEnrichment |
| Version: 1.12.0 |
| Command: C:\cygwin\bin\curl.exe -O https://malbec1.bioconductor.org/BBS/3.8/bioc/src/contrib/ABAEnrichment_1.12.0.tar.gz && rm -rf ABAEnrichment.buildbin-libdir && mkdir ABAEnrichment.buildbin-libdir && C:\Users\biocbuild\bbs-3.8-bioc\R\bin\R.exe CMD INSTALL --merge-multiarch --build --library=ABAEnrichment.buildbin-libdir ABAEnrichment_1.12.0.tar.gz && C:\Users\biocbuild\bbs-3.8-bioc\R\bin\R.exe CMD INSTALL ABAEnrichment_1.12.0.zip && rm ABAEnrichment_1.12.0.tar.gz ABAEnrichment_1.12.0.zip |
| StartedAt: 2019-04-12 20:11:10 -0400 (Fri, 12 Apr 2019) |
| EndedAt: 2019-04-12 20:11:54 -0400 (Fri, 12 Apr 2019) |
| EllapsedTime: 44.3 seconds |
| RetCode: 0 |
| Status: OK |
##############################################################################
##############################################################################
###
### Running command:
###
### C:\cygwin\bin\curl.exe -O https://malbec1.bioconductor.org/BBS/3.8/bioc/src/contrib/ABAEnrichment_1.12.0.tar.gz && rm -rf ABAEnrichment.buildbin-libdir && mkdir ABAEnrichment.buildbin-libdir && C:\Users\biocbuild\bbs-3.8-bioc\R\bin\R.exe CMD INSTALL --merge-multiarch --build --library=ABAEnrichment.buildbin-libdir ABAEnrichment_1.12.0.tar.gz && C:\Users\biocbuild\bbs-3.8-bioc\R\bin\R.exe CMD INSTALL ABAEnrichment_1.12.0.zip && rm ABAEnrichment_1.12.0.tar.gz ABAEnrichment_1.12.0.zip
###
##############################################################################
##############################################################################
% Total % Received % Xferd Average Speed Time Time Time Current
Dload Upload Total Spent Left Speed
0 0 0 0 0 0 0 0 --:--:-- --:--:-- --:--:-- 0
100 2605k 100 2605k 0 0 37.2M 0 --:--:-- --:--:-- --:--:-- 39.1M
install for i386
* installing *source* package 'ABAEnrichment' ...
** libs
C:/Rtools/mingw_32/bin/g++ -I"C:/Users/BIOCBU˜1/BBS-3˜1.8-B/R/include" -DNDEBUG -I"C:/Users/biocbuild/bbs-3.8-bioc/R/library/Rcpp/include" -I"C:/extsoft/include" -O2 -Wall -mtune=generic -c RcppExports.cpp -o RcppExports.o
C:/Rtools/mingw_32/bin/g++ -I"C:/Users/BIOCBU˜1/BBS-3˜1.8-B/R/include" -DNDEBUG -I"C:/Users/biocbuild/bbs-3.8-bioc/R/library/Rcpp/include" -I"C:/extsoft/include" -O2 -Wall -mtune=generic -c unlock_environment.cc -o unlock_environment.o
C:/Rtools/mingw_32/bin/g++ -shared -s -static-libgcc -o ABAEnrichment.dll tmp.def RcppExports.o unlock_environment.o -LC:/extsoft/lib/i386 -LC:/extsoft/lib -LC:/Users/BIOCBU˜1/BBS-3˜1.8-B/R/bin/i386 -lR
installing to C:/Users/biocbuild/bbs-3.8-bioc/meat/ABAEnrichment.buildbin-libdir/ABAEnrichment/libs/i386
** R
** inst
** byte-compile and prepare package for lazy loading
** help
*** installing help indices
converting help for package 'ABAEnrichment'
finding HTML links ... done
aba_enrich html
get_annotated_genes html
get_expression html
get_id html
get_name html
get_sampled_substructures html
get_superstructures html
plot_expression html
finding level-2 HTML links ... done
** building package indices
** installing vignettes
** testing if installed package can be loaded
In R CMD INSTALL
install for x64
* installing *source* package 'ABAEnrichment' ...
** libs
C:/Rtools/mingw_64/bin/g++ -I"C:/Users/BIOCBU˜1/BBS-3˜1.8-B/R/include" -DNDEBUG -I"C:/Users/biocbuild/bbs-3.8-bioc/R/library/Rcpp/include" -I"C:/extsoft/include" -O2 -Wall -mtune=generic -c RcppExports.cpp -o RcppExports.o
C:/Rtools/mingw_64/bin/g++ -I"C:/Users/BIOCBU˜1/BBS-3˜1.8-B/R/include" -DNDEBUG -I"C:/Users/biocbuild/bbs-3.8-bioc/R/library/Rcpp/include" -I"C:/extsoft/include" -O2 -Wall -mtune=generic -c unlock_environment.cc -o unlock_environment.o
C:/Rtools/mingw_64/bin/g++ -shared -s -static-libgcc -o ABAEnrichment.dll tmp.def RcppExports.o unlock_environment.o -LC:/extsoft/lib/x64 -LC:/extsoft/lib -LC:/Users/BIOCBU˜1/BBS-3˜1.8-B/R/bin/x64 -lR
installing to C:/Users/biocbuild/bbs-3.8-bioc/meat/ABAEnrichment.buildbin-libdir/ABAEnrichment/libs/x64
** testing if installed package can be loaded
* MD5 sums
packaged installation of 'ABAEnrichment' as ABAEnrichment_1.12.0.zip
* DONE (ABAEnrichment)
In R CMD INSTALL
In R CMD INSTALL
* installing to library 'C:/Users/biocbuild/bbs-3.8-bioc/R/library'
package 'ABAEnrichment' successfully unpacked and MD5 sums checked
In R CMD INSTALL