| Back to Workflows build report for BioC 3.7 |
This page was generated on 2018-10-15 12:45:19 -0400 (Mon, 15 Oct 2018).
| Package 21/21 | Hostname | OS / Arch | INSTALL | BUILD | ||||||
| variants 1.2.0 Bioconductor Package Maintainer
| malbec2 | Linux (Ubuntu 16.04.1 LTS) / x86_64 | OK | OK | ||||||
| tokay2 | Windows Server 2012 R2 Standard / x64 | [ OK ] | OK |
| Package: variants |
| Version: 1.2.0 |
| Command: C:\cygwin\bin\curl.exe -O https://malbec2.bioconductor.org/BBS/3.7/workflows/src/contrib/variants_1.2.0.tar.gz && rm -rf variants.buildbin-libdir && mkdir variants.buildbin-libdir && C:\Users\biocbuild\bbs-3.7-bioc\R\bin\R.exe CMD INSTALL --merge-multiarch --build --library=variants.buildbin-libdir variants_1.2.0.tar.gz && C:\Users\biocbuild\bbs-3.7-bioc\R\bin\R.exe CMD INSTALL variants_1.2.0.zip && rm variants_1.2.0.tar.gz variants_1.2.0.zip |
| StartedAt: 2018-10-15 07:55:22 -0400 (Mon, 15 Oct 2018) |
| EndedAt: 2018-10-15 07:56:13 -0400 (Mon, 15 Oct 2018) |
| EllapsedTime: 51.5 seconds |
| RetCode: 0 |
| Status: OK |
##############################################################################
##############################################################################
###
### Running command:
###
### C:\cygwin\bin\curl.exe -O https://malbec2.bioconductor.org/BBS/3.7/workflows/src/contrib/variants_1.2.0.tar.gz && rm -rf variants.buildbin-libdir && mkdir variants.buildbin-libdir && C:\Users\biocbuild\bbs-3.7-bioc\R\bin\R.exe CMD INSTALL --merge-multiarch --build --library=variants.buildbin-libdir variants_1.2.0.tar.gz && C:\Users\biocbuild\bbs-3.7-bioc\R\bin\R.exe CMD INSTALL variants_1.2.0.zip && rm variants_1.2.0.tar.gz variants_1.2.0.zip
###
##############################################################################
##############################################################################
% Total % Received % Xferd Average Speed Time Time Time Current
Dload Upload Total Spent Left Speed
0 0 0 0 0 0 0 0 --:--:-- --:--:-- --:--:-- 0
100 4092 100 4092 0 0 87771 0 --:--:-- --:--:-- --:--:-- 99k
install for i386
* installing *source* package 'variants' ...
** help
No man pages found in package 'variants'
*** installing help indices
** building package indices
** installing vignettes
** testing if installed package can be loaded
In R CMD INSTALL
install for x64
* installing *source* package 'variants' ...
** testing if installed package can be loaded
* MD5 sums
packaged installation of 'variants' as variants_1.2.0.zip
* DONE (variants)
In R CMD INSTALL
In R CMD INSTALL
* installing to library 'C:/Users/biocbuild/bbs-3.7-bioc/R/library'
package 'variants' successfully unpacked and MD5 sums checked
In R CMD INSTALL