| Back to Workflows build report for BioC 3.7 |
This page was generated on 2018-03-28 12:45:28 -0400 (Wed, 28 Mar 2018).
| Package 20/21 | Hostname | OS / Arch | INSTALL | BUILD | BUILD WEB VIG | ||||||
| testproj 0.0.99 Bioconductor Package Maintainer
| malbec2 | Linux (Ubuntu 16.04.1 LTS) / x86_64 | OK | [ OK ] | OK |
| Package: testproj |
| Version: 0.0.99 |
| Command: /home/biocbuild/bbs-3.7-bioc/R/bin/R CMD build --keep-empty-dirs --no-resave-data testproj |
| StartedAt: 2018-03-28 08:04:15 -0400 (Wed, 28 Mar 2018) |
| EndedAt: 2018-03-28 08:04:21 -0400 (Wed, 28 Mar 2018) |
| EllapsedTime: 6.0 seconds |
| RetCode: 0 |
| Status: OK |
| PackageFile: testproj_0.0.99.tar.gz |
| PackageFileSize: 247.9 KiB |
############################################################################## ############################################################################## ### ### Running command: ### ### /home/biocbuild/bbs-3.7-bioc/R/bin/R CMD build --keep-empty-dirs --no-resave-data testproj ### ############################################################################## ############################################################################## * checking for file ‘testproj/DESCRIPTION’ ... OK * preparing ‘testproj’: * checking DESCRIPTION meta-information ... OK * installing the package to build vignettes * creating vignettes ... OK * checking for LF line-endings in source and make files and shell scripts * checking for empty or unneeded directories * building ‘testproj_0.0.99.tar.gz’