| Back to Workflows build report for BioC 3.7 |
This page was generated on 2018-05-18 12:48:05 -0400 (Fri, 18 May 2018).
| Package 11/21 | Hostname | OS / Arch | INSTALL | BUILD | BUILD WEB VIG | ||||||
| liftOver 1.2.0 Bioconductor Package Maintainer
| malbec2 | Linux (Ubuntu 16.04.1 LTS) / x86_64 | OK | OK | [ OK ] |
| Package: liftOver |
| Version: 1.2.0 |
| Command: /home/biocbuild/bbs-3.7-bioc/R/bin/R -q -e 'rmarkdown::render(".buildwebvig/liftOver/liftov.Rmd", output_format="BiocStyle:::html_fragment")' && /home/biocbuild/bbs-3.7-bioc/R/bin/R -q -e 'knitr::purl(".buildwebvig/liftOver/liftov.Rmd", ".buildwebvig/liftOver/liftov.R")' |
| StartedAt: 2018-05-18 08:43:09 -0400 (Fri, 18 May 2018) |
| EndedAt: 2018-05-18 08:43:49 -0400 (Fri, 18 May 2018) |
| EllapsedTime: 40.0 seconds |
| RetCode: 0 |
| Status: OK |
##############################################################################
##############################################################################
###
### Running command:
###
### /home/biocbuild/bbs-3.7-bioc/R/bin/R -q -e 'rmarkdown::render(".buildwebvig/liftOver/liftov.Rmd", output_format="BiocStyle:::html_fragment")' && /home/biocbuild/bbs-3.7-bioc/R/bin/R -q -e 'knitr::purl(".buildwebvig/liftOver/liftov.Rmd", ".buildwebvig/liftOver/liftov.R")'
###
##############################################################################
##############################################################################
> rmarkdown::render(".buildwebvig/liftOver/liftov.Rmd", output_format="BiocStyle:::html_fragment")
processing file: liftov.Rmd
|
| | 0%
|
|.... | 6%
ordinary text without R code
|
|......... | 12%
label: unnamed-chunk-1 (with options)
List of 3
$ echo : logi FALSE
$ results: chr "hide"
$ warning: logi FALSE
|
|............. | 19%
inline R code fragments
|
|.................. | 25%
label: doit (with options)
List of 2
$ echo : logi FALSE
$ results: chr "hide"
|
|...................... | 31%
label: lkOne (with options)
List of 1
$ eval: logi FALSE
|
|.......................... | 38%
ordinary text without R code
|
|............................... | 44%
label: lkcur
|
|................................... | 50%
ordinary text without R code
|
|....................................... | 56%
label: getch
|
|............................................ | 62%
ordinary text without R code
|
|................................................ | 69%
label: dolift
|
|.................................................... | 75%
ordinary text without R code
|
|......................................................... | 81%
label: ul
|
|............................................................. | 88%
ordinary text without R code
|
|.................................................................. | 94%
label: lkloss
|
|......................................................................| 100%
ordinary text without R code
output file: liftov.knit.md
/usr/bin/pandoc +RTS -K512m -RTS liftov.utf8.md --to html4 --from markdown+autolink_bare_uris+ascii_identifiers+tex_math_single_backslash+smart --output liftov.html --email-obfuscation none --self-contained --wrap preserve --standalone --section-divs --table-of-contents --toc-depth 3 --template /home/biocbuild/bbs-3.7-bioc/R/library/BiocStyle/resources/fragment.html --no-highlight --number-sections --mathjax --variable 'mathjax-url:https://mathjax.rstudio.com/latest/MathJax.js?config=TeX-AMS-MML_HTMLorMML'
Output created: liftov.html
Warning message:
In .getClassesFromCache(Class) :
closing unused connection 5 (/home/biocbuild/bbs-3.7-bioc/R/library/liftOver/extdata/hg38ToHg19.over.chain)
>
>
> knitr::purl(".buildwebvig/liftOver/liftov.Rmd", ".buildwebvig/liftOver/liftov.R")
processing file: .buildwebvig/liftOver/liftov.Rmd
|
| | 0%
|
|.... | 6%
|
|........ | 12%
|
|............ | 19%
|
|................ | 25%
|
|.................... | 31%
|
|........................ | 38%
|
|............................ | 44%
|
|................................ | 50%
|
|..................................... | 56%
|
|......................................... | 62%
|
|............................................. | 69%
|
|................................................. | 75%
|
|..................................................... | 81%
|
|......................................................... | 88%
|
|............................................................. | 94%
|
|.................................................................| 100%
output file: .buildwebvig/liftOver/liftov.R
[1] ".buildwebvig/liftOver/liftov.R"
>
>