| Back to Workflows build report for BioC 3.7 |
This page was generated on 2018-10-15 12:45:18 -0400 (Mon, 15 Oct 2018).
| Package 7/21 | Hostname | OS / Arch | INSTALL | BUILD | ||||||
| eQTL 1.2.0 Vincent Carey
| malbec2 | Linux (Ubuntu 16.04.1 LTS) / x86_64 | OK | OK | ||||||
| tokay2 | Windows Server 2012 R2 Standard / x64 | [ OK ] | OK |
| Package: eQTL |
| Version: 1.2.0 |
| Command: C:\cygwin\bin\curl.exe -O https://malbec2.bioconductor.org/BBS/3.7/workflows/src/contrib/eQTL_1.2.0.tar.gz && rm -rf eQTL.buildbin-libdir && mkdir eQTL.buildbin-libdir && C:\Users\biocbuild\bbs-3.7-bioc\R\bin\R.exe CMD INSTALL --merge-multiarch --build --library=eQTL.buildbin-libdir eQTL_1.2.0.tar.gz && C:\Users\biocbuild\bbs-3.7-bioc\R\bin\R.exe CMD INSTALL eQTL_1.2.0.zip && rm eQTL_1.2.0.tar.gz eQTL_1.2.0.zip |
| StartedAt: 2018-10-15 07:55:22 -0400 (Mon, 15 Oct 2018) |
| EndedAt: 2018-10-15 07:58:48 -0400 (Mon, 15 Oct 2018) |
| EllapsedTime: 205.8 seconds |
| RetCode: 0 |
| Status: OK |
##############################################################################
##############################################################################
###
### Running command:
###
### C:\cygwin\bin\curl.exe -O https://malbec2.bioconductor.org/BBS/3.7/workflows/src/contrib/eQTL_1.2.0.tar.gz && rm -rf eQTL.buildbin-libdir && mkdir eQTL.buildbin-libdir && C:\Users\biocbuild\bbs-3.7-bioc\R\bin\R.exe CMD INSTALL --merge-multiarch --build --library=eQTL.buildbin-libdir eQTL_1.2.0.tar.gz && C:\Users\biocbuild\bbs-3.7-bioc\R\bin\R.exe CMD INSTALL eQTL_1.2.0.zip && rm eQTL_1.2.0.tar.gz eQTL_1.2.0.zip
###
##############################################################################
##############################################################################
% Total % Received % Xferd Average Speed Time Time Time Current
Dload Upload Total Spent Left Speed
0 0 0 0 0 0 0 0 --:--:-- --:--:-- --:--:-- 0
72 57.4M 72 41.7M 0 0 52.4M 0 0:00:01 --:--:-- 0:00:01 52.7M
100 57.4M 100 57.4M 0 0 53.2M 0 0:00:01 0:00:01 --:--:-- 53.5M
install for i386
* installing *source* package 'eQTL' ...
** data
*** moving datasets to lazyload DB
** help
No man pages found in package 'eQTL'
*** installing help indices
** building package indices
** installing vignettes
** testing if installed package can be loaded
In R CMD INSTALL
install for x64
* installing *source* package 'eQTL' ...
** testing if installed package can be loaded
* MD5 sums
packaged installation of 'eQTL' as eQTL_1.2.0.zip
* DONE (eQTL)
In R CMD INSTALL
In R CMD INSTALL
* installing to library 'C:/Users/biocbuild/bbs-3.7-bioc/R/library'
package 'eQTL' successfully unpacked and MD5 sums checked
In R CMD INSTALL