| Back to Workflows build report for BioC 3.7 |
This page was generated on 2018-05-18 12:48:02 -0400 (Fri, 18 May 2018).
| Package 2/21 | Hostname | OS / Arch | INSTALL | BUILD | BUILD WEB VIG | ||||||
| arrays 1.4.0 Bioconductor Package Maintainer
| malbec2 | Linux (Ubuntu 16.04.1 LTS) / x86_64 | OK | OK | [ OK ] |
| Package: arrays |
| Version: 1.4.0 |
| Command: /home/biocbuild/bbs-3.7-bioc/R/bin/R -q -e 'rmarkdown::render(".buildwebvig/arrays/arrays.Rmd", output_format="BiocStyle:::html_fragment")' && /home/biocbuild/bbs-3.7-bioc/R/bin/R -q -e 'knitr::purl(".buildwebvig/arrays/arrays.Rmd", ".buildwebvig/arrays/arrays.R")' |
| StartedAt: 2018-05-18 08:42:35 -0400 (Fri, 18 May 2018) |
| EndedAt: 2018-05-18 08:42:53 -0400 (Fri, 18 May 2018) |
| EllapsedTime: 18.0 seconds |
| RetCode: 0 |
| Status: OK |
##############################################################################
##############################################################################
###
### Running command:
###
### /home/biocbuild/bbs-3.7-bioc/R/bin/R -q -e 'rmarkdown::render(".buildwebvig/arrays/arrays.Rmd", output_format="BiocStyle:::html_fragment")' && /home/biocbuild/bbs-3.7-bioc/R/bin/R -q -e 'knitr::purl(".buildwebvig/arrays/arrays.Rmd", ".buildwebvig/arrays/arrays.R")'
###
##############################################################################
##############################################################################
> rmarkdown::render(".buildwebvig/arrays/arrays.Rmd", output_format="BiocStyle:::html_fragment")
processing file: arrays.Rmd
|
| | 0%
|
|.... | 5%
ordinary text without R code
|
|....... | 11%
label: unnamed-chunk-1 (with options)
List of 3
$ echo : logi FALSE
$ results: chr "hide"
$ warning: logi FALSE
|
|........... | 16%
inline R code fragments
|
|............... | 21%
label: unnamed-chunk-2 (with options)
List of 1
$ echo: logi FALSE
|
|.................. | 26%
ordinary text without R code
|
|...................... | 32%
label: unnamed-chunk-3
|
|.......................... | 37%
ordinary text without R code
|
|............................. | 42%
label: unnamed-chunk-4 (with options)
List of 1
$ eval: logi FALSE
|
|................................. | 47%
ordinary text without R code
|
|..................................... | 53%
label: unnamed-chunk-5 (with options)
List of 1
$ eval: logi FALSE
|
|......................................... | 58%
ordinary text without R code
|
|............................................ | 63%
label: unnamed-chunk-6 (with options)
List of 1
$ eval: logi FALSE
|
|................................................ | 68%
ordinary text without R code
|
|.................................................... | 74%
label: unnamed-chunk-7 (with options)
List of 1
$ eval: logi FALSE
|
|....................................................... | 79%
ordinary text without R code
|
|........................................................... | 84%
label: unnamed-chunk-8 (with options)
List of 1
$ eval: logi FALSE
|
|............................................................... | 89%
ordinary text without R code
|
|.................................................................. | 95%
label: unnamed-chunk-9
|
|......................................................................| 100%
ordinary text without R code
output file: arrays.knit.md
/usr/bin/pandoc +RTS -K512m -RTS arrays.utf8.md --to html4 --from markdown+autolink_bare_uris+ascii_identifiers+tex_math_single_backslash+smart --output arrays.html --email-obfuscation none --self-contained --wrap preserve --standalone --section-divs --table-of-contents --toc-depth 3 --template /home/biocbuild/bbs-3.7-bioc/R/library/BiocStyle/resources/fragment.html --no-highlight --number-sections --mathjax --variable 'mathjax-url:https://mathjax.rstudio.com/latest/MathJax.js?config=TeX-AMS-MML_HTMLorMML'
Output created: arrays.html
>
>
> knitr::purl(".buildwebvig/arrays/arrays.Rmd", ".buildwebvig/arrays/arrays.R")
processing file: .buildwebvig/arrays/arrays.Rmd
|
| | 0%
|
|... | 5%
|
|....... | 11%
|
|.......... | 16%
|
|.............. | 21%
|
|................. | 26%
|
|..................... | 32%
|
|........................ | 37%
|
|........................... | 42%
|
|............................... | 47%
|
|.................................. | 53%
|
|...................................... | 58%
|
|......................................... | 63%
|
|............................................ | 68%
|
|................................................ | 74%
|
|................................................... | 79%
|
|....................................................... | 84%
|
|.......................................................... | 89%
|
|.............................................................. | 95%
|
|.................................................................| 100%
output file: .buildwebvig/arrays/arrays.R
[1] ".buildwebvig/arrays/arrays.R"
>
>