| Back to Workflows build report for BioC 3.7 |
This page was generated on 2018-02-28 12:45:05 -0500 (Wed, 28 Feb 2018).
| Package 2/6 | Hostname | OS / Arch | INSTALL | BUILD | BUILD VIG | ||||||
| arrays 0.1 Bioconductor Package Maintainer
| malbec2 | Linux (Ubuntu 16.04.1 LTS) / x86_64 | OK | OK | [ OK ] |
| Package: arrays |
| Version: 0.1 |
| Command: /home/biocbuild/bbs-3.7-bioc/R/bin/R -q -e 'rmarkdown::render(".buildvig/arrays/arrays.Rmd", output_format="BiocStyle:::html_fragment")' && /home/biocbuild/bbs-3.7-bioc/R/bin/R -q -e 'knitr::purl(".buildvig/arrays/arrays.Rmd", ".buildvig/arrays/arrays.R")' |
| StartedAt: 2018-02-28 12:31:21 -0500 (Wed, 28 Feb 2018) |
| EndedAt: 2018-02-28 12:31:28 -0500 (Wed, 28 Feb 2018) |
| EllapsedTime: 7.0 seconds |
| RetCode: 0 |
| Status: OK |
##############################################################################
##############################################################################
###
### Running command:
###
### /home/biocbuild/bbs-3.7-bioc/R/bin/R -q -e 'rmarkdown::render(".buildvig/arrays/arrays.Rmd", output_format="BiocStyle:::html_fragment")' && /home/biocbuild/bbs-3.7-bioc/R/bin/R -q -e 'knitr::purl(".buildvig/arrays/arrays.Rmd", ".buildvig/arrays/arrays.R")'
###
##############################################################################
##############################################################################
> rmarkdown::render(".buildvig/arrays/arrays.Rmd", output_format="BiocStyle:::html_fragment")
processing file: arrays.Rmd
|
| | 0%
|
|.... | 6%
ordinary text without R code
|
|........ | 12%
label: unnamed-chunk-1 (with options)
List of 1
$ echo: logi FALSE
|
|............ | 18%
ordinary text without R code
|
|................ | 24%
label: unnamed-chunk-2
|
|..................... | 29%
ordinary text without R code
|
|......................... | 35%
label: unnamed-chunk-3 (with options)
List of 1
$ eval: logi FALSE
|
|............................. | 41%
ordinary text without R code
|
|................................. | 47%
label: unnamed-chunk-4 (with options)
List of 1
$ eval: logi FALSE
|
|..................................... | 53%
ordinary text without R code
|
|......................................... | 59%
label: unnamed-chunk-5 (with options)
List of 1
$ eval: logi FALSE
|
|............................................. | 65%
ordinary text without R code
|
|................................................. | 71%
label: unnamed-chunk-6 (with options)
List of 1
$ eval: logi FALSE
|
|...................................................... | 76%
ordinary text without R code
|
|.......................................................... | 82%
label: unnamed-chunk-7 (with options)
List of 1
$ eval: logi FALSE
|
|.............................................................. | 88%
ordinary text without R code
|
|.................................................................. | 94%
label: unnamed-chunk-8
|
|......................................................................| 100%
ordinary text without R code
output file: arrays.knit.md
/usr/bin/pandoc +RTS -K512m -RTS arrays.utf8.md --to html4 --from markdown+autolink_bare_uris+ascii_identifiers+tex_math_single_backslash+smart --output arrays.html --email-obfuscation none --self-contained --wrap preserve --standalone --section-divs --table-of-contents --toc-depth 3 --template /home/biocbuild/bbs-3.7-bioc/R/library/BiocStyle/resources/fragment.html --no-highlight --number-sections --mathjax --variable 'mathjax-url:https://mathjax.rstudio.com/latest/MathJax.js?config=TeX-AMS-MML_HTMLorMML'
Output created: arrays.html
>
>
> knitr::purl(".buildvig/arrays/arrays.Rmd", ".buildvig/arrays/arrays.R")
processing file: .buildvig/arrays/arrays.Rmd
|
| | 0%
|
|.... | 6%
|
|........ | 12%
|
|........... | 18%
|
|............... | 24%
|
|................... | 29%
|
|....................... | 35%
|
|........................... | 41%
|
|............................... | 47%
|
|.................................. | 53%
|
|...................................... | 59%
|
|.......................................... | 65%
|
|.............................................. | 71%
|
|.................................................. | 76%
|
|...................................................... | 82%
|
|......................................................... | 88%
|
|............................................................. | 94%
|
|.................................................................| 100%
output file: .buildvig/arrays/arrays.R
[1] ".buildvig/arrays/arrays.R"
>
>