| Back to Workflows build report for BioC 3.7 |
This page was generated on 2018-10-15 12:45:18 -0400 (Mon, 15 Oct 2018).
| Package 15/21 | Hostname | OS / Arch | INSTALL | BUILD | ||||||
| RNAseq123 1.2.0 Matthew Ritchie
| malbec2 | Linux (Ubuntu 16.04.1 LTS) / x86_64 | OK | OK | ||||||
| tokay2 | Windows Server 2012 R2 Standard / x64 | [ OK ] | OK |
| Package: RNAseq123 |
| Version: 1.2.0 |
| Command: C:\cygwin\bin\curl.exe -O https://malbec2.bioconductor.org/BBS/3.7/workflows/src/contrib/RNAseq123_1.2.0.tar.gz && rm -rf RNAseq123.buildbin-libdir && mkdir RNAseq123.buildbin-libdir && C:\Users\biocbuild\bbs-3.7-bioc\R\bin\R.exe CMD INSTALL --merge-multiarch --build --library=RNAseq123.buildbin-libdir RNAseq123_1.2.0.tar.gz && C:\Users\biocbuild\bbs-3.7-bioc\R\bin\R.exe CMD INSTALL RNAseq123_1.2.0.zip && rm RNAseq123_1.2.0.tar.gz RNAseq123_1.2.0.zip |
| StartedAt: 2018-10-15 07:55:22 -0400 (Mon, 15 Oct 2018) |
| EndedAt: 2018-10-15 07:56:40 -0400 (Mon, 15 Oct 2018) |
| EllapsedTime: 78.3 seconds |
| RetCode: 0 |
| Status: OK |
##############################################################################
##############################################################################
###
### Running command:
###
### C:\cygwin\bin\curl.exe -O https://malbec2.bioconductor.org/BBS/3.7/workflows/src/contrib/RNAseq123_1.2.0.tar.gz && rm -rf RNAseq123.buildbin-libdir && mkdir RNAseq123.buildbin-libdir && C:\Users\biocbuild\bbs-3.7-bioc\R\bin\R.exe CMD INSTALL --merge-multiarch --build --library=RNAseq123.buildbin-libdir RNAseq123_1.2.0.tar.gz && C:\Users\biocbuild\bbs-3.7-bioc\R\bin\R.exe CMD INSTALL RNAseq123_1.2.0.zip && rm RNAseq123_1.2.0.tar.gz RNAseq123_1.2.0.zip
###
##############################################################################
##############################################################################
% Total % Received % Xferd Average Speed Time Time Time Current
Dload Upload Total Spent Left Speed
0 0 0 0 0 0 0 0 --:--:-- --:--:-- --:--:-- 0
100 2352k 100 2352k 0 0 36.9M 0 --:--:-- --:--:-- --:--:-- 39.6M
install for i386
* installing *source* package 'RNAseq123' ...
** inst
** help
No man pages found in package 'RNAseq123'
*** installing help indices
** building package indices
** installing vignettes
** testing if installed package can be loaded
In R CMD INSTALL
install for x64
* installing *source* package 'RNAseq123' ...
** testing if installed package can be loaded
* MD5 sums
packaged installation of 'RNAseq123' as RNAseq123_1.2.0.zip
* DONE (RNAseq123)
In R CMD INSTALL
In R CMD INSTALL
* installing to library 'C:/Users/biocbuild/bbs-3.7-bioc/R/library'
package 'RNAseq123' successfully unpacked and MD5 sums checked
In R CMD INSTALL