| Back to Workflows build report for BioC 3.7 |
This page was generated on 2018-10-15 12:45:17 -0400 (Mon, 15 Oct 2018).
| Package 6/21 | Hostname | OS / Arch | INSTALL | BUILD | ||||||
| EGSEA123 1.2.0 Matthew Ritchie
| malbec2 | Linux (Ubuntu 16.04.1 LTS) / x86_64 | OK | OK | ||||||
| tokay2 | Windows Server 2012 R2 Standard / x64 | [ OK ] | OK |
| Package: EGSEA123 |
| Version: 1.2.0 |
| Command: C:\cygwin\bin\curl.exe -O https://malbec2.bioconductor.org/BBS/3.7/workflows/src/contrib/EGSEA123_1.2.0.tar.gz && rm -rf EGSEA123.buildbin-libdir && mkdir EGSEA123.buildbin-libdir && C:\Users\biocbuild\bbs-3.7-bioc\R\bin\R.exe CMD INSTALL --merge-multiarch --build --library=EGSEA123.buildbin-libdir EGSEA123_1.2.0.tar.gz && C:\Users\biocbuild\bbs-3.7-bioc\R\bin\R.exe CMD INSTALL EGSEA123_1.2.0.zip && rm EGSEA123_1.2.0.tar.gz EGSEA123_1.2.0.zip |
| StartedAt: 2018-10-15 07:55:27 -0400 (Mon, 15 Oct 2018) |
| EndedAt: 2018-10-15 07:56:46 -0400 (Mon, 15 Oct 2018) |
| EllapsedTime: 78.9 seconds |
| RetCode: 0 |
| Status: OK |
##############################################################################
##############################################################################
###
### Running command:
###
### C:\cygwin\bin\curl.exe -O https://malbec2.bioconductor.org/BBS/3.7/workflows/src/contrib/EGSEA123_1.2.0.tar.gz && rm -rf EGSEA123.buildbin-libdir && mkdir EGSEA123.buildbin-libdir && C:\Users\biocbuild\bbs-3.7-bioc\R\bin\R.exe CMD INSTALL --merge-multiarch --build --library=EGSEA123.buildbin-libdir EGSEA123_1.2.0.tar.gz && C:\Users\biocbuild\bbs-3.7-bioc\R\bin\R.exe CMD INSTALL EGSEA123_1.2.0.zip && rm EGSEA123_1.2.0.tar.gz EGSEA123_1.2.0.zip
###
##############################################################################
##############################################################################
% Total % Received % Xferd Average Speed Time Time Time Current
Dload Upload Total Spent Left Speed
0 0 0 0 0 0 0 0 --:--:-- --:--:-- --:--:-- 0
100 453k 100 453k 0 0 8815k 0 --:--:-- --:--:-- --:--:-- 9.8M
install for i386
* installing *source* package 'EGSEA123' ...
** help
No man pages found in package 'EGSEA123'
*** installing help indices
** building package indices
** installing vignettes
** testing if installed package can be loaded
groupGOTerms: GOBPTerm, GOMFTerm, GOCCTerm environments built.
In R CMD INSTALL
install for x64
* installing *source* package 'EGSEA123' ...
** testing if installed package can be loaded
groupGOTerms: GOBPTerm, GOMFTerm, GOCCTerm environments built.
* MD5 sums
packaged installation of 'EGSEA123' as EGSEA123_1.2.0.zip
* DONE (EGSEA123)
In R CMD INSTALL
In R CMD INSTALL
* installing to library 'C:/Users/biocbuild/bbs-3.7-bioc/R/library'
package 'EGSEA123' successfully unpacked and MD5 sums checked
In R CMD INSTALL