| Back to Workflows build report for BioC 3.7 |
This page was generated on 2018-10-15 12:45:19 -0400 (Mon, 15 Oct 2018).
| Package 3/21 | Hostname | OS / Arch | INSTALL | BUILD | ||||||
| BiocMetaWorkflow 1.0.0 Mike Smith
| malbec2 | Linux (Ubuntu 16.04.1 LTS) / x86_64 | OK | OK | ||||||
| tokay2 | Windows Server 2012 R2 Standard / x64 | [ OK ] | OK |
| Package: BiocMetaWorkflow |
| Version: 1.0.0 |
| Command: C:\cygwin\bin\curl.exe -O https://malbec2.bioconductor.org/BBS/3.7/workflows/src/contrib/BiocMetaWorkflow_1.0.0.tar.gz && rm -rf BiocMetaWorkflow.buildbin-libdir && mkdir BiocMetaWorkflow.buildbin-libdir && C:\Users\biocbuild\bbs-3.7-bioc\R\bin\R.exe CMD INSTALL --merge-multiarch --build --library=BiocMetaWorkflow.buildbin-libdir BiocMetaWorkflow_1.0.0.tar.gz && C:\Users\biocbuild\bbs-3.7-bioc\R\bin\R.exe CMD INSTALL BiocMetaWorkflow_1.0.0.zip && rm BiocMetaWorkflow_1.0.0.tar.gz BiocMetaWorkflow_1.0.0.zip |
| StartedAt: 2018-10-15 07:55:21 -0400 (Mon, 15 Oct 2018) |
| EndedAt: 2018-10-15 07:55:25 -0400 (Mon, 15 Oct 2018) |
| EllapsedTime: 4.0 seconds |
| RetCode: 0 |
| Status: OK |
##############################################################################
##############################################################################
###
### Running command:
###
### C:\cygwin\bin\curl.exe -O https://malbec2.bioconductor.org/BBS/3.7/workflows/src/contrib/BiocMetaWorkflow_1.0.0.tar.gz && rm -rf BiocMetaWorkflow.buildbin-libdir && mkdir BiocMetaWorkflow.buildbin-libdir && C:\Users\biocbuild\bbs-3.7-bioc\R\bin\R.exe CMD INSTALL --merge-multiarch --build --library=BiocMetaWorkflow.buildbin-libdir BiocMetaWorkflow_1.0.0.tar.gz && C:\Users\biocbuild\bbs-3.7-bioc\R\bin\R.exe CMD INSTALL BiocMetaWorkflow_1.0.0.zip && rm BiocMetaWorkflow_1.0.0.tar.gz BiocMetaWorkflow_1.0.0.zip
###
##############################################################################
##############################################################################
% Total % Received % Xferd Average Speed Time Time Time Current
Dload Upload Total Spent Left Speed
0 0 0 0 0 0 0 0 --:--:-- --:--:-- --:--:-- 0
100 96615 100 96615 0 0 1972k 0 --:--:-- --:--:-- --:--:-- 2246k
install for i386
* installing *source* package 'BiocMetaWorkflow' ...
** help
No man pages found in package 'BiocMetaWorkflow'
*** installing help indices
** building package indices
** installing vignettes
** testing if installed package can be loaded
In R CMD INSTALL
install for x64
* installing *source* package 'BiocMetaWorkflow' ...
** testing if installed package can be loaded
* MD5 sums
packaged installation of 'BiocMetaWorkflow' as BiocMetaWorkflow_1.0.0.zip
* DONE (BiocMetaWorkflow)
In R CMD INSTALL
In R CMD INSTALL
* installing to library 'C:/Users/biocbuild/bbs-3.7-bioc/R/library'
package 'BiocMetaWorkflow' successfully unpacked and MD5 sums checked
In R CMD INSTALL