| Back to Workflows build report for BioC 3.7 |
This page was generated on 2018-05-18 12:48:10 -0400 (Fri, 18 May 2018).
| Package 3/21 | Hostname | OS / Arch | INSTALL | BUILD | BUILD WEB VIG | ||||||
| BiocMetaWorkflow 1.0.0 Mike Smith
| malbec2 | Linux (Ubuntu 16.04.1 LTS) / x86_64 | OK | OK | [ OK ] |
| Package: BiocMetaWorkflow |
| Version: 1.0.0 |
| Command: /home/biocbuild/bbs-3.7-bioc/R/bin/R -q -e 'rmarkdown::render(".buildwebvig/BiocMetaWorkflow/Authoring_BioC_Workflows.Rmd", output_format="BiocStyle:::html_fragment")' && /home/biocbuild/bbs-3.7-bioc/R/bin/R -q -e 'knitr::purl(".buildwebvig/BiocMetaWorkflow/Authoring_BioC_Workflows.Rmd", ".buildwebvig/BiocMetaWorkflow/Authoring_BioC_Workflows.R")' |
| StartedAt: 2018-05-18 08:54:56 -0400 (Fri, 18 May 2018) |
| EndedAt: 2018-05-18 08:55:04 -0400 (Fri, 18 May 2018) |
| EllapsedTime: 8.0 seconds |
| RetCode: 0 |
| Status: OK |
##############################################################################
##############################################################################
###
### Running command:
###
### /home/biocbuild/bbs-3.7-bioc/R/bin/R -q -e 'rmarkdown::render(".buildwebvig/BiocMetaWorkflow/Authoring_BioC_Workflows.Rmd", output_format="BiocStyle:::html_fragment")' && /home/biocbuild/bbs-3.7-bioc/R/bin/R -q -e 'knitr::purl(".buildwebvig/BiocMetaWorkflow/Authoring_BioC_Workflows.Rmd", ".buildwebvig/BiocMetaWorkflow/Authoring_BioC_Workflows.R")'
###
##############################################################################
##############################################################################
> rmarkdown::render(".buildwebvig/BiocMetaWorkflow/Authoring_BioC_Workflows.Rmd", output_format="BiocStyle:::html_fragment")
processing file: Authoring_BioC_Workflows.Rmd
|
| | 0%
|
|.... | 6%
ordinary text without R code
|
|........ | 11%
label: global_options (with options)
List of 1
$ include: logi FALSE
|
|............ | 17%
inline R code fragments
|
|................ | 22%
label: packageInstallation (with options)
List of 1
$ eval: logi FALSE
|
|................... | 28%
ordinary text without R code
|
|....................... | 33%
label: createBiocWorkflow (with options)
List of 1
$ message: logi FALSE
* Creating `MyWorkflow.Rproj` from template.
* Adding `.Rproj.user`, `.Rhistory`, `.RData` to ./.gitignore
|
|........................... | 39%
ordinary text without R code
|
|............................... | 44%
label: RStudioNew (with options)
List of 4
$ echo : logi FALSE
$ out.width: chr "50%"
$ fig.align: chr "center"
$ fig.cap : chr "Creation of a new article is integrated into RStudio. The F1000Research template can be accessed via the `New "| __truncated__
|
|................................... | 50%
ordinary text without R code
|
|....................................... | 56%
label: createDraft
|
|........................................... | 61%
ordinary text without R code
|
|............................................... | 67%
label: render (with options)
List of 1
$ eval: logi FALSE
|
|................................................... | 72%
label: renderquiet (with options)
List of 1
$ include: logi FALSE
|
|...................................................... | 78%
ordinary text without R code
|
|.......................................................... | 83%
label: uploadToOverleaf (with options)
List of 1
$ eval: logi FALSE
|
|.............................................................. | 89%
ordinary text without R code
|
|.................................................................. | 94%
label: unnamed-chunk-1 (with options)
List of 2
$ eval : logi FALSE
$ engine: chr "sh"
|
|......................................................................| 100%
ordinary text without R code
output file: Authoring_BioC_Workflows.knit.md
/usr/bin/pandoc +RTS -K512m -RTS Authoring_BioC_Workflows.utf8.md --to html4 --from markdown+autolink_bare_uris+ascii_identifiers+tex_math_single_backslash+smart --output Authoring_BioC_Workflows.html --email-obfuscation none --self-contained --wrap preserve --standalone --section-divs --table-of-contents --toc-depth 3 --template /home/biocbuild/bbs-3.7-bioc/R/library/BiocStyle/resources/fragment.html --no-highlight --number-sections --mathjax --variable 'mathjax-url:https://mathjax.rstudio.com/latest/MathJax.js?config=TeX-AMS-MML_HTMLorMML' --filter /usr/bin/pandoc-citeproc
Output created: Authoring_BioC_Workflows.html
>
>
> knitr::purl(".buildwebvig/BiocMetaWorkflow/Authoring_BioC_Workflows.Rmd", ".buildwebvig/BiocMetaWorkflow/Authoring_BioC_Workflows.R")
processing file: .buildwebvig/BiocMetaWorkflow/Authoring_BioC_Workflows.Rmd
|
| | 0%
|
|.... | 6%
|
|....... | 11%
|
|........... | 17%
|
|.............. | 22%
|
|.................. | 28%
|
|...................... | 33%
|
|......................... | 39%
|
|............................. | 44%
|
|................................ | 50%
|
|.................................... | 56%
|
|........................................ | 61%
|
|........................................... | 67%
|
|............................................... | 72%
|
|................................................... | 78%
|
|...................................................... | 83%
|
|.......................................................... | 89%
|
|............................................................. | 94%
|
|.................................................................| 100%
output file: .buildwebvig/BiocMetaWorkflow/Authoring_BioC_Workflows.R
[1] ".buildwebvig/BiocMetaWorkflow/Authoring_BioC_Workflows.R"
Warning message:
In res[i] <- withCallingHandlers(if (tangle) process_tangle(group) else process_group(group), :
number of items to replace is not a multiple of replacement length
>
>