| Back to Multiple platform build/check report for BioC 3.7 experimental data |
This page was generated on 2018-10-16 14:19:40 -0400 (Tue, 16 Oct 2018).
| Package 232/342 | Hostname | OS / Arch | INSTALL | BUILD | CHECK | BUILD BIN | ||||||
| pathprintGEOData 1.10.0 Sokratis Kariotis
| malbec2 | Linux (Ubuntu 16.04.1 LTS) / x86_64 | [ OK ] | OK | OK |
| Package: pathprintGEOData |
| Version: 1.10.0 |
| Command: /home/biocbuild/bbs-3.7-bioc/R/bin/R CMD INSTALL pathprintGEOData |
| StartedAt: 2018-10-16 08:57:05 -0400 (Tue, 16 Oct 2018) |
| EndedAt: 2018-10-16 08:57:12 -0400 (Tue, 16 Oct 2018) |
| EllapsedTime: 7.1 seconds |
| RetCode: 0 |
| Status: OK |
############################################################################## ############################################################################## ### ### Running command: ### ### /home/biocbuild/bbs-3.7-bioc/R/bin/R CMD INSTALL pathprintGEOData ### ############################################################################## ############################################################################## * installing to library ‘/home/biocbuild/bbs-3.7-bioc/R/library’ * installing *source* package ‘pathprintGEOData’ ... ** data ** inst ** help *** installing help indices ** building package indices ** installing vignettes ** testing if installed package can be loaded * DONE (pathprintGEOData)