| Back to Multiple platform build/check report for BioC 3.7 experimental data |
This page was generated on 2018-10-16 14:16:43 -0400 (Tue, 16 Oct 2018).
| Package 102/342 | Hostname | OS / Arch | INSTALL | BUILD | CHECK | BUILD BIN | ||||||
| fibroEset 1.22.0 Sylvia Merk
| malbec2 | Linux (Ubuntu 16.04.1 LTS) / x86_64 | [ OK ] | OK | WARNINGS |
| Package: fibroEset |
| Version: 1.22.0 |
| Command: /home/biocbuild/bbs-3.7-bioc/R/bin/R CMD INSTALL fibroEset |
| StartedAt: 2018-10-16 09:06:06 -0400 (Tue, 16 Oct 2018) |
| EndedAt: 2018-10-16 09:06:10 -0400 (Tue, 16 Oct 2018) |
| EllapsedTime: 4.3 seconds |
| RetCode: 0 |
| Status: OK |
############################################################################## ############################################################################## ### ### Running command: ### ### /home/biocbuild/bbs-3.7-bioc/R/bin/R CMD INSTALL fibroEset ### ############################################################################## ############################################################################## * installing to library ‘/home/biocbuild/bbs-3.7-bioc/R/library’ * installing *source* package ‘fibroEset’ ... ** R ** data ** byte-compile and prepare package for lazy loading ** help *** installing help indices ** building package indices ** testing if installed package can be loaded * DONE (fibroEset)