| Back to Multiple platform build/check report for BioC 3.7 experimental data | 
This page was generated on 2018-10-16 14:19:35 -0400 (Tue, 16 Oct 2018).
| Package 16/342 | Hostname | OS / Arch | INSTALL | BUILD | CHECK | BUILD BIN | ||||||
| aracne.networks 1.6.0 Federico M. Giorgi 
  | malbec2 | Linux (Ubuntu 16.04.1 LTS) / x86_64 | OK | [ OK ] | WARNINGS | 
| Package: aracne.networks | 
| Version: 1.6.0 | 
| Command: /home/biocbuild/bbs-3.7-bioc/R/bin/R CMD build --keep-empty-dirs --no-resave-data aracne.networks | 
| StartedAt: 2018-10-16 10:01:06 -0400 (Tue, 16 Oct 2018) | 
| EndedAt: 2018-10-16 10:02:14 -0400 (Tue, 16 Oct 2018) | 
| EllapsedTime: 68.0 seconds | 
| RetCode: 0 | 
| Status: OK | 
| PackageFile: aracne.networks_1.6.0.tar.gz | 
| PackageFileSize: 203.2 MiB | 
############################################################################## ############################################################################## ### ### Running command: ### ### /home/biocbuild/bbs-3.7-bioc/R/bin/R CMD build --keep-empty-dirs --no-resave-data aracne.networks ### ############################################################################## ############################################################################## * checking for file ‘aracne.networks/DESCRIPTION’ ... OK * preparing ‘aracne.networks’: * checking DESCRIPTION meta-information ... OK * installing the package to build vignettes * creating vignettes ... OK * checking for LF line-endings in source and make files and shell scripts * checking for empty or unneeded directories * looking to see if a ‘data/datalist’ file should be added * building ‘aracne.networks_1.6.0.tar.gz’