| Back to Multiple platform build/check report for BioC 3.7 experimental data |
This page was generated on 2018-10-16 14:19:15 -0400 (Tue, 16 Oct 2018).
| Package 171/342 | Hostname | OS / Arch | INSTALL | BUILD | CHECK | BUILD BIN | ||||||
| JctSeqData 1.10.0 Stephen Hartley
| malbec2 | Linux (Ubuntu 16.04.1 LTS) / x86_64 | OK | [ OK ] | OK |
| Package: JctSeqData |
| Version: 1.10.0 |
| Command: /home/biocbuild/bbs-3.7-bioc/R/bin/R CMD build --keep-empty-dirs --no-resave-data JctSeqData |
| StartedAt: 2018-10-16 09:54:56 -0400 (Tue, 16 Oct 2018) |
| EndedAt: 2018-10-16 09:55:25 -0400 (Tue, 16 Oct 2018) |
| EllapsedTime: 28.3 seconds |
| RetCode: 0 |
| Status: OK |
| PackageFile: JctSeqData_1.10.0.tar.gz |
| PackageFileSize: 20.63 MiB |
############################################################################## ############################################################################## ### ### Running command: ### ### /home/biocbuild/bbs-3.7-bioc/R/bin/R CMD build --keep-empty-dirs --no-resave-data JctSeqData ### ############################################################################## ############################################################################## * checking for file ‘JctSeqData/DESCRIPTION’ ... OK * preparing ‘JctSeqData’: * checking DESCRIPTION meta-information ... OK * installing the package to build vignettes * creating vignettes ... OK * checking for LF line-endings in source and make files and shell scripts * checking for empty or unneeded directories * looking to see if a ‘data/datalist’ file should be added * building ‘JctSeqData_1.10.0.tar.gz’