| Back to Multiple platform build/check report for BioC 3.7 experimental data |
This page was generated on 2018-10-16 14:17:05 -0400 (Tue, 16 Oct 2018).
| Package 215/342 | Hostname | OS / Arch | INSTALL | BUILD | CHECK | BUILD BIN | ||||||
| msdata 0.20.0 Steffen Neumann
| malbec2 | Linux (Ubuntu 16.04.1 LTS) / x86_64 | [ OK ] | OK | OK |
| Package: msdata |
| Version: 0.20.0 |
| Command: /home/biocbuild/bbs-3.7-bioc/R/bin/R CMD INSTALL msdata |
| StartedAt: 2018-10-16 09:15:35 -0400 (Tue, 16 Oct 2018) |
| EndedAt: 2018-10-16 09:15:48 -0400 (Tue, 16 Oct 2018) |
| EllapsedTime: 13.4 seconds |
| RetCode: 0 |
| Status: OK |
############################################################################## ############################################################################## ### ### Running command: ### ### /home/biocbuild/bbs-3.7-bioc/R/bin/R CMD INSTALL msdata ### ############################################################################## ############################################################################## * installing to library ‘/home/biocbuild/bbs-3.7-bioc/R/library’ * installing *source* package ‘msdata’ ... ** R ** data ** inst ** byte-compile and prepare package for lazy loading ** help *** installing help indices ** building package indices ** testing if installed package can be loaded * DONE (msdata)