| Back to Multiple platform build/check report for BioC 3.7 experimental data |
This page was generated on 2018-10-16 14:16:58 -0400 (Tue, 16 Oct 2018).
| Package 180/342 | Hostname | OS / Arch | INSTALL | BUILD | CHECK | BUILD BIN | ||||||
| lumiBarnes 1.20.0 Pan Du
| malbec2 | Linux (Ubuntu 16.04.1 LTS) / x86_64 | [ OK ] | OK | WARNINGS |
| Package: lumiBarnes |
| Version: 1.20.0 |
| Command: /home/biocbuild/bbs-3.7-bioc/R/bin/R CMD INSTALL lumiBarnes |
| StartedAt: 2018-10-16 09:15:25 -0400 (Tue, 16 Oct 2018) |
| EndedAt: 2018-10-16 09:15:37 -0400 (Tue, 16 Oct 2018) |
| EllapsedTime: 11.7 seconds |
| RetCode: 0 |
| Status: OK |
############################################################################## ############################################################################## ### ### Running command: ### ### /home/biocbuild/bbs-3.7-bioc/R/bin/R CMD INSTALL lumiBarnes ### ############################################################################## ############################################################################## * installing to library ‘/home/biocbuild/bbs-3.7-bioc/R/library’ * installing *source* package ‘lumiBarnes’ ... ** data ** help *** installing help indices ** building package indices ** testing if installed package can be loaded * DONE (lumiBarnes)