| Back to Multiple platform build/check report for BioC 3.7 experimental data |
This page was generated on 2018-10-16 14:18:29 -0400 (Tue, 16 Oct 2018).
| Package 68/342 | Hostname | OS / Arch | INSTALL | BUILD | CHECK | BUILD BIN | ||||||
| curatedBladderData 1.16.0 Markus Riester
| malbec2 | Linux (Ubuntu 16.04.1 LTS) / x86_64 | [ OK ] | OK | OK |
| Package: curatedBladderData |
| Version: 1.16.0 |
| Command: /home/biocbuild/bbs-3.7-bioc/R/bin/R CMD INSTALL curatedBladderData |
| StartedAt: 2018-10-16 09:07:06 -0400 (Tue, 16 Oct 2018) |
| EndedAt: 2018-10-16 09:07:26 -0400 (Tue, 16 Oct 2018) |
| EllapsedTime: 19.6 seconds |
| RetCode: 0 |
| Status: OK |
############################################################################## ############################################################################## ### ### Running command: ### ### /home/biocbuild/bbs-3.7-bioc/R/bin/R CMD INSTALL curatedBladderData ### ############################################################################## ############################################################################## * installing to library ‘/home/biocbuild/bbs-3.7-bioc/R/library’ * installing *source* package ‘curatedBladderData’ ... ** data ** inst ** help *** installing help indices ** building package indices ** installing vignettes ** testing if installed package can be loaded * DONE (curatedBladderData)