| Back to Multiple platform build/check report for BioC 3.7 experimental data |
This page was generated on 2018-10-16 14:18:37 -0400 (Tue, 16 Oct 2018).
| Package 44/342 | Hostname | OS / Arch | INSTALL | BUILD | CHECK | BUILD BIN | ||||||
| ceu1kgv 0.22.0 VJ Carey
| malbec2 | Linux (Ubuntu 16.04.1 LTS) / x86_64 | [ OK ] | OK | OK |
| Package: ceu1kgv |
| Version: 0.22.0 |
| Command: /home/biocbuild/bbs-3.7-bioc/R/bin/R CMD INSTALL ceu1kgv |
| StartedAt: 2018-10-16 09:07:28 -0400 (Tue, 16 Oct 2018) |
| EndedAt: 2018-10-16 09:08:13 -0400 (Tue, 16 Oct 2018) |
| EllapsedTime: 45.4 seconds |
| RetCode: 0 |
| Status: OK |
############################################################################## ############################################################################## ### ### Running command: ### ### /home/biocbuild/bbs-3.7-bioc/R/bin/R CMD INSTALL ceu1kgv ### ############################################################################## ############################################################################## * installing to library ‘/home/biocbuild/bbs-3.7-bioc/R/library’ * installing *source* package ‘ceu1kgv’ ... ** R ** data ** inst ** byte-compile and prepare package for lazy loading ** help *** installing help indices ** building package indices ** installing vignettes ** testing if installed package can be loaded * DONE (ceu1kgv)