| Back to Multiple platform build/check report for BioC 3.7 experimental data |
This page was generated on 2018-10-16 14:18:07 -0400 (Tue, 16 Oct 2018).
| Package 182/342 | Hostname | OS / Arch | INSTALL | BUILD | CHECK | BUILD BIN | ||||||
| LungCancerLines 0.18.0 Cory Barr
| malbec2 | Linux (Ubuntu 16.04.1 LTS) / x86_64 | OK | [ OK ] | OK |
| Package: LungCancerLines |
| Version: 0.18.0 |
| Command: /home/biocbuild/bbs-3.7-bioc/R/bin/R CMD build --keep-empty-dirs --no-resave-data LungCancerLines |
| StartedAt: 2018-10-16 09:29:03 -0400 (Tue, 16 Oct 2018) |
| EndedAt: 2018-10-16 09:29:07 -0400 (Tue, 16 Oct 2018) |
| EllapsedTime: 4.0 seconds |
| RetCode: 0 |
| Status: OK |
| PackageFile: LungCancerLines_0.18.0.tar.gz |
| PackageFileSize: 1.608 MiB |
############################################################################## ############################################################################## ### ### Running command: ### ### /home/biocbuild/bbs-3.7-bioc/R/bin/R CMD build --keep-empty-dirs --no-resave-data LungCancerLines ### ############################################################################## ############################################################################## * checking for file ‘LungCancerLines/DESCRIPTION’ ... OK * preparing ‘LungCancerLines’: * checking DESCRIPTION meta-information ... OK * checking for LF line-endings in source and make files and shell scripts * checking for empty or unneeded directories * building ‘LungCancerLines_0.18.0.tar.gz’