| Back to Multiple platform build/check report for BioC 3.7 |
|
This page was generated on 2018-10-17 08:44:20 -0400 (Wed, 17 Oct 2018).
| Package 1559/1561 | Hostname | OS / Arch | INSTALL | BUILD | CHECK | BUILD BIN | ||||||
| zFPKM 1.2.0 Ron Ammar
| malbec2 | Linux (Ubuntu 16.04.1 LTS) / x86_64 | OK | OK | OK | |||||||
| tokay2 | Windows Server 2012 R2 Standard / x64 | [ OK ] | OK | OK | OK | |||||||
| merida2 | OS X 10.11.6 El Capitan / x86_64 | OK | OK | OK | OK |
| Package: zFPKM |
| Version: 1.2.0 |
| Command: C:\cygwin\bin\curl.exe -O https://malbec2.bioconductor.org/BBS/3.7/bioc/src/contrib/zFPKM_1.2.0.tar.gz && rm -rf zFPKM.buildbin-libdir && mkdir zFPKM.buildbin-libdir && C:\Users\biocbuild\bbs-3.7-bioc\R\bin\R.exe CMD INSTALL --merge-multiarch --build --library=zFPKM.buildbin-libdir zFPKM_1.2.0.tar.gz && C:\Users\biocbuild\bbs-3.7-bioc\R\bin\R.exe CMD INSTALL zFPKM_1.2.0.zip && rm zFPKM_1.2.0.tar.gz zFPKM_1.2.0.zip |
| StartedAt: 2018-10-16 19:31:47 -0400 (Tue, 16 Oct 2018) |
| EndedAt: 2018-10-16 19:32:15 -0400 (Tue, 16 Oct 2018) |
| EllapsedTime: 28.2 seconds |
| RetCode: 0 |
| Status: OK |
##############################################################################
##############################################################################
###
### Running command:
###
### C:\cygwin\bin\curl.exe -O https://malbec2.bioconductor.org/BBS/3.7/bioc/src/contrib/zFPKM_1.2.0.tar.gz && rm -rf zFPKM.buildbin-libdir && mkdir zFPKM.buildbin-libdir && C:\Users\biocbuild\bbs-3.7-bioc\R\bin\R.exe CMD INSTALL --merge-multiarch --build --library=zFPKM.buildbin-libdir zFPKM_1.2.0.tar.gz && C:\Users\biocbuild\bbs-3.7-bioc\R\bin\R.exe CMD INSTALL zFPKM_1.2.0.zip && rm zFPKM_1.2.0.tar.gz zFPKM_1.2.0.zip
###
##############################################################################
##############################################################################
% Total % Received % Xferd Average Speed Time Time Time Current
Dload Upload Total Spent Left Speed
0 0 0 0 0 0 0 0 --:--:-- --:--:-- --:--:-- 0
100 86134 100 86134 0 0 1420k 0 --:--:-- --:--:-- --:--:-- 1587k
install for i386
* installing *source* package 'zFPKM' ...
** R
** byte-compile and prepare package for lazy loading
** help
*** installing help indices
converting help for package 'zFPKM'
finding HTML links ... done
zFPKM html
zFPKMPlot html
** building package indices
** installing vignettes
** testing if installed package can be loaded
In R CMD INSTALL
install for x64
* installing *source* package 'zFPKM' ...
** testing if installed package can be loaded
* MD5 sums
packaged installation of 'zFPKM' as zFPKM_1.2.0.zip
* DONE (zFPKM)
In R CMD INSTALL
In R CMD INSTALL
* installing to library 'C:/Users/biocbuild/bbs-3.7-bioc/R/library'
package 'zFPKM' successfully unpacked and MD5 sums checked
In R CMD INSTALL