| Back to Multiple platform build/check report for BioC 3.7 |
|
This page was generated on 2018-10-17 08:46:35 -0400 (Wed, 17 Oct 2018).
| Package 1550/1561 | Hostname | OS / Arch | INSTALL | BUILD | CHECK | BUILD BIN | ||||||
| xcms 3.2.0 Steffen Neumann
| malbec2 | Linux (Ubuntu 16.04.1 LTS) / x86_64 | OK | OK | OK | |||||||
| tokay2 | Windows Server 2012 R2 Standard / x64 | OK | OK | OK | OK | |||||||
| merida2 | OS X 10.11.6 El Capitan / x86_64 | OK | OK | [ OK ] | OK |
| Package: xcms |
| Version: 3.2.0 |
| Command: /Library/Frameworks/R.framework/Versions/Current/Resources/bin/R CMD check --install=check:xcms.install-out.txt --library=/Library/Frameworks/R.framework/Versions/Current/Resources/library --no-vignettes --timings xcms_3.2.0.tar.gz |
| StartedAt: 2018-10-17 00:39:37 -0400 (Wed, 17 Oct 2018) |
| EndedAt: 2018-10-17 00:52:43 -0400 (Wed, 17 Oct 2018) |
| EllapsedTime: 786.5 seconds |
| RetCode: 0 |
| Status: OK |
| CheckDir: xcms.Rcheck |
| Warnings: 0 |
##############################################################################
##############################################################################
###
### Running command:
###
### /Library/Frameworks/R.framework/Versions/Current/Resources/bin/R CMD check --install=check:xcms.install-out.txt --library=/Library/Frameworks/R.framework/Versions/Current/Resources/library --no-vignettes --timings xcms_3.2.0.tar.gz
###
##############################################################################
##############################################################################
* using log directory ‘/Users/biocbuild/bbs-3.7-bioc/meat/xcms.Rcheck’
* using R version 3.5.1 Patched (2018-07-12 r74967)
* using platform: x86_64-apple-darwin15.6.0 (64-bit)
* using session charset: UTF-8
* using option ‘--no-vignettes’
* checking for file ‘xcms/DESCRIPTION’ ... OK
* this is package ‘xcms’ version ‘3.2.0’
* checking package namespace information ... OK
* checking package dependencies ... OK
* checking if this is a source package ... OK
* checking if there is a namespace ... OK
* checking for hidden files and directories ... OK
* checking for portable file names ... OK
* checking for sufficient/correct file permissions ... OK
* checking whether package ‘xcms’ can be installed ... OK
* checking installed package size ... OK
* checking package directory ... OK
* checking ‘build’ directory ... OK
* checking DESCRIPTION meta-information ... NOTE
License components with restrictions not permitted:
GPL (>= 2) + file LICENSE
* checking top-level files ... OK
* checking for left-over files ... OK
* checking index information ... OK
* checking package subdirectories ... OK
* checking R files for non-ASCII characters ... OK
* checking R files for syntax errors ... OK
* checking whether the package can be loaded ... OK
* checking whether the package can be loaded with stated dependencies ... OK
* checking whether the package can be unloaded cleanly ... OK
* checking whether the namespace can be loaded with stated dependencies ... OK
* checking whether the namespace can be unloaded cleanly ... OK
* checking dependencies in R code ... NOTE
Unexported object imported by a ':::' call: ‘MSnbase:::formatFileSpectrumNames’
See the note in ?`:::` about the use of this operator.
There are ::: calls to the package's namespace in its code. A package
almost never needs to use ::: for its own objects:
‘XProcessHistory’ ‘descendMin’ ‘na.flatfill’ ‘patternVsRowScore’
* checking S3 generic/method consistency ... OK
* checking replacement functions ... OK
* checking foreign function calls ... OK
* checking R code for possible problems ... NOTE
.xcmsFragments.plotTree: no visible global function definition for
‘edgemode<-’
.xcmsFragments.plotTree: no visible global function definition for
‘addEdge’
buildAnalysisSummary: no visible global function definition for
‘newXMLNode’
buildAssayList : <anonymous>: no visible global function definition for
‘newXMLNode’
buildAssayList: no visible global function definition for ‘newXMLNode’
buildAuditCollection: no visible global function definition for
‘newXMLNode’
buildCVlist: no visible global function definition for ‘newXMLNode’
buildCVlist: no visible global function definition for ‘addChildren’
buildCvParams : <anonymous>: no visible global function definition for
‘newXMLNode’
buildDataProcessingList: no visible global function definition for
‘newXMLNode’
buildFeatureList : <anonymous>: no visible global function definition
for ‘newXMLNode’
buildInputFiles : <anonymous>: no visible global function definition
for ‘newXMLNode’
buildInputFiles: no visible global function definition for ‘newXMLNode’
buildMzq: no visible global function definition for ‘xmlTree’
buildSmallMoleculeList : <anonymous>: no visible global function
definition for ‘newXMLNode’
buildSmallMoleculeList: no visible global function definition for
‘newXMLNode’
buildSoftwareList: no visible global function definition for
‘newXMLNode’
buildStudyVariableList : <anonymous>: no visible global function
definition for ‘newXMLNode’
buildStudyVariableList : <anonymous> : <anonymous>: no visible global
function definition for ‘newXMLNode’
buildStudyVariableList: no visible global function definition for
‘newXMLNode’
running: multiple local function definitions for ‘funct’ with different
formal arguments
verify.mzQuantML: no visible global function definition for
‘xmlTreeParse’
verify.mzQuantML: no visible global function definition for
‘xmlInternalTreeParse’
verify.mzQuantML: no visible global function definition for
‘xmlSchemaValidate’
xcmsClusterApply: no visible global function definition for
‘checkCluster’
xcmsClusterApply : submit: no visible global function definition for
‘sendCall’
xcmsClusterApply: no visible global function definition for
‘recvOneResult’
xcmsClusterApply: no visible global function definition for
‘checkForRemoteErrors’
xcmsPapply: no visible global function definition for ‘mpi.comm.size’
xcmsPapply: no visible global function definition for
‘mpi.spawn.Rslaves’
xcmsPapply: no visible global function definition for ‘mpi.comm.rank’
xcmsPapply : papply_int_slavefunction: no visible global function
definition for ‘mpi.send.Robj’
xcmsPapply : papply_int_slavefunction: no visible global function
definition for ‘mpi.recv.Robj’
xcmsPapply : papply_int_slavefunction: no visible global function
definition for ‘mpi.any.source’
xcmsPapply : papply_int_slavefunction: no visible global function
definition for ‘mpi.any.tag’
xcmsPapply : papply_int_slavefunction: no visible global function
definition for ‘mpi.get.sourcetag’
xcmsPapply: no visible global function definition for
‘mpi.bcast.Robj2slave’
xcmsPapply: no visible global function definition for ‘mpi.bcast.cmd’
xcmsPapply: no visible global function definition for ‘mpi.recv.Robj’
xcmsPapply: no visible global function definition for ‘mpi.any.source’
xcmsPapply: no visible global function definition for ‘mpi.any.tag’
xcmsPapply: no visible global function definition for
‘mpi.get.sourcetag’
xcmsPapply: no visible global function definition for ‘mpi.send.Robj’
xcmsParallelSetup: no visible global function definition for
‘mpi.spawn.Rslaves’
xcmsParallelSetup: no visible global function definition for
‘mpi.comm.size’
xcmsParallelSetup: no visible global function definition for
‘mpi.comm.rank’
xcmsParallelSetup: no visible global function definition for
‘makeCluster’
plotSurf,xcmsRaw: no visible global function definition for ‘rgl.clear’
plotSurf,xcmsRaw: no visible global function definition for
‘rgl.surface’
plotSurf,xcmsRaw: no visible global function definition for
‘rgl.points’
plotSurf,xcmsRaw: no visible global function definition for ‘rgl.bbox’
plotTree,xcmsFragments: no visible global function definition for
‘edgemode<-’
plotTree,xcmsFragments: no visible global function definition for
‘addEdge’
write.cdf,xcmsRaw: no visible global function definition for
‘ncdim_def’
write.cdf,xcmsRaw: no visible global function definition for
‘ncvar_def’
write.cdf,xcmsRaw: no visible global function definition for
‘nc_create’
write.cdf,xcmsRaw: no visible global function definition for
‘ncvar_put’
write.cdf,xcmsRaw: no visible global function definition for
‘ncatt_put’
write.cdf,xcmsRaw: no visible global function definition for ‘nc_close’
write.mzQuantML,xcmsSet: no visible global function definition for
‘saveXML’
write.mzdata,xcmsRaw: no visible global function definition for
‘base64encode’
Undefined global functions or variables:
addChildren addEdge base64encode checkCluster checkForRemoteErrors
edgemode<- makeCluster mpi.any.source mpi.any.tag
mpi.bcast.Robj2slave mpi.bcast.cmd mpi.comm.rank mpi.comm.size
mpi.get.sourcetag mpi.recv.Robj mpi.send.Robj mpi.spawn.Rslaves
nc_close nc_create ncatt_put ncdim_def ncvar_def ncvar_put newXMLNode
recvOneResult rgl.bbox rgl.clear rgl.points rgl.surface saveXML
sendCall xmlInternalTreeParse xmlSchemaValidate xmlTree xmlTreeParse
* checking Rd files ... OK
* checking Rd metadata ... OK
* checking Rd cross-references ... OK
* checking for missing documentation entries ... OK
* checking for code/documentation mismatches ... OK
* checking Rd \usage sections ... OK
* checking Rd contents ... OK
* checking for unstated dependencies in examples ... OK
* checking line endings in C/C++/Fortran sources/headers ... OK
* checking line endings in Makefiles ... OK
* checking compilation flags in Makevars ... OK
* checking for GNU extensions in Makefiles ... OK
* checking for portable use of $(BLAS_LIBS) and $(LAPACK_LIBS) ... OK
* checking compiled code ... NOTE
Note: information on .o files is not available
* checking files in ‘vignettes’ ... OK
* checking examples ... OK
Examples with CPU or elapsed time > 5s
user system elapsed
fillChromPeaks 11.722 4.150 10.426
findChromPeaks-massifquant 10.502 2.162 6.858
adjustRtime-obiwarp 7.992 2.229 7.551
XCMSnExp-filter-methods 7.136 2.825 4.915
XCMSnExp-class 6.401 2.568 5.389
findPeaks.massifquant-methods 8.345 0.257 8.602
plotChromPeakDensity 6.873 0.155 7.029
adjustRtime-peakGroups 4.649 1.952 4.324
findChromPeaks-centWave 4.406 1.566 3.629
do_findChromPeaks_massifquant 5.004 0.341 5.345
extractMsData-method 3.897 1.260 3.536
* checking for unstated dependencies in ‘tests’ ... OK
* checking tests ...
Running ‘testthat.R’
OK
* checking for unstated dependencies in vignettes ... OK
* checking package vignettes in ‘inst/doc’ ... OK
* checking running R code from vignettes ... SKIPPED
* checking re-building of vignette outputs ... SKIPPED
* checking PDF version of manual ... OK
* DONE
Status: 4 NOTEs
See
‘/Users/biocbuild/bbs-3.7-bioc/meat/xcms.Rcheck/00check.log’
for details.
xcms.Rcheck/00install.out
##############################################################################
##############################################################################
###
### Running command:
###
### /Library/Frameworks/R.framework/Versions/Current/Resources/bin/R CMD INSTALL xcms
###
##############################################################################
##############################################################################
* installing to library ‘/Library/Frameworks/R.framework/Versions/3.5/Resources/library’
* installing *source* package ‘xcms’ ...
** libs
rm -f massifquant/xcms_massifquant.o massifquant/TrMgr.o massifquant/Tracker.o massifquant/SegProc.o massifquant/DataKeeper.o massifquant/OpOverload.o obiwarp/mat.o obiwarp/vec.o obiwarp/xcms_dynprog.o obiwarp/xcms_lmat.o xcms_obiwarp.o fastMatch.o mzClust_hclust.o mzROI.o util.o xcms.o binners.o
clang++ -I"/Library/Frameworks/R.framework/Resources/include" -DNDEBUG -I/usr/local/include -fPIC -Wall -g -O2 -c massifquant/xcms_massifquant.cpp -o massifquant/xcms_massifquant.o
clang++ -I"/Library/Frameworks/R.framework/Resources/include" -DNDEBUG -I/usr/local/include -fPIC -Wall -g -O2 -c massifquant/TrMgr.cpp -o massifquant/TrMgr.o
clang++ -I"/Library/Frameworks/R.framework/Resources/include" -DNDEBUG -I/usr/local/include -fPIC -Wall -g -O2 -c massifquant/Tracker.cpp -o massifquant/Tracker.o
In file included from massifquant/Tracker.cpp:8:
massifquant/Tracker.h:49:16: warning: private field 'r_val_i' is not used [-Wunused-private-field]
double r_val_i;
^
massifquant/Tracker.h:50:16: warning: private field 'p_val_i' is not used [-Wunused-private-field]
double p_val_i;
^
massifquant/Tracker.h:53:16: warning: private field 'r_val_m' is not used [-Wunused-private-field]
double r_val_m;
^
massifquant/Tracker.h:54:16: warning: private field 'p_val_m' is not used [-Wunused-private-field]
double p_val_m;
^
4 warnings generated.
clang++ -I"/Library/Frameworks/R.framework/Resources/include" -DNDEBUG -I/usr/local/include -fPIC -Wall -g -O2 -c massifquant/SegProc.cpp -o massifquant/SegProc.o
clang++ -I"/Library/Frameworks/R.framework/Resources/include" -DNDEBUG -I/usr/local/include -fPIC -Wall -g -O2 -c massifquant/DataKeeper.cpp -o massifquant/DataKeeper.o
In file included from massifquant/DataKeeper.cpp:4:
massifquant/DataKeeper.h:36:26: warning: private field 'scbuf' is not used [-Wunused-private-field]
struct scanBuf * scbuf;
^
1 warning generated.
clang++ -I"/Library/Frameworks/R.framework/Resources/include" -DNDEBUG -I/usr/local/include -fPIC -Wall -g -O2 -c massifquant/OpOverload.cpp -o massifquant/OpOverload.o
clang++ -I"/Library/Frameworks/R.framework/Resources/include" -DNDEBUG -I/usr/local/include -fPIC -Wall -g -O2 -c obiwarp/mat.cpp -o obiwarp/mat.o
clang++ -I"/Library/Frameworks/R.framework/Resources/include" -DNDEBUG -I/usr/local/include -fPIC -Wall -g -O2 -c obiwarp/vec.cpp -o obiwarp/vec.o
clang++ -I"/Library/Frameworks/R.framework/Resources/include" -DNDEBUG -I/usr/local/include -fPIC -Wall -g -O2 -c obiwarp/xcms_dynprog.cpp -o obiwarp/xcms_dynprog.o
clang++ -I"/Library/Frameworks/R.framework/Resources/include" -DNDEBUG -I/usr/local/include -fPIC -Wall -g -O2 -c obiwarp/xcms_lmat.cpp -o obiwarp/xcms_lmat.o
clang++ -I"/Library/Frameworks/R.framework/Resources/include" -DNDEBUG -I/usr/local/include -fPIC -Wall -g -O2 -c xcms_obiwarp.cpp -o xcms_obiwarp.o
clang -I"/Library/Frameworks/R.framework/Resources/include" -DNDEBUG -I/usr/local/include -fPIC -Wall -g -O2 -c fastMatch.c -o fastMatch.o
clang -I"/Library/Frameworks/R.framework/Resources/include" -DNDEBUG -I/usr/local/include -fPIC -Wall -g -O2 -c mzClust_hclust.c -o mzClust_hclust.o
clang -I"/Library/Frameworks/R.framework/Resources/include" -DNDEBUG -I/usr/local/include -fPIC -Wall -g -O2 -c mzROI.c -o mzROI.o
clang -I"/Library/Frameworks/R.framework/Resources/include" -DNDEBUG -I/usr/local/include -fPIC -Wall -g -O2 -c util.c -o util.o
clang -I"/Library/Frameworks/R.framework/Resources/include" -DNDEBUG -I/usr/local/include -fPIC -Wall -g -O2 -c xcms.c -o xcms.o
clang -I"/Library/Frameworks/R.framework/Resources/include" -DNDEBUG -I/usr/local/include -fPIC -Wall -g -O2 -c binners.c -o binners.o
binners.c:357:7: warning: unused variable 'idx' [-Wunused-variable]
int idx = 0;
^
1 warning generated.
clang++ -dynamiclib -Wl,-headerpad_max_install_names -undefined dynamic_lookup -single_module -multiply_defined suppress -L/Library/Frameworks/R.framework/Resources/lib -L/usr/local/lib -o xcms.so massifquant/xcms_massifquant.o massifquant/TrMgr.o massifquant/Tracker.o massifquant/SegProc.o massifquant/DataKeeper.o massifquant/OpOverload.o obiwarp/mat.o obiwarp/vec.o obiwarp/xcms_dynprog.o obiwarp/xcms_lmat.o xcms_obiwarp.o fastMatch.o mzClust_hclust.o mzROI.o util.o xcms.o binners.o -F/Library/Frameworks/R.framework/.. -framework R -Wl,-framework -Wl,CoreFoundation
installing to /Library/Frameworks/R.framework/Versions/3.5/Resources/library/xcms/libs
** R
** inst
** byte-compile and prepare package for lazy loading
Creating a new generic function for ‘sigma’ in package ‘xcms’
** help
*** installing help indices
** building package indices
** installing vignettes
** testing if installed package can be loaded
* DONE (xcms)
xcms.Rcheck/tests/testthat.Rout
R version 3.5.1 Patched (2018-07-12 r74967) -- "Feather Spray"
Copyright (C) 2018 The R Foundation for Statistical Computing
Platform: x86_64-apple-darwin15.6.0 (64-bit)
R is free software and comes with ABSOLUTELY NO WARRANTY.
You are welcome to redistribute it under certain conditions.
Type 'license()' or 'licence()' for distribution details.
R is a collaborative project with many contributors.
Type 'contributors()' for more information and
'citation()' on how to cite R or R packages in publications.
Type 'demo()' for some demos, 'help()' for on-line help, or
'help.start()' for an HTML browser interface to help.
Type 'q()' to quit R.
> library(testthat)
> library(xcms)
Loading required package: Biobase
Loading required package: BiocGenerics
Loading required package: parallel
Attaching package: 'BiocGenerics'
The following objects are masked from 'package:parallel':
clusterApply, clusterApplyLB, clusterCall, clusterEvalQ,
clusterExport, clusterMap, parApply, parCapply, parLapply,
parLapplyLB, parRapply, parSapply, parSapplyLB
The following objects are masked from 'package:stats':
IQR, mad, sd, var, xtabs
The following objects are masked from 'package:base':
Filter, Find, Map, Position, Reduce, anyDuplicated, append,
as.data.frame, basename, cbind, colMeans, colSums, colnames,
dirname, do.call, duplicated, eval, evalq, get, grep, grepl,
intersect, is.unsorted, lapply, lengths, mapply, match, mget,
order, paste, pmax, pmax.int, pmin, pmin.int, rank, rbind,
rowMeans, rowSums, rownames, sapply, setdiff, sort, table, tapply,
union, unique, unsplit, which, which.max, which.min
Welcome to Bioconductor
Vignettes contain introductory material; view with
'browseVignettes()'. To cite Bioconductor, see
'citation("Biobase")', and for packages 'citation("pkgname")'.
Loading required package: BiocParallel
Loading required package: MSnbase
Loading required package: mzR
Loading required package: Rcpp
Loading required package: ProtGenerics
This is MSnbase version 2.6.4
Visit https://lgatto.github.io/MSnbase/ to get started.
Attaching package: 'MSnbase'
The following object is masked from 'package:stats':
smooth
The following object is masked from 'package:base':
trimws
This is xcms version 3.2.0
Attaching package: 'xcms'
The following object is masked from 'package:stats':
sigma
> library(faahKO)
> library(msdata)
>
> attr(faahko, "filepaths") <- sapply(
+ as.list(basename(attr(faahko, "filepaths"))),
+ function(x) system.file("cdf", if (length(grep("ko",x)) > 0) "KO" else "WT",
+ x, package = "faahKO"))
> if (.Platform$OS.type == "unix") {
+ prm <- MulticoreParam()
+ } else {
+ prm <- SnowParam()
+ }
> register(bpstart(prm))
>
> ## Create some objects we can re-use in different tests:
> faahko_3_files <- c(system.file('cdf/KO/ko15.CDF', package = "faahKO"),
+ system.file('cdf/KO/ko16.CDF', package = "faahKO"),
+ system.file('cdf/KO/ko18.CDF', package = "faahKO"))
>
> ## An xcmsRaw for the first file:
> faahko_xr_1 <- xcmsRaw(system.file('cdf/KO/ko15.CDF', package = "faahKO"),
+ profstep = 0)
> faahko_od <- readMSData(faahko_3_files, mode = "onDisk")
Polarity can not be extracted from netCDF files, please set manually the polarity with the 'polarity' method.
> faahko_xod <- findChromPeaks(faahko_od, param = CentWaveParam(noise = 10000,
+ snthresh = 40))
Detecting mass traces at 25 ppm ... OK
Detecting chromatographic peaks in 919 regions of interest ... OK: 61 found.
Detecting mass traces at 25 ppm ... OK
Detecting chromatographic peaks in 937 regions of interest ... OK: 87 found.
Detecting mass traces at 25 ppm ... OK
Detecting chromatographic peaks in 1025 regions of interest ... OK: 100 found.
> faahko_xs <- xcmsSet(faahko_3_files, profparam = list(step = 0),
+ method = "centWave", noise = 10000, snthresh = 40)
Detecting mass traces at 25 ppm ... OK
Detecting chromatographic peaks in 919 regions of interest ... OK: 61 found.
Detecting mass traces at 25 ppm ... OK
Detecting chromatographic peaks in 937 regions of interest ... OK: 87 found.
Detecting mass traces at 25 ppm ... OK
Detecting chromatographic peaks in 1025 regions of interest ... OK: 100 found.
> faahko_xsg <- group(faahko_xs)
Processing 2572 mz slices ... OK
> ## Doing also the retention time correction etc
> od_x <- faahko_od
> xod_x <- faahko_xod
> pdp <- PeakDensityParam(sampleGroups = rep(1, 3))
> xod_xg <- groupChromPeaks(xod_x, param = pdp)
Processing 2572 mz slices ... OK
> xod_xgr <- adjustRtime(xod_xg, param = PeakGroupsParam(span = 0.4))
Performing retention time correction using 19 peak groups.
Applying retention time adjustment to the identified chromatographic peaks ... OK
> xod_xgrg <- groupChromPeaks(xod_xgr, param = pdp)
Processing 2572 mz slices ... OK
> xod_r <- adjustRtime(as(od_x, "XCMSnExp"), param = ObiwarpParam())
Sample number 2 used as center sample.
Aligning ko15.CDF against ko16.CDF ... OK
Aligning ko18.CDF against ko16.CDF ... OK
>
> faahko_grouped_filled <- fillPeaks(group(faahko))
Processing 3195 mz slices ... OK
/Library/Frameworks/R.framework/Versions/3.5/Resources/library/faahKO/cdf/KO/ko15.CDF
method: bin
step: 0.1
/Library/Frameworks/R.framework/Versions/3.5/Resources/library/faahKO/cdf/KO/ko16.CDF
method: bin
step: 0.1
/Library/Frameworks/R.framework/Versions/3.5/Resources/library/faahKO/cdf/KO/ko18.CDF
method: bin
step: 0.1
/Library/Frameworks/R.framework/Versions/3.5/Resources/library/faahKO/cdf/WT/wt15.CDF
method: bin
step: 0.1
/Library/Frameworks/R.framework/Versions/3.5/Resources/library/faahKO/cdf/WT/wt16.CDF
method: bin
step: 0.1
/Library/Frameworks/R.framework/Versions/3.5/Resources/library/faahKO/cdf/WT/wt18.CDF
method: bin
step: 0.1
/Library/Frameworks/R.framework/Versions/3.5/Resources/library/faahKO/cdf/KO/ko19.CDF
method: bin
step: 0.1
/Library/Frameworks/R.framework/Versions/3.5/Resources/library/faahKO/cdf/KO/ko21.CDF
method: bin
step: 0.1
/Library/Frameworks/R.framework/Versions/3.5/Resources/library/faahKO/cdf/KO/ko22.CDF
method: bin
step: 0.1
/Library/Frameworks/R.framework/Versions/3.5/Resources/library/faahKO/cdf/WT/wt19.CDF
method: bin
step: 0.1
/Library/Frameworks/R.framework/Versions/3.5/Resources/library/faahKO/cdf/WT/wt21.CDF
method: bin
step: 0.1
/Library/Frameworks/R.framework/Versions/3.5/Resources/library/faahKO/cdf/WT/wt22.CDF
method: bin
step: 0.1
> faahko_grouped_retcor_filled <-
+ fillPeaks(group(retcor(group(updateObject(faahko)))))
Processing 3195 mz slices ... OK
Performing retention time correction using 132 peak groups.
Processing 3195 mz slices ... OK
/Library/Frameworks/R.framework/Versions/3.5/Resources/library/faahKO/cdf/KO/ko19.CDF
method: bin
step: 0.1
/Library/Frameworks/R.framework/Versions/3.5/Resources/library/faahKO/cdf/KO/ko21.CDF
method: bin
step: 0.1
/Library/Frameworks/R.framework/Versions/3.5/Resources/library/faahKO/cdf/KO/ko22.CDF
method: bin
step: 0.1
/Library/Frameworks/R.framework/Versions/3.5/Resources/library/faahKO/cdf/KO/ko15.CDF
method: bin
step: 0.1
/Library/Frameworks/R.framework/Versions/3.5/Resources/library/faahKO/cdf/KO/ko16.CDF
method: bin
step: 0.1
/Library/Frameworks/R.framework/Versions/3.5/Resources/library/faahKO/cdf/KO/ko18.CDF
method: bin
step: 0.1
/Library/Frameworks/R.framework/Versions/3.5/Resources/library/faahKO/cdf/WT/wt15.CDF
method: bin
step: 0.1
/Library/Frameworks/R.framework/Versions/3.5/Resources/library/faahKO/cdf/WT/wt16.CDF
method: bin
step: 0.1
/Library/Frameworks/R.framework/Versions/3.5/Resources/library/faahKO/cdf/WT/wt18.CDF
method: bin
step: 0.1
/Library/Frameworks/R.framework/Versions/3.5/Resources/library/faahKO/cdf/WT/wt19.CDF
method: bin
step: 0.1
/Library/Frameworks/R.framework/Versions/3.5/Resources/library/faahKO/cdf/WT/wt21.CDF
method: bin
step: 0.1
/Library/Frameworks/R.framework/Versions/3.5/Resources/library/faahKO/cdf/WT/wt22.CDF
method: bin
step: 0.1
>
> microtofq_fs <- c(system.file("microtofq/MM14.mzML", package = "msdata"),
+ system.file("microtofq/MM8.mzML", package = "msdata"))
> microtofq_xr <- xcmsRaw(microtofq_fs[1], profstep = 0)
> microtofq_od <- readMSData(microtofq_fs, mode = "onDisk")
>
> ## Direct injection data:
> fticrf <- list.files(system.file("fticr", package = "msdata"),
+ recursive = TRUE, full.names = TRUE)
> fticr <- readMSData(fticrf[1:2], msLevel. = 1, mode = "onDisk")
> fticr_xod <- findChromPeaks(fticr, MSWParam(scales = c(1, 7),
+ peakThr = 80000, ampTh = 0.005,
+ SNR.method = "data.mean",
+ winSize.noise = 500))
> fticr_xs <- xcmsSet(method="MSW", files=fticrf[1:2], scales=c(1,7),
+ SNR.method='data.mean' , winSize.noise=500,
+ peakThr=80000, amp.Th=0.005)
>
> fs <- c(system.file('cdf/KO/ko15.CDF', package = "faahKO"),
+ system.file('cdf/KO/ko16.CDF', package = "faahKO"),
+ system.file('cdf/KO/ko18.CDF', package = "faahKO"),
+ system.file('cdf/KO/ko19.CDF', package = "faahKO"))
> xs_1 <- xcmsSet(fs, profparam = list(step = 0), method = "centWave",
+ noise = 10000, snthresh = 50)
Detecting mass traces at 25 ppm ... OK
Detecting chromatographic peaks in 781 regions of interest ... OK: 46 found.
Detecting mass traces at 25 ppm ... OK
Detecting chromatographic peaks in 919 regions of interest ... OK: 41 found.
Detecting mass traces at 25 ppm ... OK
Detecting chromatographic peaks in 937 regions of interest ... OK: 75 found.
Detecting mass traces at 25 ppm ... OK
Detecting chromatographic peaks in 1025 regions of interest ... OK: 79 found.
>
> test_check("xcms")
8.00 16.00 24.00 28.00 32.00 40.00 48.00 52.00 56.00 60.00 64.00 72.00 80.00 84.00 88.00 96.00 100.00
8.00 16.00 28.00 32.00 40.00 64.00 80.00 96.00 100.00
8.00 16.00 24.00 28.00 32.00 40.00 48.00 52.00 56.00 60.00 64.00 72.00 80.00 84.00 88.00 96.00 100.00
center sample: ko16
Processing: ko15 ko18
center sample: ko18
Processing: ko15 ko16
center sample: ko18
Processing: ko15 ko16
8.00 16.00 24.00 28.00 32.00 40.00 48.00 52.00 56.00 60.00 64.00 72.00 80.00 84.00 88.00 96.00 100.00
8.00 16.00 24.00 28.00 32.00 40.00 48.00 52.00 56.00 60.00 64.00 72.00 80.00 84.00 88.00 96.00 100.00
8.00 16.00 28.00 32.00 40.00 56.00 64.00 80.00 88.00 96.00 100.00
8.00 16.00 28.00 32.00 40.00 56.00 64.00 80.00 88.00 96.00 100.00
8.00 16.00 24.00 28.00 32.00 40.00 48.00 52.00 56.00 60.00 64.00 72.00 80.00 84.00 88.00 96.00 100.00
8.00 16.00 24.00 28.00 32.00 40.00 48.00 52.00 56.00 60.00 64.00 72.00 80.00 84.00 88.00 96.00 100.00
HAM004_641fE_14-11-07--Exp1.extracted HAM004_641fE_14-11-07--Exp2.extracted
method: bin
step: 0.1
method: bin
step: 0.3
method: binlin
step: 0.2
method: binlinbase
step: 0.2
method: intlin
step: 0.2
center sample: ko15
Processing: ko16
center sample: ko16
Processing: ko15
center sample: ko16
Processing: ko15
center sample: ko16
Processing: ko15
center sample: ko16
Processing: ko15
center sample: ko16
Processing: ko15
center sample: ko16
Processing: ko15
center sample: ko16
Processing: ko15
Comparing peaks...OK
Comparing peaks...OK
Comparing peaks...OK
Comparing peak groups...OK
Comparing peaks...OK
Comparing peak groups...OK
Comparing peaks...OK
Comparing peak groups...OK
══ testthat results ═══════════════════════════════════════════════════════════
OK: 2287 SKIPPED: 4 FAILED: 0
>
> proc.time()
user system elapsed
379.852 14.217 451.634
xcms.Rcheck/xcms-Ex.timings
| name | user | system | elapsed | |
| AutoLockMass-methods | 0.001 | 0.001 | 0.002 | |
| GenericParam | 0.029 | 0.003 | 0.033 | |
| XCMSnExp-class | 6.401 | 2.568 | 5.389 | |
| XCMSnExp-filter-methods | 7.136 | 2.825 | 4.915 | |
| adjustRtime-obiwarp | 7.992 | 2.229 | 7.551 | |
| adjustRtime-peakGroups | 4.649 | 1.952 | 4.324 | |
| applyAdjustedRtime | 3.643 | 1.169 | 3.425 | |
| binYonX | 0.006 | 0.001 | 0.007 | |
| breaks_on_binSize | 0.003 | 0.001 | 0.004 | |
| breaks_on_nBins | 0.001 | 0.000 | 0.001 | |
| chromatogram-method | 3.215 | 1.223 | 2.904 | |
| descendZero | 0.002 | 0.000 | 0.003 | |
| do_findChromPeaks_centWave | 2.232 | 0.192 | 2.426 | |
| do_findChromPeaks_massifquant | 5.004 | 0.341 | 5.345 | |
| do_findChromPeaks_matchedFilter | 3.149 | 0.278 | 3.426 | |
| do_groupChromPeaks_density | 1.384 | 0.064 | 1.449 | |
| extractMsData-method | 3.897 | 1.260 | 3.536 | |
| fillChromPeaks | 11.722 | 4.150 | 10.426 | |
| findChromPeaks-centWave | 4.406 | 1.566 | 3.629 | |
| findChromPeaks-centWaveWithPredIsoROIs | 0.041 | 0.007 | 0.048 | |
| findChromPeaks-massifquant | 10.502 | 2.162 | 6.858 | |
| findChromPeaks-matchedFilter | 2.467 | 0.187 | 2.654 | |
| findMZ | 0.002 | 0.000 | 0.001 | |
| findPeaks-MSW | 1.802 | 0.094 | 1.903 | |
| findPeaks.massifquant-methods | 8.345 | 0.257 | 8.602 | |
| findneutral | 0.001 | 0.000 | 0.001 | |
| group.mzClust | 0.001 | 0.000 | 0.001 | |
| group.nearest | 0.003 | 0.001 | 0.003 | |
| groupChromPeaks-density | 3.120 | 0.141 | 3.261 | |
| groupChromPeaks-mzClust | 1.895 | 0.083 | 1.978 | |
| groupChromPeaks-nearest | 3.224 | 0.130 | 3.353 | |
| highlightChromPeaks | 3.278 | 0.196 | 3.475 | |
| imputeLinInterpol | 0.010 | 0.004 | 0.013 | |
| medianFilter | 0.001 | 0.000 | 0.002 | |
| msn2xcmsRaw | 1.317 | 0.068 | 1.387 | |
| peakTable-methods | 0.001 | 0.000 | 0.001 | |
| phenoDataFromPaths | 0.002 | 0.001 | 0.001 | |
| plotAdjustedRtime | 3.132 | 0.114 | 3.248 | |
| plotChromPeakDensity | 6.873 | 0.155 | 7.029 | |
| plotChromPeaks | 3.684 | 0.184 | 3.872 | |
| plotMsData | 1.123 | 0.037 | 1.163 | |
| plotQC | 1.746 | 0.078 | 1.828 | |
| profGenerate | 0.002 | 0.000 | 0.002 | |
| profMat-xcmsSet | 1.131 | 0.080 | 1.211 | |
| profStep-methods | 0.001 | 0.000 | 0.001 | |
| rectUnique | 0.004 | 0.000 | 0.004 | |
| stitch-methods | 0.002 | 0.000 | 0.002 | |
| sub-xcmsRaw-logicalOrNumeric-missing-missing-method | 0.943 | 0.029 | 0.971 | |
| writeMzTab | 1.401 | 0.069 | 1.469 | |
| xcmsPapply | 0.001 | 0.000 | 0.001 | |
| xcmsRaw | 0.003 | 0.000 | 0.002 | |