| Back to Multiple platform build/check report for BioC 3.7 |
|
This page was generated on 2018-10-17 08:44:39 -0400 (Wed, 17 Oct 2018).
| Package 1541/1561 | Hostname | OS / Arch | INSTALL | BUILD | CHECK | BUILD BIN | ||||||
| vulcan 1.2.0 Federico M. Giorgi
| malbec2 | Linux (Ubuntu 16.04.1 LTS) / x86_64 | OK | OK | OK | |||||||
| tokay2 | Windows Server 2012 R2 Standard / x64 | [ OK ] | OK | OK | OK | |||||||
| merida2 | OS X 10.11.6 El Capitan / x86_64 | OK | OK | OK | OK |
| Package: vulcan |
| Version: 1.2.0 |
| Command: C:\cygwin\bin\curl.exe -O https://malbec2.bioconductor.org/BBS/3.7/bioc/src/contrib/vulcan_1.2.0.tar.gz && rm -rf vulcan.buildbin-libdir && mkdir vulcan.buildbin-libdir && C:\Users\biocbuild\bbs-3.7-bioc\R\bin\R.exe CMD INSTALL --merge-multiarch --build --library=vulcan.buildbin-libdir vulcan_1.2.0.tar.gz && C:\Users\biocbuild\bbs-3.7-bioc\R\bin\R.exe CMD INSTALL vulcan_1.2.0.zip && rm vulcan_1.2.0.tar.gz vulcan_1.2.0.zip |
| StartedAt: 2018-10-16 20:41:06 -0400 (Tue, 16 Oct 2018) |
| EndedAt: 2018-10-16 20:42:05 -0400 (Tue, 16 Oct 2018) |
| EllapsedTime: 58.4 seconds |
| RetCode: 0 |
| Status: OK |
##############################################################################
##############################################################################
###
### Running command:
###
### C:\cygwin\bin\curl.exe -O https://malbec2.bioconductor.org/BBS/3.7/bioc/src/contrib/vulcan_1.2.0.tar.gz && rm -rf vulcan.buildbin-libdir && mkdir vulcan.buildbin-libdir && C:\Users\biocbuild\bbs-3.7-bioc\R\bin\R.exe CMD INSTALL --merge-multiarch --build --library=vulcan.buildbin-libdir vulcan_1.2.0.tar.gz && C:\Users\biocbuild\bbs-3.7-bioc\R\bin\R.exe CMD INSTALL vulcan_1.2.0.zip && rm vulcan_1.2.0.tar.gz vulcan_1.2.0.zip
###
##############################################################################
##############################################################################
% Total % Received % Xferd Average Speed Time Time Time Current
Dload Upload Total Spent Left Speed
0 0 0 0 0 0 0 0 --:--:-- --:--:-- --:--:-- 0
100 144k 100 144k 0 0 1888k 0 --:--:-- --:--:-- --:--:-- 2122k
install for i386
* installing *source* package 'vulcan' ...
** R
** inst
** byte-compile and prepare package for lazy loading
** help
*** installing help indices
converting help for package 'vulcan'
finding HTML links ... done
average_fragment_length html
corr2p html
densityauc html
dpareto html
fisherp html
gsea html
kmgformat html
null_gsea html
p2corr html
p2z html
pareto.fit html
plot_gsea html
ppareto html
rea html
slice html
stouffer html
textplot2 html
val2col html
vulcan html
vulcan.annotate html
vulcan.import html
vulcan.normalize html
vulcan.pathways html
wstouffer html
z2p html
** building package indices
** installing vignettes
** testing if installed package can be loaded
In R CMD INSTALL
install for x64
* installing *source* package 'vulcan' ...
** testing if installed package can be loaded
* MD5 sums
packaged installation of 'vulcan' as vulcan_1.2.0.zip
* DONE (vulcan)
In R CMD INSTALL
In R CMD INSTALL
* installing to library 'C:/Users/biocbuild/bbs-3.7-bioc/R/library'
package 'vulcan' successfully unpacked and MD5 sums checked
In R CMD INSTALL