| Back to Multiple platform build/check report for BioC 3.7 |
|
This page was generated on 2018-10-17 08:33:31 -0400 (Wed, 17 Oct 2018).
| Package 1534/1561 | Hostname | OS / Arch | INSTALL | BUILD | CHECK | BUILD BIN | ||||||
| vbmp 1.48.0 Nicola Lama
| malbec2 | Linux (Ubuntu 16.04.1 LTS) / x86_64 | OK | OK | OK | |||||||
| tokay2 | Windows Server 2012 R2 Standard / x64 | [ OK ] | OK | OK | OK | |||||||
| merida2 | OS X 10.11.6 El Capitan / x86_64 | OK | OK | OK | OK |
| Package: vbmp |
| Version: 1.48.0 |
| Command: C:\cygwin\bin\curl.exe -O https://malbec2.bioconductor.org/BBS/3.7/bioc/src/contrib/vbmp_1.48.0.tar.gz && rm -rf vbmp.buildbin-libdir && mkdir vbmp.buildbin-libdir && C:\Users\biocbuild\bbs-3.7-bioc\R\bin\R.exe CMD INSTALL --merge-multiarch --build --library=vbmp.buildbin-libdir vbmp_1.48.0.tar.gz && C:\Users\biocbuild\bbs-3.7-bioc\R\bin\R.exe CMD INSTALL vbmp_1.48.0.zip && rm vbmp_1.48.0.tar.gz vbmp_1.48.0.zip |
| StartedAt: 2018-10-16 18:30:49 -0400 (Tue, 16 Oct 2018) |
| EndedAt: 2018-10-16 18:31:15 -0400 (Tue, 16 Oct 2018) |
| EllapsedTime: 26.9 seconds |
| RetCode: 0 |
| Status: OK |
##############################################################################
##############################################################################
###
### Running command:
###
### C:\cygwin\bin\curl.exe -O https://malbec2.bioconductor.org/BBS/3.7/bioc/src/contrib/vbmp_1.48.0.tar.gz && rm -rf vbmp.buildbin-libdir && mkdir vbmp.buildbin-libdir && C:\Users\biocbuild\bbs-3.7-bioc\R\bin\R.exe CMD INSTALL --merge-multiarch --build --library=vbmp.buildbin-libdir vbmp_1.48.0.tar.gz && C:\Users\biocbuild\bbs-3.7-bioc\R\bin\R.exe CMD INSTALL vbmp_1.48.0.zip && rm vbmp_1.48.0.tar.gz vbmp_1.48.0.zip
###
##############################################################################
##############################################################################
% Total % Received % Xferd Average Speed Time Time Time Current
Dload Upload Total Spent Left Speed
0 0 0 0 0 0 0 0 --:--:-- --:--:-- --:--:-- 0
0 0 0 0 0 0 0 0 --:--:-- --:--:-- --:--:-- 0
100 1545k 100 1545k 0 0 2335k 0 --:--:-- --:--:-- --:--:-- 2377k
install for i386
* installing *source* package 'vbmp' ...
** R
** data
** byte-compile and prepare package for lazy loading
** help
*** installing help indices
converting help for package 'vbmp'
finding HTML links ... done
BRCA12 html
covParams html
lowerBound html
plotDiagnostics html
predClass html
predError html
predLik html
predictCPP html
vbmp html
** building package indices
** installing vignettes
** testing if installed package can be loaded
In R CMD INSTALL
install for x64
* installing *source* package 'vbmp' ...
** testing if installed package can be loaded
* MD5 sums
packaged installation of 'vbmp' as vbmp_1.48.0.zip
* DONE (vbmp)
In R CMD INSTALL
In R CMD INSTALL
* installing to library 'C:/Users/biocbuild/bbs-3.7-bioc/R/library'
package 'vbmp' successfully unpacked and MD5 sums checked
In R CMD INSTALL