| Back to Multiple platform build/check report for BioC 3.7 |
|
This page was generated on 2018-10-17 08:57:09 -0400 (Wed, 17 Oct 2018).
| Package 1528/1561 | Hostname | OS / Arch | INSTALL | BUILD | CHECK | BUILD BIN | ||||||
| uSORT 1.6.0 Hao Chen
| malbec2 | Linux (Ubuntu 16.04.1 LTS) / x86_64 | OK | OK | WARNINGS | |||||||
| tokay2 | Windows Server 2012 R2 Standard / x64 | OK | OK | WARNINGS | OK | |||||||
| merida2 | OS X 10.11.6 El Capitan / x86_64 | OK | OK | WARNINGS | [ OK ] |
| Package: uSORT |
| Version: 1.6.0 |
| Command: rm -rf uSORT.buildbin-libdir && mkdir uSORT.buildbin-libdir && /Users/biocbuild/BBS/utils/build-universal.sh uSORT_1.6.0.tar.gz /Library/Frameworks/R.framework/Versions/Current/Resources/bin/R uSORT.buildbin-libdir |
| StartedAt: 2018-10-17 02:18:45 -0400 (Wed, 17 Oct 2018) |
| EndedAt: 2018-10-17 02:19:36 -0400 (Wed, 17 Oct 2018) |
| EllapsedTime: 51.0 seconds |
| RetCode: 0 |
| Status: OK |
| PackageFile: uSORT_1.6.0.tgz |
| PackageFileSize: 1.968 MiB |
############################################################################## ############################################################################## ### ### Running command: ### ### rm -rf uSORT.buildbin-libdir && mkdir uSORT.buildbin-libdir && /Users/biocbuild/BBS/utils/build-universal.sh uSORT_1.6.0.tar.gz /Library/Frameworks/R.framework/Versions/Current/Resources/bin/R uSORT.buildbin-libdir ### ############################################################################## ############################################################################## >>>>>>> >>>>>>> INSTALLATION WITH 'R CMD INSTALL --preclean --no-multiarch --library=uSORT.buildbin-libdir uSORT_1.6.0.tar.gz' >>>>>>> * installing *source* package ‘uSORT’ ... ** R ** inst ** byte-compile and prepare package for lazy loading Note: break used in wrong context: no loop is visible ** help *** installing help indices ** building package indices ** installing vignettes ** testing if installed package can be loaded * DONE (uSORT)