| Back to Multiple platform build/check report for BioC 3.7 |
|
This page was generated on 2018-10-17 08:29:57 -0400 (Wed, 17 Oct 2018).
| Package 1520/1561 | Hostname | OS / Arch | INSTALL | BUILD | CHECK | BUILD BIN | ||||||
| twoddpcr 1.4.1 Anthony Chiu
| malbec2 | Linux (Ubuntu 16.04.1 LTS) / x86_64 | OK | OK | [ OK ] | |||||||
| tokay2 | Windows Server 2012 R2 Standard / x64 | OK | OK | OK | OK | |||||||
| merida2 | OS X 10.11.6 El Capitan / x86_64 | OK | OK | OK | OK |
| Package: twoddpcr |
| Version: 1.4.1 |
| Command: /home/biocbuild/bbs-3.7-bioc/R/bin/R CMD check --install=check:twoddpcr.install-out.txt --library=/home/biocbuild/bbs-3.7-bioc/R/library --no-vignettes --timings twoddpcr_1.4.1.tar.gz |
| StartedAt: 2018-10-16 04:21:50 -0400 (Tue, 16 Oct 2018) |
| EndedAt: 2018-10-16 04:23:34 -0400 (Tue, 16 Oct 2018) |
| EllapsedTime: 103.7 seconds |
| RetCode: 0 |
| Status: OK |
| CheckDir: twoddpcr.Rcheck |
| Warnings: 0 |
##############################################################################
##############################################################################
###
### Running command:
###
### /home/biocbuild/bbs-3.7-bioc/R/bin/R CMD check --install=check:twoddpcr.install-out.txt --library=/home/biocbuild/bbs-3.7-bioc/R/library --no-vignettes --timings twoddpcr_1.4.1.tar.gz
###
##############################################################################
##############################################################################
* using log directory ‘/home/biocbuild/bbs-3.7-bioc/meat/twoddpcr.Rcheck’
* using R version 3.5.1 Patched (2018-07-12 r74967)
* using platform: x86_64-pc-linux-gnu (64-bit)
* using session charset: UTF-8
* using option ‘--no-vignettes’
* checking for file ‘twoddpcr/DESCRIPTION’ ... OK
* this is package ‘twoddpcr’ version ‘1.4.1’
* checking package namespace information ... OK
* checking package dependencies ... OK
* checking if this is a source package ... OK
* checking if there is a namespace ... OK
* checking for hidden files and directories ... OK
* checking for portable file names ... OK
* checking for sufficient/correct file permissions ... OK
* checking whether package ‘twoddpcr’ can be installed ... OK
* checking installed package size ... OK
* checking package directory ... OK
* checking ‘build’ directory ... OK
* checking DESCRIPTION meta-information ... OK
* checking top-level files ... OK
* checking for left-over files ... OK
* checking index information ... OK
* checking package subdirectories ... OK
* checking R files for non-ASCII characters ... OK
* checking R files for syntax errors ... OK
* checking whether the package can be loaded ... OK
* checking whether the package can be loaded with stated dependencies ... OK
* checking whether the package can be unloaded cleanly ... OK
* checking whether the namespace can be loaded with stated dependencies ... OK
* checking whether the namespace can be unloaded cleanly ... OK
* checking dependencies in R code ... OK
* checking S3 generic/method consistency ... OK
* checking replacement functions ... OK
* checking foreign function calls ... OK
* checking R code for possible problems ... OK
* checking Rd files ... OK
* checking Rd metadata ... OK
* checking Rd cross-references ... OK
* checking for missing documentation entries ... OK
* checking for code/documentation mismatches ... OK
* checking Rd \usage sections ... OK
* checking Rd contents ... OK
* checking for unstated dependencies in examples ... OK
* checking contents of ‘data’ directory ... OK
* checking data for non-ASCII characters ... OK
* checking data for ASCII and uncompressed saves ... OK
* checking files in ‘vignettes’ ... OK
* checking examples ... OK
Examples with CPU or elapsed time > 5s
user system elapsed
knnClassify 7.792 0.016 7.816
ggplot.well 5.152 0.064 5.224
* checking for unstated dependencies in ‘tests’ ... OK
* checking tests ...
Running ‘testthat.R’
OK
* checking for unstated dependencies in vignettes ... OK
* checking package vignettes in ‘inst/doc’ ... OK
* checking running R code from vignettes ... SKIPPED
* checking re-building of vignette outputs ... SKIPPED
* checking PDF version of manual ... OK
* DONE
Status: OK
twoddpcr.Rcheck/00install.out
############################################################################## ############################################################################## ### ### Running command: ### ### /home/biocbuild/bbs-3.7-bioc/R/bin/R CMD INSTALL twoddpcr ### ############################################################################## ############################################################################## * installing to library ‘/home/biocbuild/bbs-3.7-bioc/R/library’ * installing *source* package ‘twoddpcr’ ... ** R ** data *** moving datasets to lazyload DB ** inst ** byte-compile and prepare package for lazy loading ** help *** installing help indices ** building package indices ** installing vignettes ** testing if installed package can be loaded * DONE (twoddpcr)
twoddpcr.Rcheck/tests/testthat.Rout
R version 3.5.1 Patched (2018-07-12 r74967) -- "Feather Spray"
Copyright (C) 2018 The R Foundation for Statistical Computing
Platform: x86_64-pc-linux-gnu (64-bit)
R is free software and comes with ABSOLUTELY NO WARRANTY.
You are welcome to redistribute it under certain conditions.
Type 'license()' or 'licence()' for distribution details.
R is a collaborative project with many contributors.
Type 'contributors()' for more information and
'citation()' on how to cite R or R packages in publications.
Type 'demo()' for some demos, 'help()' for on-line help, or
'help.start()' for an HTML browser interface to help.
Type 'q()' to quit R.
> library(testthat)
> library(twoddpcr)
>
> test_check("twoddpcr")
══ testthat results ═══════════════════════════════════════════════════════════
OK: 156 SKIPPED: 0 FAILED: 0
>
> proc.time()
user system elapsed
7.312 0.116 7.429
twoddpcr.Rcheck/twoddpcr-Ex.timings
| name | user | system | elapsed | |
| amplitudes | 0.556 | 0.008 | 0.566 | |
| basicsSummary | 0.008 | 0.000 | 0.007 | |
| castSummary | 0.012 | 0.004 | 0.018 | |
| classCov | 0.044 | 0.000 | 0.047 | |
| classMeans | 0.060 | 0.000 | 0.062 | |
| classStats | 0.072 | 0.004 | 0.073 | |
| clusterCentres | 0.884 | 0.012 | 0.895 | |
| copiesSummary | 0.004 | 0.000 | 0.006 | |
| ddpcrPlate-class | 0.408 | 0.000 | 0.424 | |
| ddpcrWell-class | 0.036 | 0.000 | 0.042 | |
| ddpcrWell-methods | 0.404 | 0.000 | 0.403 | |
| dropletPlot | 4.124 | 0.032 | 4.163 | |
| exportTable | 0.112 | 0.008 | 0.144 | |
| extractPlateName | 0.004 | 0.000 | 0.001 | |
| extractWellNames | 0.004 | 0.000 | 0.002 | |
| facetPlot | 2.308 | 0.056 | 2.366 | |
| flatPlot | 4.628 | 0.036 | 4.664 | |
| fullCopiesSummary | 0.152 | 0.004 | 0.156 | |
| fullCountsSummary | 0.028 | 0.004 | 0.031 | |
| ggplot.well | 5.152 | 0.064 | 5.224 | |
| gridClassify | 2.008 | 0.020 | 2.028 | |
| heatPlot | 1.684 | 0.000 | 1.685 | |
| kmeansClassify | 0.996 | 0.004 | 1.004 | |
| knnClassify | 7.792 | 0.016 | 7.816 | |
| mahalanobisRain | 0.660 | 0.000 | 0.657 | |
| mutantCopiesSummary | 0.004 | 0.000 | 0.005 | |
| numDroplets | 0.344 | 0.000 | 0.344 | |
| parseClusterCounts | 0.012 | 0.000 | 0.012 | |
| plateClassification | 1.264 | 0.000 | 1.266 | |
| plateClassificationMethod | 0.428 | 0.000 | 0.430 | |
| plateSummary | 2.284 | 0.000 | 2.286 | |
| positiveCounts | 0.024 | 0.000 | 0.025 | |
| readCSVDataFrame | 0.012 | 0.004 | 0.015 | |
| relabelClasses | 0.076 | 0.000 | 0.078 | |
| removeDropletClasses | 0.696 | 0.000 | 0.697 | |
| renormalisePlate | 4.084 | 0.012 | 4.099 | |
| sdRain | 3.332 | 0.004 | 3.336 | |
| setChannelNames | 0.004 | 0.000 | 0.002 | |
| setDropletVolume | 0.000 | 0.000 | 0.001 | |
| sortDataFrame | 0.004 | 0.000 | 0.002 | |
| sortWells | 0.384 | 0.000 | 0.385 | |
| thresholdClassify | 1.884 | 0.012 | 1.898 | |
| wellClassification | 0.036 | 0.000 | 0.034 | |
| wellClassificationMethod | 0.032 | 0.000 | 0.032 | |
| whiteTheme | 1.348 | 0.032 | 1.379 | |
| wildTypeCopiesSummary | 0.004 | 0.000 | 0.005 | |