| Back to Multiple platform build/check report for BioC 3.7 |
|
This page was generated on 2018-10-17 08:51:30 -0400 (Wed, 17 Oct 2018).
| Package 1508/1561 | Hostname | OS / Arch | INSTALL | BUILD | CHECK | BUILD BIN | ||||||
| triplex 1.20.0 Jiri Hon
| malbec2 | Linux (Ubuntu 16.04.1 LTS) / x86_64 | OK | OK | OK | |||||||
| tokay2 | Windows Server 2012 R2 Standard / x64 | OK | OK | OK | OK | |||||||
| merida2 | OS X 10.11.6 El Capitan / x86_64 | OK | OK | [ OK ] | OK |
| Package: triplex |
| Version: 1.20.0 |
| Command: /Library/Frameworks/R.framework/Versions/Current/Resources/bin/R CMD check --install=check:triplex.install-out.txt --library=/Library/Frameworks/R.framework/Versions/Current/Resources/library --no-vignettes --timings triplex_1.20.0.tar.gz |
| StartedAt: 2018-10-17 00:30:50 -0400 (Wed, 17 Oct 2018) |
| EndedAt: 2018-10-17 00:32:49 -0400 (Wed, 17 Oct 2018) |
| EllapsedTime: 118.9 seconds |
| RetCode: 0 |
| Status: OK |
| CheckDir: triplex.Rcheck |
| Warnings: 0 |
##############################################################################
##############################################################################
###
### Running command:
###
### /Library/Frameworks/R.framework/Versions/Current/Resources/bin/R CMD check --install=check:triplex.install-out.txt --library=/Library/Frameworks/R.framework/Versions/Current/Resources/library --no-vignettes --timings triplex_1.20.0.tar.gz
###
##############################################################################
##############################################################################
* using log directory ‘/Users/biocbuild/bbs-3.7-bioc/meat/triplex.Rcheck’
* using R version 3.5.1 Patched (2018-07-12 r74967)
* using platform: x86_64-apple-darwin15.6.0 (64-bit)
* using session charset: UTF-8
* using option ‘--no-vignettes’
* checking for file ‘triplex/DESCRIPTION’ ... OK
* checking extension type ... Package
* this is package ‘triplex’ version ‘1.20.0’
* checking package namespace information ... OK
* checking package dependencies ... OK
* checking if this is a source package ... OK
* checking if there is a namespace ... OK
* checking for hidden files and directories ... OK
* checking for portable file names ... OK
* checking for sufficient/correct file permissions ... OK
* checking whether package ‘triplex’ can be installed ... OK
* checking installed package size ... OK
* checking package directory ... OK
* checking ‘build’ directory ... OK
* checking DESCRIPTION meta-information ... OK
* checking top-level files ... OK
* checking for left-over files ... OK
* checking index information ... OK
* checking package subdirectories ... OK
* checking R files for non-ASCII characters ... OK
* checking R files for syntax errors ... OK
* checking whether the package can be loaded ... OK
* checking whether the package can be loaded with stated dependencies ... OK
* checking whether the package can be unloaded cleanly ... OK
* checking whether the namespace can be loaded with stated dependencies ... OK
* checking whether the namespace can be unloaded cleanly ... OK
* checking dependencies in R code ... NOTE
'library' or 'require' call to ‘rgl’ in package code.
Please use :: or requireNamespace() instead.
See section 'Suggested packages' in the 'Writing R Extensions' manual.
Unexported object imported by a ':::' call: ‘IRanges:::new_Views’
See the note in ?`:::` about the use of this operator.
* checking S3 generic/method consistency ... OK
* checking replacement functions ... OK
* checking foreign function calls ... OK
* checking R code for possible problems ... NOTE
countBend: no visible global function definition for ‘optimize’
drawBase: no visible global function definition for ‘rgl.triangles’
join: no visible global function definition for ‘rgl.quads’
joinRect: no visible global function definition for ‘rgl.quads’
triplex.3D: no visible global function definition for
‘installed.packages’
triplex.3D: no visible global function definition for ‘nlm’
triplex.3D: no visible global function definition for ‘rgl.bg’
triplex.3D: no visible global function definition for ‘rgl.spheres’
Undefined global functions or variables:
installed.packages nlm optimize rgl.bg rgl.quads rgl.spheres
rgl.triangles
Consider adding
importFrom("stats", "nlm", "optimize")
importFrom("utils", "installed.packages")
to your NAMESPACE file.
* checking Rd files ... OK
* checking Rd metadata ... OK
* checking Rd cross-references ... OK
* checking for missing documentation entries ... OK
* checking for code/documentation mismatches ... OK
* checking Rd \usage sections ... OK
* checking Rd contents ... OK
* checking for unstated dependencies in examples ... OK
* checking line endings in C/C++/Fortran sources/headers ... OK
* checking compiled code ... NOTE
Note: information on .o files is not available
* checking sizes of PDF files under ‘inst/doc’ ... OK
* checking files in ‘vignettes’ ... OK
* checking examples ... OK
* checking for unstated dependencies in vignettes ... OK
* checking package vignettes in ‘inst/doc’ ... OK
* checking running R code from vignettes ... SKIPPED
* checking re-building of vignette outputs ... SKIPPED
* checking PDF version of manual ... OK
* DONE
Status: 3 NOTEs
See
‘/Users/biocbuild/bbs-3.7-bioc/meat/triplex.Rcheck/00check.log’
for details.
triplex.Rcheck/00install.out
############################################################################## ############################################################################## ### ### Running command: ### ### /Library/Frameworks/R.framework/Versions/Current/Resources/bin/R CMD INSTALL triplex ### ############################################################################## ############################################################################## * installing to library ‘/Library/Frameworks/R.framework/Versions/3.5/Resources/library’ * installing *source* package ‘triplex’ ... ** libs clang -I"/Library/Frameworks/R.framework/Resources/include" -DNDEBUG -I"/Library/Frameworks/R.framework/Versions/3.5/Resources/library/S4Vectors/include" -I"/Library/Frameworks/R.framework/Versions/3.5/Resources/library/IRanges/include" -I"/Library/Frameworks/R.framework/Versions/3.5/Resources/library/XVector/include" -I"/Library/Frameworks/R.framework/Versions/3.5/Resources/library/Biostrings/include" -I/usr/local/include -fPIC -Wall -g -O2 -c Biostrings_stubs.c -o Biostrings_stubs.o clang -I"/Library/Frameworks/R.framework/Resources/include" -DNDEBUG -I"/Library/Frameworks/R.framework/Versions/3.5/Resources/library/S4Vectors/include" -I"/Library/Frameworks/R.framework/Versions/3.5/Resources/library/IRanges/include" -I"/Library/Frameworks/R.framework/Versions/3.5/Resources/library/XVector/include" -I"/Library/Frameworks/R.framework/Versions/3.5/Resources/library/Biostrings/include" -I/usr/local/include -fPIC -Wall -g -O2 -c IRanges_stubs.c -o IRanges_stubs.o clang -I"/Library/Frameworks/R.framework/Resources/include" -DNDEBUG -I"/Library/Frameworks/R.framework/Versions/3.5/Resources/library/S4Vectors/include" -I"/Library/Frameworks/R.framework/Versions/3.5/Resources/library/IRanges/include" -I"/Library/Frameworks/R.framework/Versions/3.5/Resources/library/XVector/include" -I"/Library/Frameworks/R.framework/Versions/3.5/Resources/library/Biostrings/include" -I/usr/local/include -fPIC -Wall -g -O2 -c R_init_triplex.c -o R_init_triplex.o clang -I"/Library/Frameworks/R.framework/Resources/include" -DNDEBUG -I"/Library/Frameworks/R.framework/Versions/3.5/Resources/library/S4Vectors/include" -I"/Library/Frameworks/R.framework/Versions/3.5/Resources/library/IRanges/include" -I"/Library/Frameworks/R.framework/Versions/3.5/Resources/library/XVector/include" -I"/Library/Frameworks/R.framework/Versions/3.5/Resources/library/Biostrings/include" -I/usr/local/include -fPIC -Wall -g -O2 -c XVector_stubs.c -o XVector_stubs.o clang -I"/Library/Frameworks/R.framework/Resources/include" -DNDEBUG -I"/Library/Frameworks/R.framework/Versions/3.5/Resources/library/S4Vectors/include" -I"/Library/Frameworks/R.framework/Versions/3.5/Resources/library/IRanges/include" -I"/Library/Frameworks/R.framework/Versions/3.5/Resources/library/XVector/include" -I"/Library/Frameworks/R.framework/Versions/3.5/Resources/library/Biostrings/include" -I/usr/local/include -fPIC -Wall -g -O2 -c align.c -o align.o clang -I"/Library/Frameworks/R.framework/Resources/include" -DNDEBUG -I"/Library/Frameworks/R.framework/Versions/3.5/Resources/library/S4Vectors/include" -I"/Library/Frameworks/R.framework/Versions/3.5/Resources/library/IRanges/include" -I"/Library/Frameworks/R.framework/Versions/3.5/Resources/library/XVector/include" -I"/Library/Frameworks/R.framework/Versions/3.5/Resources/library/Biostrings/include" -I/usr/local/include -fPIC -Wall -g -O2 -c align_interface.c -o align_interface.o clang -I"/Library/Frameworks/R.framework/Resources/include" -DNDEBUG -I"/Library/Frameworks/R.framework/Versions/3.5/Resources/library/S4Vectors/include" -I"/Library/Frameworks/R.framework/Versions/3.5/Resources/library/IRanges/include" -I"/Library/Frameworks/R.framework/Versions/3.5/Resources/library/XVector/include" -I"/Library/Frameworks/R.framework/Versions/3.5/Resources/library/Biostrings/include" -I/usr/local/include -fPIC -Wall -g -O2 -c dl_list.c -o dl_list.o clang -I"/Library/Frameworks/R.framework/Resources/include" -DNDEBUG -I"/Library/Frameworks/R.framework/Versions/3.5/Resources/library/S4Vectors/include" -I"/Library/Frameworks/R.framework/Versions/3.5/Resources/library/IRanges/include" -I"/Library/Frameworks/R.framework/Versions/3.5/Resources/library/XVector/include" -I"/Library/Frameworks/R.framework/Versions/3.5/Resources/library/Biostrings/include" -I/usr/local/include -fPIC -Wall -g -O2 -c interval.c -o interval.o clang -I"/Library/Frameworks/R.framework/Resources/include" -DNDEBUG -I"/Library/Frameworks/R.framework/Versions/3.5/Resources/library/S4Vectors/include" -I"/Library/Frameworks/R.framework/Versions/3.5/Resources/library/IRanges/include" -I"/Library/Frameworks/R.framework/Versions/3.5/Resources/library/XVector/include" -I"/Library/Frameworks/R.framework/Versions/3.5/Resources/library/Biostrings/include" -I/usr/local/include -fPIC -Wall -g -O2 -c libtriplex.c -o libtriplex.o clang -I"/Library/Frameworks/R.framework/Resources/include" -DNDEBUG -I"/Library/Frameworks/R.framework/Versions/3.5/Resources/library/S4Vectors/include" -I"/Library/Frameworks/R.framework/Versions/3.5/Resources/library/IRanges/include" -I"/Library/Frameworks/R.framework/Versions/3.5/Resources/library/XVector/include" -I"/Library/Frameworks/R.framework/Versions/3.5/Resources/library/Biostrings/include" -I/usr/local/include -fPIC -Wall -g -O2 -c progress.c -o progress.o clang -I"/Library/Frameworks/R.framework/Resources/include" -DNDEBUG -I"/Library/Frameworks/R.framework/Versions/3.5/Resources/library/S4Vectors/include" -I"/Library/Frameworks/R.framework/Versions/3.5/Resources/library/IRanges/include" -I"/Library/Frameworks/R.framework/Versions/3.5/Resources/library/XVector/include" -I"/Library/Frameworks/R.framework/Versions/3.5/Resources/library/Biostrings/include" -I/usr/local/include -fPIC -Wall -g -O2 -c search.c -o search.o clang -I"/Library/Frameworks/R.framework/Resources/include" -DNDEBUG -I"/Library/Frameworks/R.framework/Versions/3.5/Resources/library/S4Vectors/include" -I"/Library/Frameworks/R.framework/Versions/3.5/Resources/library/IRanges/include" -I"/Library/Frameworks/R.framework/Versions/3.5/Resources/library/XVector/include" -I"/Library/Frameworks/R.framework/Versions/3.5/Resources/library/Biostrings/include" -I/usr/local/include -fPIC -Wall -g -O2 -c search_interface.c -o search_interface.o clang -dynamiclib -Wl,-headerpad_max_install_names -undefined dynamic_lookup -single_module -multiply_defined suppress -L/Library/Frameworks/R.framework/Resources/lib -L/usr/local/lib -o triplex.so Biostrings_stubs.o IRanges_stubs.o R_init_triplex.o XVector_stubs.o align.o align_interface.o dl_list.o interval.o libtriplex.o progress.o search.o search_interface.o -F/Library/Frameworks/R.framework/.. -framework R -Wl,-framework -Wl,CoreFoundation installing to /Library/Frameworks/R.framework/Versions/3.5/Resources/library/triplex/libs ** R ** inst ** byte-compile and prepare package for lazy loading ** help *** installing help indices *** copying figures ** building package indices ** installing vignettes ** testing if installed package can be loaded * DONE (triplex)
triplex.Rcheck/triplex-Ex.timings
| name | user | system | elapsed | |
| TriplexViews-class | 0.164 | 0.003 | 0.169 | |
| ins | 0.013 | 0.000 | 0.013 | |
| lend | 0.018 | 0.000 | 0.018 | |
| lstart | 0.019 | 0.000 | 0.018 | |
| lwidth | 0.014 | 0.000 | 0.014 | |
| pvalue | 0.035 | 0.000 | 0.036 | |
| triplex-package | 0.073 | 0.001 | 0.075 | |
| triplex.3D | 0.013 | 0.000 | 0.013 | |
| triplex.alignment | 0.025 | 0.001 | 0.025 | |
| triplex.diagram | 0.042 | 0.000 | 0.044 | |
| triplex.group.table | 0.001 | 0.000 | 0.002 | |
| triplex.score.table | 0.001 | 0.001 | 0.002 | |
| triplex.search | 0.105 | 0.002 | 0.107 | |