| Back to Multiple platform build/check report for BioC 3.7 |
|
This page was generated on 2018-10-17 08:41:31 -0400 (Wed, 17 Oct 2018).
| Package 1490/1561 | Hostname | OS / Arch | INSTALL | BUILD | CHECK | BUILD BIN | ||||||
| tofsims 1.8.0 Lorenz Gerber
| malbec2 | Linux (Ubuntu 16.04.1 LTS) / x86_64 | OK | OK | OK | |||||||
| tokay2 | Windows Server 2012 R2 Standard / x64 | OK | [ OK ] | OK | OK | |||||||
| merida2 | OS X 10.11.6 El Capitan / x86_64 | OK | OK | OK | OK |
| Package: tofsims |
| Version: 1.8.0 |
| Command: chmod a+r tofsims -R && C:\Users\biocbuild\bbs-3.7-bioc\R\bin\R.exe CMD build --keep-empty-dirs --no-resave-data tofsims |
| StartedAt: 2018-10-16 22:55:57 -0400 (Tue, 16 Oct 2018) |
| EndedAt: 2018-10-16 22:57:48 -0400 (Tue, 16 Oct 2018) |
| EllapsedTime: 110.2 seconds |
| RetCode: 0 |
| Status: OK |
| PackageFile: tofsims_1.8.0.tar.gz |
| PackageFileSize: 264.8 KiB |
############################################################################## ############################################################################## ### ### Running command: ### ### chmod a+r tofsims -R && C:\Users\biocbuild\bbs-3.7-bioc\R\bin\R.exe CMD build --keep-empty-dirs --no-resave-data tofsims ### ############################################################################## ############################################################################## * checking for file 'tofsims/DESCRIPTION' ... OK * preparing 'tofsims': * checking DESCRIPTION meta-information ... OK * cleaning src * installing the package to build vignettes * creating vignettes ... OK * cleaning src * checking for LF line-endings in source and make files and shell scripts * checking for empty or unneeded directories * building 'tofsims_1.8.0.tar.gz'