| Back to Multiple platform build/check report for BioC 3.7 |
|
This page was generated on 2018-10-17 08:50:16 -0400 (Wed, 17 Oct 2018).
| Package 1474/1561 | Hostname | OS / Arch | INSTALL | BUILD | CHECK | BUILD BIN | ||||||
| ternarynet 1.24.0 Matthew N. McCall
| malbec2 | Linux (Ubuntu 16.04.1 LTS) / x86_64 | OK | OK | OK | |||||||
| tokay2 | Windows Server 2012 R2 Standard / x64 | OK | OK | OK | OK | |||||||
| merida2 | OS X 10.11.6 El Capitan / x86_64 | [ OK ] | OK | OK | OK |
| Package: ternarynet |
| Version: 1.24.0 |
| Command: /Library/Frameworks/R.framework/Versions/Current/Resources/bin/R CMD INSTALL ternarynet |
| StartedAt: 2018-10-16 15:34:50 -0400 (Tue, 16 Oct 2018) |
| EndedAt: 2018-10-16 15:35:37 -0400 (Tue, 16 Oct 2018) |
| EllapsedTime: 46.3 seconds |
| RetCode: 0 |
| Status: OK |
##############################################################################
##############################################################################
###
### Running command:
###
### /Library/Frameworks/R.framework/Versions/Current/Resources/bin/R CMD INSTALL ternarynet
###
##############################################################################
##############################################################################
* installing to library ‘/Library/Frameworks/R.framework/Versions/3.5/Resources/library’
* installing *source* package ‘ternarynet’ ...
** libs
clang++ -I"/Library/Frameworks/R.framework/Resources/include" -DNDEBUG -I/usr/local/include -fPIC -Wall -g -O2 -c tnetfit.cc -o tnetfit.o
tnetfit.cc:73:39: warning: unused variable 'tempi' [-Wunused-variable]
int nOutcomes=3, l0, stage_count, tempi, jtrans, nTransition;
^
1 warning generated.
clang++ -I"/Library/Frameworks/R.framework/Resources/include" -DNDEBUG -I/usr/local/include -fPIC -Wall -g -O2 -c tnetfuncs.cc -o tnetfuncs.o
tnetfuncs.cc:435:5: warning: unused variable 'ipause' [-Wunused-variable]
int ipause;
^
tnetfuncs.cc:427:5: warning: unused variable 'tableWidth' [-Wunused-variable]
int tableWidth = powi(nOutcomes,maxDegree);
^
tnetfuncs.cc:521:16: warning: unused variable 'i' [-Wunused-variable]
int m1, m2, i;
^
tnetfuncs.cc:517:6: warning: unused variable 'ipause' [-Wunused-variable]
int ipause;
^
4 warnings generated.
clang++ -I"/Library/Frameworks/R.framework/Resources/include" -DNDEBUG -I/usr/local/include -fPIC -Wall -g -O2 -c tnetpost.cc -o tnetpost.o
tnetpost.cc:28:42: warning: unused variable 'finalScore' [-Wunused-variable]
double newScore, oldScore, minScore, finalScore;
^
tnetpost.cc:30:9: warning: unused variable 'l0' [-Wunused-variable]
int l0, stage_count, tempi, jtrans, nTransition;
^
tnetpost.cc:30:13: warning: unused variable 'stage_count' [-Wunused-variable]
int l0, stage_count, tempi, jtrans, nTransition;
^
tnetpost.cc:30:33: warning: unused variable 'jtrans' [-Wunused-variable]
int l0, stage_count, tempi, jtrans, nTransition;
^
tnetpost.cc:30:26: warning: unused variable 'tempi' [-Wunused-variable]
int l0, stage_count, tempi, jtrans, nTransition;
^
tnetpost.cc:30:41: warning: unused variable 'nTransition' [-Wunused-variable]
int l0, stage_count, tempi, jtrans, nTransition;
^
tnetpost.cc:25:9: warning: unused variable 'ipause' [-Wunused-variable]
int ipause;
^
tnetpost.cc:27:9: warning: unused variable 'm0fit' [-Wunused-variable]
int m0fit;
^
8 warnings generated.
clang++ -dynamiclib -Wl,-headerpad_max_install_names -undefined dynamic_lookup -single_module -multiply_defined suppress -L/Library/Frameworks/R.framework/Resources/lib -L/usr/local/lib -o ternarynet.so tnetfit.o tnetfuncs.o tnetpost.o -F/Library/Frameworks/R.framework/.. -framework R -Wl,-framework -Wl,CoreFoundation
installing to /Library/Frameworks/R.framework/Versions/3.5/Resources/library/ternarynet/libs
** R
** inst
** byte-compile and prepare package for lazy loading
** help
*** installing help indices
** building package indices
** installing vignettes
** testing if installed package can be loaded
* DONE (ternarynet)