| Back to Multiple platform build/check report for BioC 3.7 |
|
This page was generated on 2018-10-17 08:39:15 -0400 (Wed, 17 Oct 2018).
| Package 1462/1561 | Hostname | OS / Arch | INSTALL | BUILD | CHECK | BUILD BIN | ||||||
| systemPipeR 1.14.0 Thomas Girke
| malbec2 | Linux (Ubuntu 16.04.1 LTS) / x86_64 | OK | OK | OK | |||||||
| tokay2 | Windows Server 2012 R2 Standard / x64 | OK | [ OK ] | OK | OK | |||||||
| merida2 | OS X 10.11.6 El Capitan / x86_64 | OK | OK | OK | OK |
| Package: systemPipeR |
| Version: 1.14.0 |
| Command: chmod a+r systemPipeR -R && C:\Users\biocbuild\bbs-3.7-bioc\R\bin\R.exe CMD build --keep-empty-dirs --no-resave-data systemPipeR |
| StartedAt: 2018-10-16 22:26:23 -0400 (Tue, 16 Oct 2018) |
| EndedAt: 2018-10-16 22:28:19 -0400 (Tue, 16 Oct 2018) |
| EllapsedTime: 116.1 seconds |
| RetCode: 0 |
| Status: OK |
| PackageFile: systemPipeR_1.14.0.tar.gz |
| PackageFileSize: 4.825 MiB |
##############################################################################
##############################################################################
###
### Running command:
###
### chmod a+r systemPipeR -R && C:\Users\biocbuild\bbs-3.7-bioc\R\bin\R.exe CMD build --keep-empty-dirs --no-resave-data systemPipeR
###
##############################################################################
##############################################################################
* checking for file 'systemPipeR/DESCRIPTION' ... OK
* preparing 'systemPipeR':
* checking DESCRIPTION meta-information ... OK
* installing the package to build vignettes
* creating vignettes ... OK
Warning: 'inst/doc' files
'systemPipeRIBOseq.R', 'systemPipeRNAseq.R'
ignored as vignettes have been rebuilt.
Run R CMD build with --no-build-vignettes to prevent rebuilding.
* checking for LF line-endings in source and make files and shell scripts
* checking for empty or unneeded directories
* building 'systemPipeR_1.14.0.tar.gz'