| Back to Multiple platform build/check report for BioC 3.7 |
|
This page was generated on 2018-10-17 08:43:29 -0400 (Wed, 17 Oct 2018).
| Package 1455/1561 | Hostname | OS / Arch | INSTALL | BUILD | CHECK | BUILD BIN | ||||||
| swfdr 1.6.0 Simina M. Boca
| malbec2 | Linux (Ubuntu 16.04.1 LTS) / x86_64 | OK | OK | OK | |||||||
| tokay2 | Windows Server 2012 R2 Standard / x64 | OK | [ OK ] | OK | OK | |||||||
| merida2 | OS X 10.11.6 El Capitan / x86_64 | OK | OK | OK | OK |
| Package: swfdr |
| Version: 1.6.0 |
| Command: chmod a+r swfdr -R && C:\Users\biocbuild\bbs-3.7-bioc\R\bin\R.exe CMD build --keep-empty-dirs --no-resave-data swfdr |
| StartedAt: 2018-10-16 23:36:11 -0400 (Tue, 16 Oct 2018) |
| EndedAt: 2018-10-16 23:37:14 -0400 (Tue, 16 Oct 2018) |
| EllapsedTime: 63.1 seconds |
| RetCode: 0 |
| Status: OK |
| PackageFile: swfdr_1.6.0.tar.gz |
| PackageFileSize: 958.8 KiB |
##############################################################################
##############################################################################
###
### Running command:
###
### chmod a+r swfdr -R && C:\Users\biocbuild\bbs-3.7-bioc\R\bin\R.exe CMD build --keep-empty-dirs --no-resave-data swfdr
###
##############################################################################
##############################################################################
* checking for file 'swfdr/DESCRIPTION' ... OK
* preparing 'swfdr':
* checking DESCRIPTION meta-information ... OK
* installing the package to build vignettes
* creating vignettes ... OK
Warning: 'inst/doc' files
'swfdrTutorial.pdf', 'swfdrTutorial.R'
ignored as vignettes have been rebuilt.
Run R CMD build with --no-build-vignettes to prevent rebuilding.
* checking for LF line-endings in source and make files and shell scripts
* checking for empty or unneeded directories
* looking to see if a 'data/datalist' file should be added
* building 'swfdr_1.6.0.tar.gz'