| Back to Multiple platform build/check report for BioC 3.7 |
|
This page was generated on 2018-10-17 08:36:18 -0400 (Wed, 17 Oct 2018).
| Package 1435/1561 | Hostname | OS / Arch | INSTALL | BUILD | CHECK | BUILD BIN | ||||||
| staRank 1.22.0 Juliane Siebourg
| malbec2 | Linux (Ubuntu 16.04.1 LTS) / x86_64 | OK | OK | OK | |||||||
| tokay2 | Windows Server 2012 R2 Standard / x64 | OK | OK | OK | [ OK ] | |||||||
| merida2 | OS X 10.11.6 El Capitan / x86_64 | OK | OK | OK | OK |
| Package: staRank |
| Version: 1.22.0 |
| Command: rm -rf staRank.buildbin-libdir && mkdir staRank.buildbin-libdir && C:\Users\biocbuild\bbs-3.7-bioc\R\bin\R.exe CMD INSTALL --merge-multiarch --build --library=staRank.buildbin-libdir staRank_1.22.0.tar.gz |
| StartedAt: 2018-10-17 07:02:36 -0400 (Wed, 17 Oct 2018) |
| EndedAt: 2018-10-17 07:03:10 -0400 (Wed, 17 Oct 2018) |
| EllapsedTime: 33.7 seconds |
| RetCode: 0 |
| Status: OK |
| PackageFile: staRank_1.22.0.zip |
| PackageFileSize: 753.1 KiB |
##############################################################################
##############################################################################
###
### Running command:
###
### rm -rf staRank.buildbin-libdir && mkdir staRank.buildbin-libdir && C:\Users\biocbuild\bbs-3.7-bioc\R\bin\R.exe CMD INSTALL --merge-multiarch --build --library=staRank.buildbin-libdir staRank_1.22.0.tar.gz
###
##############################################################################
##############################################################################
install for i386
* installing *source* package 'staRank' ...
** R
** data
** inst
** byte-compile and prepare package for lazy loading
** help
*** installing help indices
converting help for package 'staRank'
finding HTML links ... done
Pi-methods html
RankSummary-class html
aggregRank html
avrgRank-methods html
baseRank-methods html
dataFormatRSA html
getRankmatrix html
getSampleScores-methods html
getStability html
method-methods html
mwTest2samp html
rankCor-methods html
runRSA html
salmonellaInfection html
salmonellaStability html
show-methods html
staRank-package html
stabRank-methods html
stabilityRanking-methods html
stableSetSize-methods html
summary-methods html
summaryStats-methods html
uniqueRSARanking html
** building package indices
** installing vignettes
** testing if installed package can be loaded
In R CMD INSTALL
install for x64
* installing *source* package 'staRank' ...
** testing if installed package can be loaded
* MD5 sums
packaged installation of 'staRank' as staRank_1.22.0.zip
* DONE (staRank)
In R CMD INSTALL
In R CMD INSTALL