| Back to Multiple platform build/check report for BioC 3.7 |
|
This page was generated on 2018-10-17 08:38:46 -0400 (Wed, 17 Oct 2018).
| Package 1432/1561 | Hostname | OS / Arch | INSTALL | BUILD | CHECK | BUILD BIN | ||||||
| ssviz 1.14.0 Diana Low
| malbec2 | Linux (Ubuntu 16.04.1 LTS) / x86_64 | OK | OK | OK | |||||||
| tokay2 | Windows Server 2012 R2 Standard / x64 | [ OK ] | OK | OK | OK | |||||||
| merida2 | OS X 10.11.6 El Capitan / x86_64 | OK | OK | OK | OK |
| Package: ssviz |
| Version: 1.14.0 |
| Command: C:\cygwin\bin\curl.exe -O https://malbec2.bioconductor.org/BBS/3.7/bioc/src/contrib/ssviz_1.14.0.tar.gz && rm -rf ssviz.buildbin-libdir && mkdir ssviz.buildbin-libdir && C:\Users\biocbuild\bbs-3.7-bioc\R\bin\R.exe CMD INSTALL --merge-multiarch --build --library=ssviz.buildbin-libdir ssviz_1.14.0.tar.gz && C:\Users\biocbuild\bbs-3.7-bioc\R\bin\R.exe CMD INSTALL ssviz_1.14.0.zip && rm ssviz_1.14.0.tar.gz ssviz_1.14.0.zip |
| StartedAt: 2018-10-16 19:34:29 -0400 (Tue, 16 Oct 2018) |
| EndedAt: 2018-10-16 19:35:10 -0400 (Tue, 16 Oct 2018) |
| EllapsedTime: 40.9 seconds |
| RetCode: 0 |
| Status: OK |
##############################################################################
##############################################################################
###
### Running command:
###
### C:\cygwin\bin\curl.exe -O https://malbec2.bioconductor.org/BBS/3.7/bioc/src/contrib/ssviz_1.14.0.tar.gz && rm -rf ssviz.buildbin-libdir && mkdir ssviz.buildbin-libdir && C:\Users\biocbuild\bbs-3.7-bioc\R\bin\R.exe CMD INSTALL --merge-multiarch --build --library=ssviz.buildbin-libdir ssviz_1.14.0.tar.gz && C:\Users\biocbuild\bbs-3.7-bioc\R\bin\R.exe CMD INSTALL ssviz_1.14.0.zip && rm ssviz_1.14.0.tar.gz ssviz_1.14.0.zip
###
##############################################################################
##############################################################################
% Total % Received % Xferd Average Speed Time Time Time Current
Dload Upload Total Spent Left Speed
0 0 0 0 0 0 0 0 --:--:-- --:--:-- --:--:-- 0
100 822k 100 822k 0 0 12.3M 0 --:--:-- --:--:-- --:--:-- 13.8M
install for i386
* installing *source* package 'ssviz' ...
** R
** data
** inst
** byte-compile and prepare package for lazy loading
** help
*** installing help indices
converting help for package 'ssviz'
finding HTML links ... done
counts html
ctrlbam html
getCountMatrix-methods html
getCountMatrix html
logicalORmissing-class html
ntfreq-methods html
ntfreq html
pctrlbam html
pingpong-methods html
pingpong html
plotDistro-methods html
plotDistro html
plotFreq-methods html
plotFreq html
plotPP-methods html
plotPP html
plotRegion-methods html
plotRegion html
ptreatbam html
readBam-methods html
readBam html
ssviz-package html
treatbam html
** building package indices
** installing vignettes
** testing if installed package can be loaded
In R CMD INSTALL
install for x64
* installing *source* package 'ssviz' ...
** testing if installed package can be loaded
* MD5 sums
packaged installation of 'ssviz' as ssviz_1.14.0.zip
* DONE (ssviz)
In R CMD INSTALL
In R CMD INSTALL
* installing to library 'C:/Users/biocbuild/bbs-3.7-bioc/R/library'
package 'ssviz' successfully unpacked and MD5 sums checked
In R CMD INSTALL