| Back to Multiple platform build/check report for BioC 3.7 |
|
This page was generated on 2018-10-17 08:40:25 -0400 (Wed, 17 Oct 2018).
| Package 1400/1561 | Hostname | OS / Arch | INSTALL | BUILD | CHECK | BUILD BIN | ||||||
| soGGi 1.12.0 Tom Carroll
| malbec2 | Linux (Ubuntu 16.04.1 LTS) / x86_64 | OK | OK | WARNINGS | |||||||
| tokay2 | Windows Server 2012 R2 Standard / x64 | [ OK ] | OK | WARNINGS | OK | |||||||
| merida2 | OS X 10.11.6 El Capitan / x86_64 | OK | OK | WARNINGS | OK |
| Package: soGGi |
| Version: 1.12.0 |
| Command: C:\cygwin\bin\curl.exe -O https://malbec2.bioconductor.org/BBS/3.7/bioc/src/contrib/soGGi_1.12.0.tar.gz && rm -rf soGGi.buildbin-libdir && mkdir soGGi.buildbin-libdir && C:\Users\biocbuild\bbs-3.7-bioc\R\bin\R.exe CMD INSTALL --merge-multiarch --build --library=soGGi.buildbin-libdir soGGi_1.12.0.tar.gz && C:\Users\biocbuild\bbs-3.7-bioc\R\bin\R.exe CMD INSTALL soGGi_1.12.0.zip && rm soGGi_1.12.0.tar.gz soGGi_1.12.0.zip |
| StartedAt: 2018-10-16 20:02:09 -0400 (Tue, 16 Oct 2018) |
| EndedAt: 2018-10-16 20:03:01 -0400 (Tue, 16 Oct 2018) |
| EllapsedTime: 52.5 seconds |
| RetCode: 0 |
| Status: OK |
##############################################################################
##############################################################################
###
### Running command:
###
### C:\cygwin\bin\curl.exe -O https://malbec2.bioconductor.org/BBS/3.7/bioc/src/contrib/soGGi_1.12.0.tar.gz && rm -rf soGGi.buildbin-libdir && mkdir soGGi.buildbin-libdir && C:\Users\biocbuild\bbs-3.7-bioc\R\bin\R.exe CMD INSTALL --merge-multiarch --build --library=soGGi.buildbin-libdir soGGi_1.12.0.tar.gz && C:\Users\biocbuild\bbs-3.7-bioc\R\bin\R.exe CMD INSTALL soGGi_1.12.0.zip && rm soGGi_1.12.0.tar.gz soGGi_1.12.0.zip
###
##############################################################################
##############################################################################
% Total % Received % Xferd Average Speed Time Time Time Current
Dload Upload Total Spent Left Speed
0 0 0 0 0 0 0 0 --:--:-- --:--:-- --:--:-- 0
100 3358k 100 3358k 0 0 40.5M 0 --:--:-- --:--:-- --:--:-- 44.3M
install for i386
* installing *source* package 'soGGi' ...
** R
** data
** inst
** byte-compile and prepare package for lazy loading
Warning: replacing previous import 'ggplot2::Position' by 'BiocGenerics::Position' when loading 'soGGi'
** help
*** installing help indices
converting help for package 'soGGi'
finding HTML links ... done
ChIPprofile html
Ops html
chipExampleBig html
findconsensusRegions html
groupByOverlaps html
ik_Example html
ik_Profiles html
manipulateObjects html
normalise html
normaliseQuantiles html
orientBy html
plotRegion html
pwmCov html
pwmToCoverage html
singleGRange html
** building package indices
** installing vignettes
'soggi.Rnw'
** testing if installed package can be loaded
Warning: replacing previous import 'ggplot2::Position' by 'BiocGenerics::Position' when loading 'soGGi'
In R CMD INSTALL
install for x64
* installing *source* package 'soGGi' ...
** testing if installed package can be loaded
Warning: replacing previous import 'ggplot2::Position' by 'BiocGenerics::Position' when loading 'soGGi'
* MD5 sums
packaged installation of 'soGGi' as soGGi_1.12.0.zip
* DONE (soGGi)
In R CMD INSTALL
In R CMD INSTALL
* installing to library 'C:/Users/biocbuild/bbs-3.7-bioc/R/library'
package 'soGGi' successfully unpacked and MD5 sums checked
In R CMD INSTALL