| Back to Multiple platform build/check report for BioC 3.7 |
|
This page was generated on 2018-10-17 08:40:34 -0400 (Wed, 17 Oct 2018).
| Package 1376/1561 | Hostname | OS / Arch | INSTALL | BUILD | CHECK | BUILD BIN | ||||||
| similaRpeak 1.12.0 Astrid Deschenes
| malbec2 | Linux (Ubuntu 16.04.1 LTS) / x86_64 | OK | OK | OK | |||||||
| tokay2 | Windows Server 2012 R2 Standard / x64 | OK | OK | OK | [ OK ] | |||||||
| merida2 | OS X 10.11.6 El Capitan / x86_64 | OK | OK | OK | OK |
| Package: similaRpeak |
| Version: 1.12.0 |
| Command: rm -rf similaRpeak.buildbin-libdir && mkdir similaRpeak.buildbin-libdir && C:\Users\biocbuild\bbs-3.7-bioc\R\bin\R.exe CMD INSTALL --merge-multiarch --build --library=similaRpeak.buildbin-libdir similaRpeak_1.12.0.tar.gz |
| StartedAt: 2018-10-17 07:00:16 -0400 (Wed, 17 Oct 2018) |
| EndedAt: 2018-10-17 07:00:31 -0400 (Wed, 17 Oct 2018) |
| EllapsedTime: 15.7 seconds |
| RetCode: 0 |
| Status: OK |
| PackageFile: similaRpeak_1.12.0.zip |
| PackageFileSize: 1.051 MiB |
##############################################################################
##############################################################################
###
### Running command:
###
### rm -rf similaRpeak.buildbin-libdir && mkdir similaRpeak.buildbin-libdir && C:\Users\biocbuild\bbs-3.7-bioc\R\bin\R.exe CMD INSTALL --merge-multiarch --build --library=similaRpeak.buildbin-libdir similaRpeak_1.12.0.tar.gz
###
##############################################################################
##############################################################################
install for i386
* installing *source* package 'similaRpeak' ...
** R
** data
** inst
** byte-compile and prepare package for lazy loading
** help
*** installing help indices
converting help for package 'similaRpeak'
finding HTML links ... done
DiffPosMax html
Metric html
MetricFactory html
RatioArea html
RatioIntersect html
RatioMaxMax html
RatioNormalizedIntersect html
SpearmanCorrelation html
chr7Profiles html
demoProfiles html
diffPosMaxMethod html
ratioAreaMethod html
ratioIntersectMethod html
ratioMaxMaxMethod html
similaRpeak-package html
similarity html
spearmanCorrMethod html
** building package indices
** installing vignettes
** testing if installed package can be loaded
In R CMD INSTALL
install for x64
* installing *source* package 'similaRpeak' ...
** testing if installed package can be loaded
* MD5 sums
packaged installation of 'similaRpeak' as similaRpeak_1.12.0.zip
* DONE (similaRpeak)
In R CMD INSTALL
In R CMD INSTALL