| Back to Multiple platform build/check report for BioC 3.7 |
|
This page was generated on 2018-10-17 08:42:26 -0400 (Wed, 17 Oct 2018).
| Package 1368/1561 | Hostname | OS / Arch | INSTALL | BUILD | CHECK | BUILD BIN | ||||||
| sights 1.6.0 Elika Garg
| malbec2 | Linux (Ubuntu 16.04.1 LTS) / x86_64 | OK | OK | OK | |||||||
| tokay2 | Windows Server 2012 R2 Standard / x64 | [ OK ] | OK | WARNINGS | OK | |||||||
| merida2 | OS X 10.11.6 El Capitan / x86_64 | OK | OK | OK | OK |
| Package: sights |
| Version: 1.6.0 |
| Command: C:\cygwin\bin\curl.exe -O https://malbec2.bioconductor.org/BBS/3.7/bioc/src/contrib/sights_1.6.0.tar.gz && rm -rf sights.buildbin-libdir && mkdir sights.buildbin-libdir && C:\Users\biocbuild\bbs-3.7-bioc\R\bin\R.exe CMD INSTALL --merge-multiarch --build --library=sights.buildbin-libdir sights_1.6.0.tar.gz && C:\Users\biocbuild\bbs-3.7-bioc\R\bin\R.exe CMD INSTALL sights_1.6.0.zip && rm sights_1.6.0.tar.gz sights_1.6.0.zip |
| StartedAt: 2018-10-16 19:07:11 -0400 (Tue, 16 Oct 2018) |
| EndedAt: 2018-10-16 19:07:51 -0400 (Tue, 16 Oct 2018) |
| EllapsedTime: 40.2 seconds |
| RetCode: 0 |
| Status: OK |
##############################################################################
##############################################################################
###
### Running command:
###
### C:\cygwin\bin\curl.exe -O https://malbec2.bioconductor.org/BBS/3.7/bioc/src/contrib/sights_1.6.0.tar.gz && rm -rf sights.buildbin-libdir && mkdir sights.buildbin-libdir && C:\Users\biocbuild\bbs-3.7-bioc\R\bin\R.exe CMD INSTALL --merge-multiarch --build --library=sights.buildbin-libdir sights_1.6.0.tar.gz && C:\Users\biocbuild\bbs-3.7-bioc\R\bin\R.exe CMD INSTALL sights_1.6.0.zip && rm sights_1.6.0.tar.gz sights_1.6.0.zip
###
##############################################################################
##############################################################################
% Total % Received % Xferd Average Speed Time Time Time Current
Dload Upload Total Spent Left Speed
0 0 0 0 0 0 0 0 --:--:-- --:--:-- --:--:-- 0
100 2443k 100 2443k 0 0 28.0M 0 --:--:-- --:--:-- --:--:-- 30.5M
install for i386
* installing *source* package 'sights' ...
** R
** data
*** moving datasets to lazyload DB
** inst
** byte-compile and prepare package for lazy loading
** help
*** installing help indices
converting help for package 'sights'
finding HTML links ... done
ex_dataMatrix html
inglese html
normLoess html
normMedFil html
normR html
normRobZ html
normSPAWN html
normSights html
normZ html
plot3d html
plotAutoco html
plotBox html
plotHeatmap html
plotHist html
plotIGFit html
Rd warning: C:/Users/biocbuild/bbs-3.7-bioc/tmpdir/RtmpaiCbE3/R.INSTALLe18b647a85/sights/man/plotIGFit.Rd:19: file link 'geom_step' in package 'ggplot2' does not exist and so has been treated as a topic
plotScatter html
plotSights html
statFDR html
statRVM html
statSights html
statT html
** building package indices
** installing vignettes
** testing if installed package can be loaded
In R CMD INSTALL
install for x64
* installing *source* package 'sights' ...
** testing if installed package can be loaded
* MD5 sums
packaged installation of 'sights' as sights_1.6.0.zip
* DONE (sights)
In R CMD INSTALL
In R CMD INSTALL
* installing to library 'C:/Users/biocbuild/bbs-3.7-bioc/R/library'
package 'sights' successfully unpacked and MD5 sums checked
In R CMD INSTALL