| Back to Multiple platform build/check report for BioC 3.7 |
|
This page was generated on 2018-10-17 08:43:50 -0400 (Wed, 17 Oct 2018).
| Package 1339/1561 | Hostname | OS / Arch | INSTALL | BUILD | CHECK | BUILD BIN | ||||||
| semisup 1.4.0 Armin Rauschenberger
| malbec2 | Linux (Ubuntu 16.04.1 LTS) / x86_64 | OK | OK | OK | |||||||
| tokay2 | Windows Server 2012 R2 Standard / x64 | [ OK ] | OK | OK | OK | |||||||
| merida2 | OS X 10.11.6 El Capitan / x86_64 | OK | OK | OK | OK |
| Package: semisup |
| Version: 1.4.0 |
| Command: C:\cygwin\bin\curl.exe -O https://malbec2.bioconductor.org/BBS/3.7/bioc/src/contrib/semisup_1.4.0.tar.gz && rm -rf semisup.buildbin-libdir && mkdir semisup.buildbin-libdir && C:\Users\biocbuild\bbs-3.7-bioc\R\bin\R.exe CMD INSTALL --merge-multiarch --build --library=semisup.buildbin-libdir semisup_1.4.0.tar.gz && C:\Users\biocbuild\bbs-3.7-bioc\R\bin\R.exe CMD INSTALL semisup_1.4.0.zip && rm semisup_1.4.0.tar.gz semisup_1.4.0.zip |
| StartedAt: 2018-10-16 19:32:09 -0400 (Tue, 16 Oct 2018) |
| EndedAt: 2018-10-16 19:32:38 -0400 (Tue, 16 Oct 2018) |
| EllapsedTime: 28.6 seconds |
| RetCode: 0 |
| Status: OK |
##############################################################################
##############################################################################
###
### Running command:
###
### C:\cygwin\bin\curl.exe -O https://malbec2.bioconductor.org/BBS/3.7/bioc/src/contrib/semisup_1.4.0.tar.gz && rm -rf semisup.buildbin-libdir && mkdir semisup.buildbin-libdir && C:\Users\biocbuild\bbs-3.7-bioc\R\bin\R.exe CMD INSTALL --merge-multiarch --build --library=semisup.buildbin-libdir semisup_1.4.0.tar.gz && C:\Users\biocbuild\bbs-3.7-bioc\R\bin\R.exe CMD INSTALL semisup_1.4.0.zip && rm semisup_1.4.0.tar.gz semisup_1.4.0.zip
###
##############################################################################
##############################################################################
% Total % Received % Xferd Average Speed Time Time Time Current
Dload Upload Total Spent Left Speed
0 0 0 0 0 0 0 0 --:--:-- --:--:-- --:--:-- 0
100 54869 100 54869 0 0 734k 0 --:--:-- --:--:-- --:--:-- 811k
install for i386
* installing *source* package 'semisup' ...
** R
** data
*** moving datasets to lazyload DB
** inst
** byte-compile and prepare package for lazy loading
** help
*** installing help indices
converting help for package 'semisup'
finding HTML links ... done
arguments html
debug html
estim.nbinom html
fit.nbinom html
fit.norm html
fit.wrap html
fit.zinb html
internal html
mixtura html
resam.lrts html
scrutor html
semisup-package html
table html
toydata html
** building package indices
** installing vignettes
** testing if installed package can be loaded
In R CMD INSTALL
install for x64
* installing *source* package 'semisup' ...
** testing if installed package can be loaded
* MD5 sums
packaged installation of 'semisup' as semisup_1.4.0.zip
* DONE (semisup)
In R CMD INSTALL
In R CMD INSTALL
* installing to library 'C:/Users/biocbuild/bbs-3.7-bioc/R/library'
package 'semisup' successfully unpacked and MD5 sums checked
In R CMD INSTALL