| Back to Multiple platform build/check report for BioC 3.7 |
|
This page was generated on 2018-10-17 08:52:35 -0400 (Wed, 17 Oct 2018).
| Package 1334/1561 | Hostname | OS / Arch | INSTALL | BUILD | CHECK | BUILD BIN | ||||||
| scsR 1.16.0 Andrea Franceschini
| malbec2 | Linux (Ubuntu 16.04.1 LTS) / x86_64 | OK | OK | OK | |||||||
| tokay2 | Windows Server 2012 R2 Standard / x64 | OK | OK | OK | OK | |||||||
| merida2 | OS X 10.11.6 El Capitan / x86_64 | OK | OK | [ OK ] | OK |
| Package: scsR |
| Version: 1.16.0 |
| Command: /Library/Frameworks/R.framework/Versions/Current/Resources/bin/R CMD check --install=check:scsR.install-out.txt --library=/Library/Frameworks/R.framework/Versions/Current/Resources/library --no-vignettes --timings scsR_1.16.0.tar.gz |
| StartedAt: 2018-10-16 23:58:14 -0400 (Tue, 16 Oct 2018) |
| EndedAt: 2018-10-17 00:01:09 -0400 (Wed, 17 Oct 2018) |
| EllapsedTime: 174.1 seconds |
| RetCode: 0 |
| Status: OK |
| CheckDir: scsR.Rcheck |
| Warnings: 0 |
##############################################################################
##############################################################################
###
### Running command:
###
### /Library/Frameworks/R.framework/Versions/Current/Resources/bin/R CMD check --install=check:scsR.install-out.txt --library=/Library/Frameworks/R.framework/Versions/Current/Resources/library --no-vignettes --timings scsR_1.16.0.tar.gz
###
##############################################################################
##############################################################################
* using log directory ‘/Users/biocbuild/bbs-3.7-bioc/meat/scsR.Rcheck’
* using R version 3.5.1 Patched (2018-07-12 r74967)
* using platform: x86_64-apple-darwin15.6.0 (64-bit)
* using session charset: UTF-8
* using option ‘--no-vignettes’
* checking for file ‘scsR/DESCRIPTION’ ... OK
* checking extension type ... Package
* this is package ‘scsR’ version ‘1.16.0’
* checking package namespace information ... OK
* checking package dependencies ... NOTE
Depends: includes the non-default packages:
‘STRINGdb’ ‘BiocGenerics’ ‘Biostrings’ ‘IRanges’ ‘plyr’ ‘tcltk’
Adding so many packages to the search path is excessive and importing
selectively is preferable.
* checking if this is a source package ... OK
* checking if there is a namespace ... OK
* checking for hidden files and directories ... OK
* checking for portable file names ... OK
* checking for sufficient/correct file permissions ... OK
* checking whether package ‘scsR’ can be installed ... OK
* checking installed package size ... OK
* checking package directory ... OK
* checking ‘build’ directory ... OK
* checking DESCRIPTION meta-information ... OK
* checking top-level files ... OK
* checking for left-over files ... OK
* checking index information ... OK
* checking package subdirectories ... OK
* checking R files for non-ASCII characters ... OK
* checking R files for syntax errors ... OK
* checking whether the package can be loaded ... OK
* checking whether the package can be loaded with stated dependencies ... OK
* checking whether the package can be unloaded cleanly ... OK
* checking whether the namespace can be loaded with stated dependencies ... OK
* checking whether the namespace can be unloaded cleanly ... OK
* checking dependencies in R code ... OK
* checking S3 generic/method consistency ... OK
* checking replacement functions ... OK
* checking foreign function calls ... OK
* checking R code for possible problems ... NOTE
OPIrsaScore : <anonymous>: no visible global function definition for
‘phyper’
enrichment_geneSet: no visible global function definition for ‘phyper’
enrichment_heatmap: no visible global function definition for
‘heatmap.2’
get_seed_oligos_df: no visible global function definition for
‘txtProgressBar’
get_seed_oligos_df: no visible global function definition for
‘setTxtProgressBar’
get_seed_oligos_df: no visible global function definition for ‘phyper’
get_seed_oligos_df: no visible global function definition for ‘ks.test’
plot_seed_score_sd: no visible global function definition for ‘lm’
plot_seed_score_sd: no visible global function definition for
‘cor.test’
seed_correction: no visible global function definition for
‘txtProgressBar’
seed_correction: no visible global function definition for
‘setTxtProgressBar’
seed_correction_pooled: no visible global function definition for
‘txtProgressBar’
seed_correction_pooled: no visible global function definition for
‘setTxtProgressBar’
seed_removal: no visible global function definition for
‘txtProgressBar’
seed_removal: no visible global function definition for
‘setTxtProgressBar’
seeds_analysis : <anonymous>: no visible global function definition for
‘ks.test’
seeds_analysis: no visible global function definition for ‘phyper’
transcribe_seqs: no visible global function definition for
‘txtProgressBar’
transcribe_seqs: no visible global function definition for
‘setTxtProgressBar’
Undefined global functions or variables:
cor.test heatmap.2 ks.test lm phyper setTxtProgressBar txtProgressBar
Consider adding
importFrom("stats", "cor.test", "ks.test", "lm", "phyper")
importFrom("utils", "setTxtProgressBar", "txtProgressBar")
to your NAMESPACE file.
* checking Rd files ... OK
* checking Rd metadata ... OK
* checking Rd cross-references ... OK
* checking for missing documentation entries ... OK
* checking for code/documentation mismatches ... OK
* checking Rd \usage sections ... OK
* checking Rd contents ... OK
* checking for unstated dependencies in examples ... OK
* checking contents of ‘data’ directory ... OK
* checking data for non-ASCII characters ... OK
* checking data for ASCII and uncompressed saves ... OK
* checking sizes of PDF files under ‘inst/doc’ ... OK
* checking files in ‘vignettes’ ... OK
* checking examples ... OK
Examples with CPU or elapsed time > 5s
user system elapsed
compare_sorted_geneSets 23.26 1.461 24.697
* checking for unstated dependencies in vignettes ... OK
* checking package vignettes in ‘inst/doc’ ... OK
* checking running R code from vignettes ... SKIPPED
* checking re-building of vignette outputs ... SKIPPED
* checking PDF version of manual ... OK
* DONE
Status: 2 NOTEs
See
‘/Users/biocbuild/bbs-3.7-bioc/meat/scsR.Rcheck/00check.log’
for details.
scsR.Rcheck/00install.out
############################################################################## ############################################################################## ### ### Running command: ### ### /Library/Frameworks/R.framework/Versions/Current/Resources/bin/R CMD INSTALL scsR ### ############################################################################## ############################################################################## * installing to library ‘/Library/Frameworks/R.framework/Versions/3.5/Resources/library’ * installing *source* package ‘scsR’ ... ** R ** data ** byte-compile and prepare package for lazy loading ** help *** installing help indices ** building package indices ** installing vignettes ** testing if installed package can be loaded * DONE (scsR)
scsR.Rcheck/scsR-Ex.timings
| name | user | system | elapsed | |
| add_rank_col | 0.620 | 0.046 | 0.667 | |
| add_seed | 0.261 | 0.009 | 0.274 | |
| benchmark_shared_hits | 2.380 | 0.146 | 2.544 | |
| bydf | 0.513 | 0.025 | 0.539 | |
| check_consistency | 1.851 | 0.065 | 1.959 | |
| compare_sorted_geneSets | 23.260 | 1.461 | 24.697 | |
| create_sd_matrix | 0.411 | 0.022 | 0.436 | |
| delColDf | 0.236 | 0.008 | 0.248 | |
| delete_undefined_rows | 0.487 | 0.019 | 0.511 | |
| enrichment_geneSet | 0.491 | 0.023 | 0.526 | |
| enrichment_heatmap | 0.504 | 0.016 | 0.525 | |
| get_sd_quant | 1.472 | 0.090 | 1.564 | |
| get_seed_oligos_df | 1.141 | 0.064 | 1.203 | |
| intersectAll | 0.003 | 0.001 | 0.003 | |
| launch_RSA | 0.570 | 0.028 | 0.601 | |
| median_replicates | 0.914 | 0.045 | 0.969 | |
| plot_screen_hits | 2.569 | 0.152 | 2.718 | |
| plot_seeds_methods | 3.301 | 0.231 | 3.542 | |
| randomSortOnVal | 0.244 | 0.010 | 0.258 | |
| randomizeInner | 0.263 | 0.009 | 0.272 | |
| removeSharedOffTargets | 1.079 | 0.031 | 1.111 | |
| renameColDf | 0.240 | 0.007 | 0.247 | |
| replace_non_null_elements | 0.230 | 0.007 | 0.238 | |
| seed_correction | 0.664 | 0.037 | 0.706 | |
| seed_correction_pooled | 0.695 | 0.038 | 0.729 | |
| seed_removal | 0.538 | 0.021 | 0.560 | |
| seeds_analysis | 1.964 | 0.108 | 2.064 | |
| sortInner | 0.336 | 0.017 | 0.353 | |
| split_df | 0.272 | 0.010 | 0.283 | |
| transcribe_seqs | 0.404 | 0.017 | 0.422 | |