| Back to Multiple platform build/check report for BioC 3.7 |
|
This page was generated on 2018-10-17 08:38:21 -0400 (Wed, 17 Oct 2018).
| Package 1314/1561 | Hostname | OS / Arch | INSTALL | BUILD | CHECK | BUILD BIN | ||||||
| sapFinder 1.18.0 Shaohang Xu
| malbec2 | Linux (Ubuntu 16.04.1 LTS) / x86_64 | OK | OK | OK | |||||||
| tokay2 | Windows Server 2012 R2 Standard / x64 | [ OK ] | OK | OK | OK | |||||||
| merida2 | OS X 10.11.6 El Capitan / x86_64 | OK | OK | OK | OK |
| Package: sapFinder |
| Version: 1.18.0 |
| Command: C:\cygwin\bin\curl.exe -O https://malbec2.bioconductor.org/BBS/3.7/bioc/src/contrib/sapFinder_1.18.0.tar.gz && rm -rf sapFinder.buildbin-libdir && mkdir sapFinder.buildbin-libdir && C:\Users\biocbuild\bbs-3.7-bioc\R\bin\R.exe CMD INSTALL --merge-multiarch --build --library=sapFinder.buildbin-libdir sapFinder_1.18.0.tar.gz && C:\Users\biocbuild\bbs-3.7-bioc\R\bin\R.exe CMD INSTALL sapFinder_1.18.0.zip && rm sapFinder_1.18.0.tar.gz sapFinder_1.18.0.zip |
| StartedAt: 2018-10-16 18:45:51 -0400 (Tue, 16 Oct 2018) |
| EndedAt: 2018-10-16 18:47:24 -0400 (Tue, 16 Oct 2018) |
| EllapsedTime: 92.6 seconds |
| RetCode: 0 |
| Status: OK |
##############################################################################
##############################################################################
###
### Running command:
###
### C:\cygwin\bin\curl.exe -O https://malbec2.bioconductor.org/BBS/3.7/bioc/src/contrib/sapFinder_1.18.0.tar.gz && rm -rf sapFinder.buildbin-libdir && mkdir sapFinder.buildbin-libdir && C:\Users\biocbuild\bbs-3.7-bioc\R\bin\R.exe CMD INSTALL --merge-multiarch --build --library=sapFinder.buildbin-libdir sapFinder_1.18.0.tar.gz && C:\Users\biocbuild\bbs-3.7-bioc\R\bin\R.exe CMD INSTALL sapFinder_1.18.0.zip && rm sapFinder_1.18.0.tar.gz sapFinder_1.18.0.zip
###
##############################################################################
##############################################################################
% Total % Received % Xferd Average Speed Time Time Time Current
Dload Upload Total Spent Left Speed
0 0 0 0 0 0 0 0 --:--:-- --:--:-- --:--:-- 0
100 4483k 100 4483k 0 0 34.7M 0 --:--:-- --:--:-- --:--:-- 36.7M
install for i386
* installing *source* package 'sapFinder' ...
** libs
C:/Rtools/mingw_32/bin/g++ -I"C:/Users/BIOCBU˜1/BBS-3˜1.7-B/R/include" -DNDEBUG -I"C:/Users/biocbuild/bbs-3.7-bioc/R/library/Rcpp/include" -I"C:/extsoft/include" -O2 -Wall -mtune=generic -c dataHandle.cpp -o dataHandle.o
C:/Rtools/mingw_32/bin/g++ -shared -s -static-libgcc -o sapFinder.dll tmp.def dataHandle.o -LC:/extsoft/lib/i386 -LC:/extsoft/lib -LC:/Users/BIOCBU˜1/BBS-3˜1.7-B/R/bin/i386 -lR
installing to C:/Users/biocbuild/bbs-3.7-bioc/meat/sapFinder.buildbin-libdir/sapFinder/libs/i386
** R
** inst
** byte-compile and prepare package for lazy loading
** help
*** installing help indices
converting help for package 'sapFinder'
finding HTML links ... done
dbCreator html
easyRun html
parserGear html
reportCreator html
runTandem html
** building package indices
** installing vignettes
** testing if installed package can be loaded
In R CMD INSTALL
install for x64
* installing *source* package 'sapFinder' ...
** libs
C:/Rtools/mingw_64/bin/g++ -I"C:/Users/BIOCBU˜1/BBS-3˜1.7-B/R/include" -DNDEBUG -I"C:/Users/biocbuild/bbs-3.7-bioc/R/library/Rcpp/include" -I"C:/extsoft/include" -O2 -Wall -mtune=generic -c dataHandle.cpp -o dataHandle.o
C:/Rtools/mingw_64/bin/g++ -shared -s -static-libgcc -o sapFinder.dll tmp.def dataHandle.o -LC:/extsoft/lib/x64 -LC:/extsoft/lib -LC:/Users/BIOCBU˜1/BBS-3˜1.7-B/R/bin/x64 -lR
installing to C:/Users/biocbuild/bbs-3.7-bioc/meat/sapFinder.buildbin-libdir/sapFinder/libs/x64
** testing if installed package can be loaded
* MD5 sums
packaged installation of 'sapFinder' as sapFinder_1.18.0.zip
* DONE (sapFinder)
In R CMD INSTALL
In R CMD INSTALL
* installing to library 'C:/Users/biocbuild/bbs-3.7-bioc/R/library'
package 'sapFinder' successfully unpacked and MD5 sums checked
In R CMD INSTALL