| Back to Multiple platform build/check report for BioC 3.7 |
|
This page was generated on 2018-10-17 08:46:29 -0400 (Wed, 17 Oct 2018).
| Package 1307/1561 | Hostname | OS / Arch | INSTALL | BUILD | CHECK | BUILD BIN | ||||||
| sagenhaft 1.50.0 Tim Beissbarth
| malbec2 | Linux (Ubuntu 16.04.1 LTS) / x86_64 | OK | OK | OK | |||||||
| tokay2 | Windows Server 2012 R2 Standard / x64 | OK | OK | OK | OK | |||||||
| merida2 | OS X 10.11.6 El Capitan / x86_64 | OK | OK | OK | [ OK ] |
| Package: sagenhaft |
| Version: 1.50.0 |
| Command: rm -rf sagenhaft.buildbin-libdir && mkdir sagenhaft.buildbin-libdir && /Users/biocbuild/BBS/utils/build-universal.sh sagenhaft_1.50.0.tar.gz /Library/Frameworks/R.framework/Versions/Current/Resources/bin/R sagenhaft.buildbin-libdir |
| StartedAt: 2018-10-17 02:05:42 -0400 (Wed, 17 Oct 2018) |
| EndedAt: 2018-10-17 02:06:23 -0400 (Wed, 17 Oct 2018) |
| EllapsedTime: 40.9 seconds |
| RetCode: 0 |
| Status: OK |
| PackageFile: sagenhaft_1.50.0.tgz |
| PackageFileSize: 2.633 MiB |
############################################################################## ############################################################################## ### ### Running command: ### ### rm -rf sagenhaft.buildbin-libdir && mkdir sagenhaft.buildbin-libdir && /Users/biocbuild/BBS/utils/build-universal.sh sagenhaft_1.50.0.tar.gz /Library/Frameworks/R.framework/Versions/Current/Resources/bin/R sagenhaft.buildbin-libdir ### ############################################################################## ############################################################################## >>>>>>> >>>>>>> INSTALLATION WITH 'R CMD INSTALL --preclean --no-multiarch --library=sagenhaft.buildbin-libdir sagenhaft_1.50.0.tar.gz' >>>>>>> * installing *source* package ‘sagenhaft’ ... ** R ** data ** inst ** byte-compile and prepare package for lazy loading ** help *** installing help indices ** building package indices ** installing vignettes ** testing if installed package can be loaded * DONE (sagenhaft)