| Back to Multiple platform build/check report for BioC 3.7 |
|
This page was generated on 2018-10-17 08:43:35 -0400 (Wed, 17 Oct 2018).
| Package 1277/1561 | Hostname | OS / Arch | INSTALL | BUILD | CHECK | BUILD BIN | ||||||
| rqt 1.6.0 Ilya Y. Zhbannikov
| malbec2 | Linux (Ubuntu 16.04.1 LTS) / x86_64 | OK | OK | OK | |||||||
| tokay2 | Windows Server 2012 R2 Standard / x64 | [ OK ] | OK | OK | OK | |||||||
| merida2 | OS X 10.11.6 El Capitan / x86_64 | OK | OK | OK | OK |
| Package: rqt |
| Version: 1.6.0 |
| Command: C:\cygwin\bin\curl.exe -O https://malbec2.bioconductor.org/BBS/3.7/bioc/src/contrib/rqt_1.6.0.tar.gz && rm -rf rqt.buildbin-libdir && mkdir rqt.buildbin-libdir && C:\Users\biocbuild\bbs-3.7-bioc\R\bin\R.exe CMD INSTALL --merge-multiarch --build --library=rqt.buildbin-libdir rqt_1.6.0.tar.gz && C:\Users\biocbuild\bbs-3.7-bioc\R\bin\R.exe CMD INSTALL rqt_1.6.0.zip && rm rqt_1.6.0.tar.gz rqt_1.6.0.zip |
| StartedAt: 2018-10-16 20:17:20 -0400 (Tue, 16 Oct 2018) |
| EndedAt: 2018-10-16 20:18:43 -0400 (Tue, 16 Oct 2018) |
| EllapsedTime: 83.2 seconds |
| RetCode: 0 |
| Status: OK |
##############################################################################
##############################################################################
###
### Running command:
###
### C:\cygwin\bin\curl.exe -O https://malbec2.bioconductor.org/BBS/3.7/bioc/src/contrib/rqt_1.6.0.tar.gz && rm -rf rqt.buildbin-libdir && mkdir rqt.buildbin-libdir && C:\Users\biocbuild\bbs-3.7-bioc\R\bin\R.exe CMD INSTALL --merge-multiarch --build --library=rqt.buildbin-libdir rqt_1.6.0.tar.gz && C:\Users\biocbuild\bbs-3.7-bioc\R\bin\R.exe CMD INSTALL rqt_1.6.0.zip && rm rqt_1.6.0.tar.gz rqt_1.6.0.zip
###
##############################################################################
##############################################################################
% Total % Received % Xferd Average Speed Time Time Time Current
Dload Upload Total Spent Left Speed
0 0 0 0 0 0 0 0 --:--:-- --:--:-- --:--:-- 0
100 374k 100 374k 0 0 5501k 0 --:--:-- --:--:-- --:--:-- 6137k
install for i386
* installing *source* package 'rqt' ...
** R
** inst
** byte-compile and prepare package for lazy loading
** help
*** installing help indices
converting help for package 'rqt'
finding HTML links ... done
build.null.model html
get.a html
preprocess html
rqt-class html
rqt-covariates html
rqt-geneTest html
rqt-geneTestMeta html
rqt-general html
rqt-genotype html
rqt-methods html
rqt-phenotype html
rqt-results html
simple.multvar.reg html
vcov_ridge html
** building package indices
** installing vignettes
** testing if installed package can be loaded
In R CMD INSTALL
install for x64
* installing *source* package 'rqt' ...
** testing if installed package can be loaded
* MD5 sums
packaged installation of 'rqt' as rqt_1.6.0.zip
* DONE (rqt)
In R CMD INSTALL
In R CMD INSTALL
* installing to library 'C:/Users/biocbuild/bbs-3.7-bioc/R/library'
package 'rqt' successfully unpacked and MD5 sums checked
In R CMD INSTALL