| Back to Multiple platform build/check report for BioC 3.7 |
|
This page was generated on 2018-10-17 08:44:37 -0400 (Wed, 17 Oct 2018).
| Package 1224/1561 | Hostname | OS / Arch | INSTALL | BUILD | CHECK | BUILD BIN | ||||||
| restfulSE 1.2.3 Shweta Gopaulakrishnan
| malbec2 | Linux (Ubuntu 16.04.1 LTS) / x86_64 | OK | OK | OK | |||||||
| tokay2 | Windows Server 2012 R2 Standard / x64 | [ OK ] | OK | OK | OK | |||||||
| merida2 | OS X 10.11.6 El Capitan / x86_64 | OK | OK | OK | OK |
| Package: restfulSE |
| Version: 1.2.3 |
| Command: C:\cygwin\bin\curl.exe -O https://malbec2.bioconductor.org/BBS/3.7/bioc/src/contrib/restfulSE_1.2.3.tar.gz && rm -rf restfulSE.buildbin-libdir && mkdir restfulSE.buildbin-libdir && C:\Users\biocbuild\bbs-3.7-bioc\R\bin\R.exe CMD INSTALL --merge-multiarch --build --library=restfulSE.buildbin-libdir restfulSE_1.2.3.tar.gz && C:\Users\biocbuild\bbs-3.7-bioc\R\bin\R.exe CMD INSTALL restfulSE_1.2.3.zip && rm restfulSE_1.2.3.tar.gz restfulSE_1.2.3.zip |
| StartedAt: 2018-10-16 19:33:13 -0400 (Tue, 16 Oct 2018) |
| EndedAt: 2018-10-16 19:34:11 -0400 (Tue, 16 Oct 2018) |
| EllapsedTime: 58.2 seconds |
| RetCode: 0 |
| Status: OK |
##############################################################################
##############################################################################
###
### Running command:
###
### C:\cygwin\bin\curl.exe -O https://malbec2.bioconductor.org/BBS/3.7/bioc/src/contrib/restfulSE_1.2.3.tar.gz && rm -rf restfulSE.buildbin-libdir && mkdir restfulSE.buildbin-libdir && C:\Users\biocbuild\bbs-3.7-bioc\R\bin\R.exe CMD INSTALL --merge-multiarch --build --library=restfulSE.buildbin-libdir restfulSE_1.2.3.tar.gz && C:\Users\biocbuild\bbs-3.7-bioc\R\bin\R.exe CMD INSTALL restfulSE_1.2.3.zip && rm restfulSE_1.2.3.tar.gz restfulSE_1.2.3.zip
###
##############################################################################
##############################################################################
% Total % Received % Xferd Average Speed Time Time Time Current
Dload Upload Total Spent Left Speed
0 0 0 0 0 0 0 0 --:--:-- --:--:-- --:--:-- 0
100 598k 100 598k 0 0 9683k 0 --:--:-- --:--:-- --:--:-- 10.6M
install for i386
Warning in untar2(tarfile, files, list, exdir, restore_times) :
restoring symbolic link as a file copy
* installing *source* package 'restfulSE' ...
** R
** byte-compile and prepare package for lazy loading
** help
*** installing help indices
converting help for package 'restfulSE'
finding HTML links ... done
BQ3_Array-class html
BQ3_Array html
BQ3_ArraySeed-class html
BQ3_Matrix-class html
BQ3_Source-class html
BQ3_Source html
BQM_Array-class html
BQM_Array html
BQM_ArraySeed-class html
BQM_Matrix-class html
BQM_Source-class html
BQM_Source html
BQSummarizedExperiment html
RESTfulSummarizedExperiment-class html
RESTfulSummarizedExperiment html
assay-BQSummarizedExperiment-missing-method
html
assayNames-BQSummarizedExperiment-method
html
assays-RESTfulSummarizedExperiment-method
html
bqConn html
cgcConn html
dim-BQ3_ArraySeed-method html
dim-BQM_ArraySeed-method html
dim-RESTfulSummarizedExperiment-method
html
dimnames-BQ3_ArraySeed-method html
dimnames-BQM_ArraySeed-method html
goPatt html
gtexTiss html
isbCgcDatasets html
isbCgcTables html
pancan_SE html
se100k html
seByTumor html
seByTumor_2016 html
tasicCortex html
** building package indices
** installing vignettes
** testing if installed package can be loaded
In R CMD INSTALL
install for x64
Warning in untar2(tarfile, files, list, exdir, restore_times) :
restoring symbolic link as a file copy
* installing *source* package 'restfulSE' ...
** testing if installed package can be loaded
* MD5 sums
packaged installation of 'restfulSE' as restfulSE_1.2.3.zip
* DONE (restfulSE)
In R CMD INSTALL
In R CMD INSTALL
* installing to library 'C:/Users/biocbuild/bbs-3.7-bioc/R/library'
package 'restfulSE' successfully unpacked and MD5 sums checked
In R CMD INSTALL