| Back to Multiple platform build/check report for BioC 3.7 |
|
This page was generated on 2018-10-17 08:57:24 -0400 (Wed, 17 Oct 2018).
| Package 1219/1561 | Hostname | OS / Arch | INSTALL | BUILD | CHECK | BUILD BIN | ||||||
| regsplice 1.6.0 Lukas M. Weber
| malbec2 | Linux (Ubuntu 16.04.1 LTS) / x86_64 | OK | OK | OK | |||||||
| tokay2 | Windows Server 2012 R2 Standard / x64 | OK | OK | WARNINGS | OK | |||||||
| merida2 | OS X 10.11.6 El Capitan / x86_64 | OK | OK | OK | [ OK ] |
| Package: regsplice |
| Version: 1.6.0 |
| Command: rm -rf regsplice.buildbin-libdir && mkdir regsplice.buildbin-libdir && /Users/biocbuild/BBS/utils/build-universal.sh regsplice_1.6.0.tar.gz /Library/Frameworks/R.framework/Versions/Current/Resources/bin/R regsplice.buildbin-libdir |
| StartedAt: 2018-10-17 02:00:24 -0400 (Wed, 17 Oct 2018) |
| EndedAt: 2018-10-17 02:01:49 -0400 (Wed, 17 Oct 2018) |
| EllapsedTime: 85.9 seconds |
| RetCode: 0 |
| Status: OK |
| PackageFile: regsplice_1.6.0.tgz |
| PackageFileSize: 424.5 KiB |
############################################################################## ############################################################################## ### ### Running command: ### ### rm -rf regsplice.buildbin-libdir && mkdir regsplice.buildbin-libdir && /Users/biocbuild/BBS/utils/build-universal.sh regsplice_1.6.0.tar.gz /Library/Frameworks/R.framework/Versions/Current/Resources/bin/R regsplice.buildbin-libdir ### ############################################################################## ############################################################################## >>>>>>> >>>>>>> INSTALLATION WITH 'R CMD INSTALL --preclean --no-multiarch --library=regsplice.buildbin-libdir regsplice_1.6.0.tar.gz' >>>>>>> * installing *source* package ‘regsplice’ ... ** R ** inst ** byte-compile and prepare package for lazy loading ** help *** installing help indices ** building package indices ** installing vignettes ** testing if installed package can be loaded * DONE (regsplice)