| Back to Multiple platform build/check report for BioC 3.7 |
|
This page was generated on 2018-10-17 08:40:17 -0400 (Wed, 17 Oct 2018).
| Package 1217/1561 | Hostname | OS / Arch | INSTALL | BUILD | CHECK | BUILD BIN | ||||||
| regioneR 1.12.0 Bernat Gel
| malbec2 | Linux (Ubuntu 16.04.1 LTS) / x86_64 | OK | OK | OK | |||||||
| tokay2 | Windows Server 2012 R2 Standard / x64 | OK | OK | OK | [ OK ] | |||||||
| merida2 | OS X 10.11.6 El Capitan / x86_64 | OK | OK | OK | OK |
| Package: regioneR |
| Version: 1.12.0 |
| Command: rm -rf regioneR.buildbin-libdir && mkdir regioneR.buildbin-libdir && C:\Users\biocbuild\bbs-3.7-bioc\R\bin\R.exe CMD INSTALL --merge-multiarch --build --library=regioneR.buildbin-libdir regioneR_1.12.0.tar.gz |
| StartedAt: 2018-10-17 06:52:55 -0400 (Wed, 17 Oct 2018) |
| EndedAt: 2018-10-17 06:53:28 -0400 (Wed, 17 Oct 2018) |
| EllapsedTime: 33.0 seconds |
| RetCode: 0 |
| Status: OK |
| PackageFile: regioneR_1.12.0.zip |
| PackageFileSize: 1.057 MiB |
##############################################################################
##############################################################################
###
### Running command:
###
### rm -rf regioneR.buildbin-libdir && mkdir regioneR.buildbin-libdir && C:\Users\biocbuild\bbs-3.7-bioc\R\bin\R.exe CMD INSTALL --merge-multiarch --build --library=regioneR.buildbin-libdir regioneR_1.12.0.tar.gz
###
##############################################################################
##############################################################################
install for i386
* installing *source* package 'regioneR' ...
** R
** inst
** byte-compile and prepare package for lazy loading
** help
*** installing help indices
converting help for package 'regioneR'
finding HTML links ... done
characterToBSGenome html
finding level-2 HTML links ... done
circularRandomizeRegions html
commonRegions html
createFunctionsList html
createRandomRegions html
emptyCacheRegioneR html
extendRegions html
filterChromosomes html
getChromosomesByOrganism html
getGenome html
getGenomeAndMask html
getMask html
joinRegions html
listChrTypes html
localZScore html
maskFromBSGenome html
meanDistance html
meanInRegions html
mergeRegions html
numOverlaps html
overlapGraphicalSummary html
overlapPermTest html
overlapRegions html
permTest html
plot.localZScoreResults html
plot.localZScoreResultsList html
plot.permTestResults html
plot.permTestResultsList html
plotRegions html
print.permTestResults html
randomizeRegions html
recomputePermTest html
resampleRegions html
splitRegions html
subtractRegions html
summary.permTestResults html
summary.permTestResultsList html
toDataframe html
toGRanges html
uniqueRegions html
** building package indices
** installing vignettes
** testing if installed package can be loaded
In R CMD INSTALL
install for x64
* installing *source* package 'regioneR' ...
** testing if installed package can be loaded
* MD5 sums
packaged installation of 'regioneR' as regioneR_1.12.0.zip
* DONE (regioneR)
In R CMD INSTALL
In R CMD INSTALL