| Back to Multiple platform build/check report for BioC 3.7 |
|
This page was generated on 2018-10-17 08:33:14 -0400 (Wed, 17 Oct 2018).
| Package 1191/1561 | Hostname | OS / Arch | INSTALL | BUILD | CHECK | BUILD BIN | ||||||
| rbsurv 2.38.0 Soo-heang Eo
| malbec2 | Linux (Ubuntu 16.04.1 LTS) / x86_64 | OK | OK | OK | |||||||
| tokay2 | Windows Server 2012 R2 Standard / x64 | OK | OK | OK | [ OK ] | |||||||
| merida2 | OS X 10.11.6 El Capitan / x86_64 | OK | OK | OK | OK |
| Package: rbsurv |
| Version: 2.38.0 |
| Command: rm -rf rbsurv.buildbin-libdir && mkdir rbsurv.buildbin-libdir && C:\Users\biocbuild\bbs-3.7-bioc\R\bin\R.exe CMD INSTALL --merge-multiarch --build --library=rbsurv.buildbin-libdir rbsurv_2.38.0.tar.gz |
| StartedAt: 2018-10-17 06:51:21 -0400 (Wed, 17 Oct 2018) |
| EndedAt: 2018-10-17 06:51:33 -0400 (Wed, 17 Oct 2018) |
| EllapsedTime: 12.1 seconds |
| RetCode: 0 |
| Status: OK |
| PackageFile: rbsurv_2.38.0.zip |
| PackageFileSize: 281.3 KiB |
##############################################################################
##############################################################################
###
### Running command:
###
### rm -rf rbsurv.buildbin-libdir && mkdir rbsurv.buildbin-libdir && C:\Users\biocbuild\bbs-3.7-bioc\R\bin\R.exe CMD INSTALL --merge-multiarch --build --library=rbsurv.buildbin-libdir rbsurv_2.38.0.tar.gz
###
##############################################################################
##############################################################################
install for i386
* installing *source* package 'rbsurv' ...
** R
** data
** inst
** byte-compile and prepare package for lazy loading
** help
*** installing help indices
converting help for package 'rbsurv'
finding HTML links ... done
gliomaSet html
rbsurv html
rbsurv.default html
** building package indices
** installing vignettes
** testing if installed package can be loaded
In R CMD INSTALL
install for x64
* installing *source* package 'rbsurv' ...
** testing if installed package can be loaded
* MD5 sums
packaged installation of 'rbsurv' as rbsurv_2.38.0.zip
* DONE (rbsurv)
In R CMD INSTALL
In R CMD INSTALL