| Back to Multiple platform build/check report for BioC 3.7 |
|
This page was generated on 2018-10-17 08:33:10 -0400 (Wed, 17 Oct 2018).
| Package 1240/1561 | Hostname | OS / Arch | INSTALL | BUILD | CHECK | BUILD BIN | ||||||
| rHVDM 1.46.0 Martino Barenco
| malbec2 | Linux (Ubuntu 16.04.1 LTS) / x86_64 | OK | OK | WARNINGS | |||||||
| tokay2 | Windows Server 2012 R2 Standard / x64 | OK | OK | WARNINGS | [ OK ] | |||||||
| merida2 | OS X 10.11.6 El Capitan / x86_64 | OK | OK | WARNINGS | OK |
| Package: rHVDM |
| Version: 1.46.0 |
| Command: rm -rf rHVDM.buildbin-libdir && mkdir rHVDM.buildbin-libdir && C:\Users\biocbuild\bbs-3.7-bioc\R\bin\R.exe CMD INSTALL --merge-multiarch --build --library=rHVDM.buildbin-libdir rHVDM_1.46.0.tar.gz |
| StartedAt: 2018-10-17 06:53:57 -0400 (Wed, 17 Oct 2018) |
| EndedAt: 2018-10-17 06:54:12 -0400 (Wed, 17 Oct 2018) |
| EllapsedTime: 14.6 seconds |
| RetCode: 0 |
| Status: OK |
| PackageFile: rHVDM_1.46.0.zip |
| PackageFileSize: 5.58 MiB |
##############################################################################
##############################################################################
###
### Running command:
###
### rm -rf rHVDM.buildbin-libdir && mkdir rHVDM.buildbin-libdir && C:\Users\biocbuild\bbs-3.7-bioc\R\bin\R.exe CMD INSTALL --merge-multiarch --build --library=rHVDM.buildbin-libdir rHVDM_1.46.0.tar.gz
###
##############################################################################
##############################################################################
install for i386
* installing *source* package 'rHVDM' ...
** R
** data
** inst
** byte-compile and prepare package for lazy loading
Note: break used in wrong context: no loop is visible
** help
*** installing help indices
converting help for package 'rHVDM'
finding HTML links ... done
HVDMcheck html
HVDMreport html
estimerrors html
fitgene html
fitgene.lin html
fitgene.nl html
fiveGyMAS5 html
genestoscreen html
leastnoisychips html
p53traingenes html
rHVDMplattforms html
screening html
screening.nl html
training html
training.nl html
twodosesMAS5 html
** building package indices
** installing vignettes
** testing if installed package can be loaded
In R CMD INSTALL
install for x64
* installing *source* package 'rHVDM' ...
** testing if installed package can be loaded
* MD5 sums
packaged installation of 'rHVDM' as rHVDM_1.46.0.zip
* DONE (rHVDM)
In R CMD INSTALL
In R CMD INSTALL