| Back to Multiple platform build/check report for BioC 3.7 |
|
This page was generated on 2018-10-17 08:40:49 -0400 (Wed, 17 Oct 2018).
| Package 1196/1561 | Hostname | OS / Arch | INSTALL | BUILD | CHECK | BUILD BIN | ||||||
| rCGH 1.10.0 Frederic Commo
| malbec2 | Linux (Ubuntu 16.04.1 LTS) / x86_64 | OK | OK | OK | |||||||
| tokay2 | Windows Server 2012 R2 Standard / x64 | [ OK ] | OK | WARNINGS | OK | |||||||
| merida2 | OS X 10.11.6 El Capitan / x86_64 | OK | OK | OK | OK |
| Package: rCGH |
| Version: 1.10.0 |
| Command: C:\cygwin\bin\curl.exe -O https://malbec2.bioconductor.org/BBS/3.7/bioc/src/contrib/rCGH_1.10.0.tar.gz && rm -rf rCGH.buildbin-libdir && mkdir rCGH.buildbin-libdir && C:\Users\biocbuild\bbs-3.7-bioc\R\bin\R.exe CMD INSTALL --merge-multiarch --build --library=rCGH.buildbin-libdir rCGH_1.10.0.tar.gz && C:\Users\biocbuild\bbs-3.7-bioc\R\bin\R.exe CMD INSTALL rCGH_1.10.0.zip && rm rCGH_1.10.0.tar.gz rCGH_1.10.0.zip |
| StartedAt: 2018-10-16 19:57:35 -0400 (Tue, 16 Oct 2018) |
| EndedAt: 2018-10-16 19:59:04 -0400 (Tue, 16 Oct 2018) |
| EllapsedTime: 88.8 seconds |
| RetCode: 0 |
| Status: OK |
##############################################################################
##############################################################################
###
### Running command:
###
### C:\cygwin\bin\curl.exe -O https://malbec2.bioconductor.org/BBS/3.7/bioc/src/contrib/rCGH_1.10.0.tar.gz && rm -rf rCGH.buildbin-libdir && mkdir rCGH.buildbin-libdir && C:\Users\biocbuild\bbs-3.7-bioc\R\bin\R.exe CMD INSTALL --merge-multiarch --build --library=rCGH.buildbin-libdir rCGH_1.10.0.tar.gz && C:\Users\biocbuild\bbs-3.7-bioc\R\bin\R.exe CMD INSTALL rCGH_1.10.0.zip && rm rCGH_1.10.0.tar.gz rCGH_1.10.0.zip
###
##############################################################################
##############################################################################
% Total % Received % Xferd Average Speed Time Time Time Current
Dload Upload Total Spent Left Speed
0 0 0 0 0 0 0 0 --:--:-- --:--:-- --:--:-- 0
100 3768k 100 3768k 0 0 38.5M 0 --:--:-- --:--:-- --:--:-- 41.8M
install for i386
* installing *source* package 'rCGH' ...
** R
** data
*** moving datasets to lazyload DB
** inst
** byte-compile and prepare package for lazy loading
** help
*** installing help indices
converting help for package 'rCGH'
finding HTML links ... done
AllAccessors html
EMnormalize html
adjustSignal html
Rd warning: C:/Users/biocbuild/bbs-3.7-bioc/tmpdir/RtmpQlJnsp/R.INSTALL23b838833d16/rCGH/man/adjustSignal.Rd:79: file link 'mclapply' in package 'parallel' does not exist and so has been treated as a topic
agilentDB html
byGeneTable html
Rd warning: C:/Users/biocbuild/bbs-3.7-bioc/tmpdir/RtmpQlJnsp/R.INSTALL23b838833d16/rCGH/man/byGeneTable.Rd:36: file link 'select' in package 'AnnotationDbi' does not exist and so has been treated as a topic
hg18 html
hg19 html
hg38 html
multiplot html
plotDensity html
plotLOH html
plotProfile html
rCGH-Agilent-class html
rCGH-SNP6-class html
rCGH-class html
rCGH-cytoScan-class html
rCGH-generic-class html
rCGH-oncoScan-class html
rCGH-package html
readAffyCytoScan html
readAffyOncoScan html
readAffySNP6 html
readAgilent html
readGeneric html
recenter html
segmentCGH html
Rd warning: C:/Users/biocbuild/bbs-3.7-bioc/tmpdir/RtmpQlJnsp/R.INSTALL23b838833d16/rCGH/man/segmentCGH.Rd:37: file link 'mclapply' in package 'parallel' does not exist and so has been treated as a topic
Rd warning: C:/Users/biocbuild/bbs-3.7-bioc/tmpdir/RtmpQlJnsp/R.INSTALL23b838833d16/rCGH/man/segmentCGH.Rd:69: file link 'mclapply' in package 'parallel' does not exist and so has been treated as a topic
setInfo html
show-methods html
view html
Rd warning: C:/Users/biocbuild/bbs-3.7-bioc/tmpdir/RtmpQlJnsp/R.INSTALL23b838833d16/rCGH/man/view.Rd:9: file link 'shiny' in package 'shiny' does not exist and so has been treated as a topic
** building package indices
** installing vignettes
** testing if installed package can be loaded
In R CMD INSTALL
install for x64
* installing *source* package 'rCGH' ...
** testing if installed package can be loaded
* MD5 sums
packaged installation of 'rCGH' as rCGH_1.10.0.zip
* DONE (rCGH)
In R CMD INSTALL
In R CMD INSTALL
* installing to library 'C:/Users/biocbuild/bbs-3.7-bioc/R/library'
package 'rCGH' successfully unpacked and MD5 sums checked
In R CMD INSTALL