| Back to Multiple platform build/check report for BioC 3.7 |
|
This page was generated on 2018-10-17 08:24:54 -0400 (Wed, 17 Oct 2018).
| Package 1187/1561 | Hostname | OS / Arch | INSTALL | BUILD | CHECK | BUILD BIN | ||||||
| rBiopaxParser 2.20.0 Frank Kramer
| malbec2 | Linux (Ubuntu 16.04.1 LTS) / x86_64 | OK | OK | [ OK ] | |||||||
| tokay2 | Windows Server 2012 R2 Standard / x64 | OK | OK | OK | OK | |||||||
| merida2 | OS X 10.11.6 El Capitan / x86_64 | OK | OK | OK | OK |
| Package: rBiopaxParser |
| Version: 2.20.0 |
| Command: /home/biocbuild/bbs-3.7-bioc/R/bin/R CMD check --install=check:rBiopaxParser.install-out.txt --library=/home/biocbuild/bbs-3.7-bioc/R/library --no-vignettes --timings rBiopaxParser_2.20.0.tar.gz |
| StartedAt: 2018-10-16 03:04:34 -0400 (Tue, 16 Oct 2018) |
| EndedAt: 2018-10-16 03:05:15 -0400 (Tue, 16 Oct 2018) |
| EllapsedTime: 40.9 seconds |
| RetCode: 0 |
| Status: OK |
| CheckDir: rBiopaxParser.Rcheck |
| Warnings: 0 |
##############################################################################
##############################################################################
###
### Running command:
###
### /home/biocbuild/bbs-3.7-bioc/R/bin/R CMD check --install=check:rBiopaxParser.install-out.txt --library=/home/biocbuild/bbs-3.7-bioc/R/library --no-vignettes --timings rBiopaxParser_2.20.0.tar.gz
###
##############################################################################
##############################################################################
* using log directory ‘/home/biocbuild/bbs-3.7-bioc/meat/rBiopaxParser.Rcheck’
* using R version 3.5.1 Patched (2018-07-12 r74967)
* using platform: x86_64-pc-linux-gnu (64-bit)
* using session charset: UTF-8
* using option ‘--no-vignettes’
* checking for file ‘rBiopaxParser/DESCRIPTION’ ... OK
* checking extension type ... Package
* this is package ‘rBiopaxParser’ version ‘2.20.0’
* checking package namespace information ... OK
* checking package dependencies ... OK
* checking if this is a source package ... OK
* checking if there is a namespace ... OK
* checking for hidden files and directories ... OK
* checking for portable file names ... OK
* checking for sufficient/correct file permissions ... OK
* checking whether package ‘rBiopaxParser’ can be installed ... OK
* checking installed package size ... OK
* checking package directory ... OK
* checking ‘build’ directory ... OK
* checking DESCRIPTION meta-information ... OK
* checking top-level files ... OK
* checking for left-over files ... OK
* checking index information ... OK
* checking package subdirectories ... OK
* checking R files for non-ASCII characters ... OK
* checking R files for syntax errors ... OK
* checking whether the package can be loaded ... OK
* checking whether the package can be loaded with stated dependencies ... OK
* checking whether the package can be unloaded cleanly ... OK
* checking whether the namespace can be loaded with stated dependencies ... OK
* checking whether the namespace can be unloaded cleanly ... OK
* checking dependencies in R code ... NOTE
'library' or 'require' calls in package code:
‘RBGL’ ‘RCurl’ ‘Rgraphviz’ ‘graph’ ‘igraph’ ‘nem’
Please use :: or requireNamespace() instead.
See section 'Suggested packages' in the 'Writing R Extensions' manual.
* checking S3 generic/method consistency ... OK
* checking replacement functions ... OK
* checking foreign function calls ... OK
* checking R code for possible problems ... NOTE
addBiopaxInstance: no visible binding for global variable ‘property’
addBiopaxInstances: no visible binding for global variable ‘id’
addBiopaxInstances: no visible binding for global variable ‘property’
addPropertiesToBiopaxInstance: no visible binding for global variable
‘property’
colorGraphNodes: no visible global function definition for ‘hcl’
createBiopax: no visible binding for global variable ‘id’
createBiopax: no visible binding for global variable ‘property’
getReferencedIDs: no visible binding for global variable
‘property_attr’
getReferencedIDs: no visible binding for global variable ‘property’
getReferencingIDs: no visible binding for global variable
‘property_attr’
getReferencingIDs: no visible binding for global variable ‘property’
internal_XMLInstance2DF: no visible binding for global variable ‘i’
internal_XMLInstance2DF: no visible binding for global variable ‘p’
internal_generateXMLfromBiopax: no visible binding for global variable
‘id’
internal_getBiopaxModelAsDataFrame: no visible binding for global
variable ‘property’
internal_propertyListToDF: no visible binding for global variable
‘property’
layoutRegulatoryGraph: no visible global function definition for
‘nodes’
listInstances: no visible binding for global variable ‘property_value’
listInstances: no visible binding for global variable ‘property’
pathway2AdjacancyMatrix: no visible global function definition for ‘as’
pathway2Graph: no visible global function definition for ‘new’
pathway2Graph: no visible global function definition for ‘getClassDef’
pathway2Graph: no visible binding for global variable ‘id’
pathway2Graph: no visible binding for global variable ‘property’
pathway2RegulatoryGraph: no visible global function definition for
‘new’
pathway2RegulatoryGraph: no visible global function definition for
‘getClassDef’
pathway2RegulatoryGraph: no visible binding for global variable ‘id’
pathway2RegulatoryGraph: no visible binding for global variable
‘property’
plotRegulatoryGraph: no visible global function definition for ‘nodes’
removeDisconnectedParts: no visible global function definition for
‘removeNode’
removeNodes: no visible global function definition for ‘edgeWeights’
removeNodes: no visible global function definition for ‘na.omit’
removeNodes: no visible global function definition for ‘removeNode’
removeNodes: no visible global function definition for ‘addEdge’
removeProperties: no visible binding for global variable ‘property’
selectInstances: no visible binding for global variable
‘property_value’
transitiveReduction: no visible global function definition for ‘as’
Undefined global functions or variables:
addEdge as edgeWeights getClassDef hcl i id na.omit new nodes p
property property_attr property_value removeNode
Consider adding
importFrom("grDevices", "hcl")
importFrom("methods", "as", "getClassDef", "new")
importFrom("stats", "na.omit")
to your NAMESPACE file (and ensure that your DESCRIPTION Imports field
contains 'methods').
* checking Rd files ... OK
* checking Rd metadata ... OK
* checking Rd cross-references ... OK
* checking for missing documentation entries ... OK
* checking for code/documentation mismatches ... OK
* checking Rd \usage sections ... OK
* checking Rd contents ... OK
* checking for unstated dependencies in examples ... OK
* checking contents of ‘data’ directory ... OK
* checking data for non-ASCII characters ... NOTE
Note: found 1 marked UTF-8 string
* checking data for ASCII and uncompressed saves ... OK
* checking files in ‘vignettes’ ... OK
* checking examples ... OK
* checking for unstated dependencies in ‘tests’ ... OK
* checking tests ...
Running ‘runTests.R’
OK
* checking for unstated dependencies in vignettes ... OK
* checking package vignettes in ‘inst/doc’ ... OK
* checking running R code from vignettes ... SKIPPED
* checking re-building of vignette outputs ... SKIPPED
* checking PDF version of manual ... OK
* DONE
Status: 3 NOTEs
See
‘/home/biocbuild/bbs-3.7-bioc/meat/rBiopaxParser.Rcheck/00check.log’
for details.
rBiopaxParser.Rcheck/00install.out
############################################################################## ############################################################################## ### ### Running command: ### ### /home/biocbuild/bbs-3.7-bioc/R/bin/R CMD INSTALL rBiopaxParser ### ############################################################################## ############################################################################## * installing to library ‘/home/biocbuild/bbs-3.7-bioc/R/library’ * installing *source* package ‘rBiopaxParser’ ... ** R ** data ** inst ** byte-compile and prepare package for lazy loading ** help *** installing help indices ** building package indices ** installing vignettes ** testing if installed package can be loaded * DONE (rBiopaxParser)
rBiopaxParser.Rcheck/tests/runTests.Rout
R version 3.5.1 Patched (2018-07-12 r74967) -- "Feather Spray"
Copyright (C) 2018 The R Foundation for Statistical Computing
Platform: x86_64-pc-linux-gnu (64-bit)
R is free software and comes with ABSOLUTELY NO WARRANTY.
You are welcome to redistribute it under certain conditions.
Type 'license()' or 'licence()' for distribution details.
R is a collaborative project with many contributors.
Type 'contributors()' for more information and
'citation()' on how to cite R or R packages in publications.
Type 'demo()' for some demos, 'help()' for on-line help, or
'help.start()' for an HTML browser interface to help.
Type 'q()' to quit R.
> BiocGenerics:::testPackage("rBiopaxParser")
RUNIT TEST PROTOCOL -- Tue Oct 16 03:05:12 2018
***********************************************
Number of test functions: 12
Number of errors: 0
Number of failures: 0
1 Test Suite :
rBiopaxParser RUnit Tests - 12 test functions, 0 errors, 0 failures
Number of test functions: 12
Number of errors: 0
Number of failures: 0
>
> proc.time()
user system elapsed
0.384 0.032 0.425
rBiopaxParser.Rcheck/rBiopaxParser-Ex.timings
| name | user | system | elapsed | |
| addBiochemicalReaction | 0.124 | 0.000 | 0.062 | |
| addBiopaxInstance | 0.008 | 0.000 | 0.006 | |
| addBiopaxInstances | 0.036 | 0.000 | 0.028 | |
| addControl | 0.152 | 0.000 | 0.055 | |
| addPathway | 0.108 | 0.004 | 0.039 | |
| addPathwayComponents | 0.104 | 0.000 | 0.040 | |
| addPhysicalEntity | 0.048 | 0.000 | 0.017 | |
| addPhysicalEntityParticipant | 0.104 | 0.000 | 0.043 | |
| addPropertiesToBiopaxInstance | 0.036 | 0.000 | 0.019 | |
| biopax | 0.284 | 0.000 | 0.284 | |
| calcGraphOverlap | 2.576 | 0.040 | 2.593 | |
| colorGraphNodes | 1.580 | 0.020 | 1.581 | |
| combineNodes | 0.000 | 0.004 | 0.003 | |
| createBiopax | 0.004 | 0.000 | 0.002 | |
| diffGraphs | 2.312 | 0.000 | 2.274 | |
| downloadBiopaxData | 0.000 | 0.000 | 0.001 | |
| getClassProperties | 0.004 | 0.000 | 0.001 | |
| getInstanceClass | 0.004 | 0.000 | 0.006 | |
| getInstanceProperty | 0.008 | 0.000 | 0.009 | |
| getReferencedIDs | 0.028 | 0.000 | 0.027 | |
| getReferencingIDs | 0.020 | 0.000 | 0.022 | |
| getSubClasses | 0.000 | 0.000 | 0.001 | |
| getSuperClasses | 0.000 | 0.000 | 0.001 | |
| getXrefAnnotations | 0.176 | 0.000 | 0.177 | |
| intersectGraphs | 2.168 | 0.004 | 2.146 | |
| listComplexComponents | 0.012 | 0.000 | 0.015 | |
| listInstances | 0.024 | 0.004 | 0.028 | |
| listInteractionComponents | 0.020 | 0.000 | 0.021 | |
| listPathwayComponents | 0.020 | 0.000 | 0.019 | |
| listPathways | 0.012 | 0.000 | 0.009 | |
| pathway2AdjacancyMatrix | 1.272 | 0.000 | 1.248 | |
| pathway2Geneset | 0.476 | 0.000 | 0.477 | |
| pathway2Graph | 0.772 | 0.008 | 0.744 | |
| pathway2RegulatoryGraph | 1.304 | 0.016 | 1.306 | |
| plotRegulatoryGraph | 1.212 | 0.008 | 1.200 | |
| print.biopax | 0.008 | 0.000 | 0.008 | |
| rBiopaxParser-package | 0 | 0 | 0 | |
| readBiopax | 0.000 | 0.000 | 0.001 | |
| removeNodes | 1.280 | 0.004 | 1.261 | |
| selectInstances | 0.020 | 0.000 | 0.017 | |
| splitComplex | 0.036 | 0.000 | 0.037 | |
| uniteGraphs | 2.136 | 0.008 | 2.110 | |
| writeBiopax | 0.000 | 0.000 | 0.001 | |