| Back to Multiple platform build/check report for BioC 3.7 |
|
This page was generated on 2018-10-17 08:37:00 -0400 (Wed, 17 Oct 2018).
| Package 1140/1561 | Hostname | OS / Arch | INSTALL | BUILD | CHECK | BUILD BIN | ||||||
| proteinProfiles 1.20.0 Julian Gehring
| malbec2 | Linux (Ubuntu 16.04.1 LTS) / x86_64 | OK | OK | OK | |||||||
| tokay2 | Windows Server 2012 R2 Standard / x64 | OK | OK | OK | [ OK ] | |||||||
| merida2 | OS X 10.11.6 El Capitan / x86_64 | OK | OK | OK | OK |
| Package: proteinProfiles |
| Version: 1.20.0 |
| Command: rm -rf proteinProfiles.buildbin-libdir && mkdir proteinProfiles.buildbin-libdir && C:\Users\biocbuild\bbs-3.7-bioc\R\bin\R.exe CMD INSTALL --merge-multiarch --build --library=proteinProfiles.buildbin-libdir proteinProfiles_1.20.0.tar.gz |
| StartedAt: 2018-10-17 06:49:07 -0400 (Wed, 17 Oct 2018) |
| EndedAt: 2018-10-17 06:49:12 -0400 (Wed, 17 Oct 2018) |
| EllapsedTime: 4.6 seconds |
| RetCode: 0 |
| Status: OK |
| PackageFile: proteinProfiles_1.20.0.zip |
| PackageFileSize: 289.5 KiB |
##############################################################################
##############################################################################
###
### Running command:
###
### rm -rf proteinProfiles.buildbin-libdir && mkdir proteinProfiles.buildbin-libdir && C:\Users\biocbuild\bbs-3.7-bioc\R\bin\R.exe CMD INSTALL --merge-multiarch --build --library=proteinProfiles.buildbin-libdir proteinProfiles_1.20.0.tar.gz
###
##############################################################################
##############################################################################
install for i386
* installing *source* package 'proteinProfiles' ...
** R
** data
** inst
** byte-compile and prepare package for lazy loading
** help
*** installing help indices
converting help for package 'proteinProfiles'
finding HTML links ... done
filterFeatures html
grepAnnotation html
ips-sample-data html
profileDistance html
proteinProfiles-packages html
** building package indices
** installing vignettes
** testing if installed package can be loaded
In R CMD INSTALL
install for x64
* installing *source* package 'proteinProfiles' ...
** testing if installed package can be loaded
* MD5 sums
packaged installation of 'proteinProfiles' as proteinProfiles_1.20.0.zip
* DONE (proteinProfiles)
In R CMD INSTALL
In R CMD INSTALL